BEGIN:VCALENDAR
VERSION:2.0
PRODID:-//West Palm Beach - ECPv6.15.5//NONSGML v1.0//EN
CALSCALE:GREGORIAN
METHOD:PUBLISH
X-ORIGINAL-URL:https://downtownwpb.com
X-WR-CALDESC:Events for West Palm Beach
REFRESH-INTERVAL;VALUE=DURATION:PT1H
X-Robots-Tag:noindex
X-PUBLISHED-TTL:PT1H
BEGIN:VTIMEZONE
TZID:America/New_York
BEGIN:DAYLIGHT
TZOFFSETFROM:-0500
TZOFFSETTO:-0400
TZNAME:EDT
DTSTART:20260308T070000
END:DAYLIGHT
BEGIN:STANDARD
TZOFFSETFROM:-0400
TZOFFSETTO:-0500
TZNAME:EST
DTSTART:20261101T060000
END:STANDARD
END:VTIMEZONE
BEGIN:VEVENT
DTSTART;TZID=America/New_York:20260306T183000
DTEND;TZID=America/New_York:20260306T203000
DTSTAMP:20260424T175835
CREATED:20250616T210709Z
LAST-MODIFIED:20250616T210709Z
UID:10022171-1772821800-1772829000@downtownwpb.com
SUMMARY:Sunset Catamaran Cruise
DESCRIPTION:Unwind and enjoy a scenic evening aboard the Hakuna Matata\, as you cruise along the stunning Downtown West Palm Beach skyline. Take in breathtaking views of the magnificent palatial mansions and mega yachts of Palm Beach Island\, all while relaxing on the water. Perfect for an unforgettable evening of relaxation and luxury! \nPlease note departure times can vary based on tides and currents. 
URL:https://www.visitpalmbeach.com/cruises-boat-tours/sunset-cruise/
LOCATION:Visit Palm Beach\, 138 South Flagler Drive\, West Palm Beach\, FL\, 33401\, United States
CATEGORIES:Outdoors
ATTACH;FMTTYPE=image/jpeg:https://downtownwpb.com/wp-content/uploads/Sunset-Catamaran-Cruise.jpg
END:VEVENT
BEGIN:VEVENT
DTSTART;TZID=America/New_York:20260306T180000
DTEND;TZID=America/New_York:20260306T200000
DTSTAMP:20260424T175835
CREATED:20250616T212242Z
LAST-MODIFIED:20250616T212310Z
UID:10025824-1772820000-1772827200@downtownwpb.com
SUMMARY:Motunui Sunset Sail
DESCRIPTION:Set sail into the stunning South Florida sunset aboard the brand-new\, luxuriously appointed catamaran Motunui. Enjoy a relaxing and unforgettable evening as you take in breathtaking views of the coastline\, all while sipping a refreshing drink and soaking in the beauty of the moment. Perfect for a serene escape! \nPlease note departure times can vary based on tides and currents. 
URL:https://www.visitpalmbeach.com/motunui-sunset-sail/
LOCATION:Visit Palm Beach\, 138 South Flagler Drive\, West Palm Beach\, FL\, 33401\, United States
CATEGORIES:Outdoors
ATTACH;FMTTYPE=image/jpeg:https://downtownwpb.com/wp-content/uploads/Motunui-Cruise.jpg
END:VEVENT
BEGIN:VEVENT
DTSTART;TZID=America/New_York:20260305T183000
DTEND;TZID=America/New_York:20260305T203000
DTSTAMP:20260424T175835
CREATED:20250616T210709Z
LAST-MODIFIED:20250616T210709Z
UID:10022170-1772735400-1772742600@downtownwpb.com
SUMMARY:Sunset Catamaran Cruise
DESCRIPTION:Unwind and enjoy a scenic evening aboard the Hakuna Matata\, as you cruise along the stunning Downtown West Palm Beach skyline. Take in breathtaking views of the magnificent palatial mansions and mega yachts of Palm Beach Island\, all while relaxing on the water. Perfect for an unforgettable evening of relaxation and luxury! \nPlease note departure times can vary based on tides and currents. 
URL:https://www.visitpalmbeach.com/cruises-boat-tours/sunset-cruise/
LOCATION:Visit Palm Beach\, 138 South Flagler Drive\, West Palm Beach\, FL\, 33401\, United States
CATEGORIES:Outdoors
ATTACH;FMTTYPE=image/jpeg:https://downtownwpb.com/wp-content/uploads/Sunset-Catamaran-Cruise.jpg
END:VEVENT
BEGIN:VEVENT
DTSTART;TZID=America/New_York:20260305T180000
DTEND;TZID=America/New_York:20260305T200000
DTSTAMP:20260424T175835
CREATED:20250616T212242Z
LAST-MODIFIED:20250616T212310Z
UID:10025823-1772733600-1772740800@downtownwpb.com
SUMMARY:Motunui Sunset Sail
DESCRIPTION:Set sail into the stunning South Florida sunset aboard the brand-new\, luxuriously appointed catamaran Motunui. Enjoy a relaxing and unforgettable evening as you take in breathtaking views of the coastline\, all while sipping a refreshing drink and soaking in the beauty of the moment. Perfect for a serene escape! \nPlease note departure times can vary based on tides and currents. 
URL:https://www.visitpalmbeach.com/motunui-sunset-sail/
LOCATION:Visit Palm Beach\, 138 South Flagler Drive\, West Palm Beach\, FL\, 33401\, United States
CATEGORIES:Outdoors
ATTACH;FMTTYPE=image/jpeg:https://downtownwpb.com/wp-content/uploads/Motunui-Cruise.jpg
END:VEVENT
BEGIN:VEVENT
DTSTART;TZID=America/New_York:20260304T183000
DTEND;TZID=America/New_York:20260304T203000
DTSTAMP:20260424T175835
CREATED:20250616T210709Z
LAST-MODIFIED:20250616T210709Z
UID:10022169-1772649000-1772656200@downtownwpb.com
SUMMARY:Sunset Catamaran Cruise
DESCRIPTION:Unwind and enjoy a scenic evening aboard the Hakuna Matata\, as you cruise along the stunning Downtown West Palm Beach skyline. Take in breathtaking views of the magnificent palatial mansions and mega yachts of Palm Beach Island\, all while relaxing on the water. Perfect for an unforgettable evening of relaxation and luxury! \nPlease note departure times can vary based on tides and currents. 
URL:https://www.visitpalmbeach.com/cruises-boat-tours/sunset-cruise/
LOCATION:Visit Palm Beach\, 138 South Flagler Drive\, West Palm Beach\, FL\, 33401\, United States
CATEGORIES:Outdoors
ATTACH;FMTTYPE=image/jpeg:https://downtownwpb.com/wp-content/uploads/Sunset-Catamaran-Cruise.jpg
END:VEVENT
BEGIN:VEVENT
DTSTART;TZID=America/New_York:20260304T180000
DTEND;TZID=America/New_York:20260304T200000
DTSTAMP:20260424T175835
CREATED:20250616T212242Z
LAST-MODIFIED:20250616T212310Z
UID:10025822-1772647200-1772654400@downtownwpb.com
SUMMARY:Motunui Sunset Sail
DESCRIPTION:Set sail into the stunning South Florida sunset aboard the brand-new\, luxuriously appointed catamaran Motunui. Enjoy a relaxing and unforgettable evening as you take in breathtaking views of the coastline\, all while sipping a refreshing drink and soaking in the beauty of the moment. Perfect for a serene escape! \nPlease note departure times can vary based on tides and currents. 
URL:https://www.visitpalmbeach.com/motunui-sunset-sail/
LOCATION:Visit Palm Beach\, 138 South Flagler Drive\, West Palm Beach\, FL\, 33401\, United States
CATEGORIES:Outdoors
ATTACH;FMTTYPE=image/jpeg:https://downtownwpb.com/wp-content/uploads/Motunui-Cruise.jpg
END:VEVENT
BEGIN:VEVENT
DTSTART;TZID=America/New_York:20260303T183000
DTEND;TZID=America/New_York:20260303T203000
DTSTAMP:20260424T175835
CREATED:20250616T210709Z
LAST-MODIFIED:20250616T210709Z
UID:10022168-1772562600-1772569800@downtownwpb.com
SUMMARY:Sunset Catamaran Cruise
DESCRIPTION:Unwind and enjoy a scenic evening aboard the Hakuna Matata\, as you cruise along the stunning Downtown West Palm Beach skyline. Take in breathtaking views of the magnificent palatial mansions and mega yachts of Palm Beach Island\, all while relaxing on the water. Perfect for an unforgettable evening of relaxation and luxury! \nPlease note departure times can vary based on tides and currents. 
URL:https://www.visitpalmbeach.com/cruises-boat-tours/sunset-cruise/
LOCATION:Visit Palm Beach\, 138 South Flagler Drive\, West Palm Beach\, FL\, 33401\, United States
CATEGORIES:Outdoors
ATTACH;FMTTYPE=image/jpeg:https://downtownwpb.com/wp-content/uploads/Sunset-Catamaran-Cruise.jpg
END:VEVENT
BEGIN:VEVENT
DTSTART;TZID=America/New_York:20260303T180000
DTEND;TZID=America/New_York:20260303T200000
DTSTAMP:20260424T175835
CREATED:20250616T212242Z
LAST-MODIFIED:20250616T212310Z
UID:10025821-1772560800-1772568000@downtownwpb.com
SUMMARY:Motunui Sunset Sail
DESCRIPTION:Set sail into the stunning South Florida sunset aboard the brand-new\, luxuriously appointed catamaran Motunui. Enjoy a relaxing and unforgettable evening as you take in breathtaking views of the coastline\, all while sipping a refreshing drink and soaking in the beauty of the moment. Perfect for a serene escape! \nPlease note departure times can vary based on tides and currents. 
URL:https://www.visitpalmbeach.com/motunui-sunset-sail/
LOCATION:Visit Palm Beach\, 138 South Flagler Drive\, West Palm Beach\, FL\, 33401\, United States
CATEGORIES:Outdoors
ATTACH;FMTTYPE=image/jpeg:https://downtownwpb.com/wp-content/uploads/Motunui-Cruise.jpg
END:VEVENT
BEGIN:VEVENT
DTSTART;TZID=America/New_York:20260302T183000
DTEND;TZID=America/New_York:20260302T203000
DTSTAMP:20260424T175835
CREATED:20250616T210709Z
LAST-MODIFIED:20250616T210709Z
UID:10022167-1772476200-1772483400@downtownwpb.com
SUMMARY:Sunset Catamaran Cruise
DESCRIPTION:Unwind and enjoy a scenic evening aboard the Hakuna Matata\, as you cruise along the stunning Downtown West Palm Beach skyline. Take in breathtaking views of the magnificent palatial mansions and mega yachts of Palm Beach Island\, all while relaxing on the water. Perfect for an unforgettable evening of relaxation and luxury! \nPlease note departure times can vary based on tides and currents. 
URL:https://www.visitpalmbeach.com/cruises-boat-tours/sunset-cruise/
LOCATION:Visit Palm Beach\, 138 South Flagler Drive\, West Palm Beach\, FL\, 33401\, United States
CATEGORIES:Outdoors
ATTACH;FMTTYPE=image/jpeg:https://downtownwpb.com/wp-content/uploads/Sunset-Catamaran-Cruise.jpg
END:VEVENT
BEGIN:VEVENT
DTSTART;TZID=America/New_York:20260302T180000
DTEND;TZID=America/New_York:20260302T200000
DTSTAMP:20260424T175835
CREATED:20250616T212242Z
LAST-MODIFIED:20250616T212310Z
UID:10025820-1772474400-1772481600@downtownwpb.com
SUMMARY:Motunui Sunset Sail
DESCRIPTION:Set sail into the stunning South Florida sunset aboard the brand-new\, luxuriously appointed catamaran Motunui. Enjoy a relaxing and unforgettable evening as you take in breathtaking views of the coastline\, all while sipping a refreshing drink and soaking in the beauty of the moment. Perfect for a serene escape! \nPlease note departure times can vary based on tides and currents. 
URL:https://www.visitpalmbeach.com/motunui-sunset-sail/
LOCATION:Visit Palm Beach\, 138 South Flagler Drive\, West Palm Beach\, FL\, 33401\, United States
CATEGORIES:Outdoors
ATTACH;FMTTYPE=image/jpeg:https://downtownwpb.com/wp-content/uploads/Motunui-Cruise.jpg
END:VEVENT
BEGIN:VEVENT
DTSTART;TZID=America/New_York:20260301T183000
DTEND;TZID=America/New_York:20260301T203000
DTSTAMP:20260424T175835
CREATED:20250616T210709Z
LAST-MODIFIED:20250616T210709Z
UID:10022166-1772389800-1772397000@downtownwpb.com
SUMMARY:Sunset Catamaran Cruise
DESCRIPTION:Unwind and enjoy a scenic evening aboard the Hakuna Matata\, as you cruise along the stunning Downtown West Palm Beach skyline. Take in breathtaking views of the magnificent palatial mansions and mega yachts of Palm Beach Island\, all while relaxing on the water. Perfect for an unforgettable evening of relaxation and luxury! \nPlease note departure times can vary based on tides and currents. 
URL:https://www.visitpalmbeach.com/cruises-boat-tours/sunset-cruise/
LOCATION:Visit Palm Beach\, 138 South Flagler Drive\, West Palm Beach\, FL\, 33401\, United States
CATEGORIES:Outdoors
ATTACH;FMTTYPE=image/jpeg:https://downtownwpb.com/wp-content/uploads/Sunset-Catamaran-Cruise.jpg
END:VEVENT
BEGIN:VEVENT
DTSTART;TZID=America/New_York:20260301T180000
DTEND;TZID=America/New_York:20260301T200000
DTSTAMP:20260424T175835
CREATED:20250616T212242Z
LAST-MODIFIED:20250616T212310Z
UID:10025819-1772388000-1772395200@downtownwpb.com
SUMMARY:Motunui Sunset Sail
DESCRIPTION:Set sail into the stunning South Florida sunset aboard the brand-new\, luxuriously appointed catamaran Motunui. Enjoy a relaxing and unforgettable evening as you take in breathtaking views of the coastline\, all while sipping a refreshing drink and soaking in the beauty of the moment. Perfect for a serene escape! \nPlease note departure times can vary based on tides and currents. 
URL:https://www.visitpalmbeach.com/motunui-sunset-sail/
LOCATION:Visit Palm Beach\, 138 South Flagler Drive\, West Palm Beach\, FL\, 33401\, United States
CATEGORIES:Outdoors
ATTACH;FMTTYPE=image/jpeg:https://downtownwpb.com/wp-content/uploads/Motunui-Cruise.jpg
END:VEVENT
BEGIN:VEVENT
DTSTART;TZID=America/New_York:20260228T183000
DTEND;TZID=America/New_York:20260228T203000
DTSTAMP:20260424T175835
CREATED:20250616T210709Z
LAST-MODIFIED:20250616T210709Z
UID:10022165-1772303400-1772310600@downtownwpb.com
SUMMARY:Sunset Catamaran Cruise
DESCRIPTION:Unwind and enjoy a scenic evening aboard the Hakuna Matata\, as you cruise along the stunning Downtown West Palm Beach skyline. Take in breathtaking views of the magnificent palatial mansions and mega yachts of Palm Beach Island\, all while relaxing on the water. Perfect for an unforgettable evening of relaxation and luxury! \nPlease note departure times can vary based on tides and currents. 
URL:https://www.visitpalmbeach.com/cruises-boat-tours/sunset-cruise/
LOCATION:Visit Palm Beach\, 138 South Flagler Drive\, West Palm Beach\, FL\, 33401\, United States
CATEGORIES:Outdoors
ATTACH;FMTTYPE=image/jpeg:https://downtownwpb.com/wp-content/uploads/Sunset-Catamaran-Cruise.jpg
END:VEVENT
BEGIN:VEVENT
DTSTART;TZID=America/New_York:20260228T180000
DTEND;TZID=America/New_York:20260228T200000
DTSTAMP:20260424T175835
CREATED:20250616T212242Z
LAST-MODIFIED:20250616T212310Z
UID:10025818-1772301600-1772308800@downtownwpb.com
SUMMARY:Motunui Sunset Sail
DESCRIPTION:Set sail into the stunning South Florida sunset aboard the brand-new\, luxuriously appointed catamaran Motunui. Enjoy a relaxing and unforgettable evening as you take in breathtaking views of the coastline\, all while sipping a refreshing drink and soaking in the beauty of the moment. Perfect for a serene escape! \nPlease note departure times can vary based on tides and currents. 
URL:https://www.visitpalmbeach.com/motunui-sunset-sail/
LOCATION:Visit Palm Beach\, 138 South Flagler Drive\, West Palm Beach\, FL\, 33401\, United States
CATEGORIES:Outdoors
ATTACH;FMTTYPE=image/jpeg:https://downtownwpb.com/wp-content/uploads/Motunui-Cruise.jpg
END:VEVENT
BEGIN:VEVENT
DTSTART;TZID=America/New_York:20260227T183000
DTEND;TZID=America/New_York:20260227T203000
DTSTAMP:20260424T175835
CREATED:20250616T210709Z
LAST-MODIFIED:20250616T210709Z
UID:10022164-1772217000-1772224200@downtownwpb.com
SUMMARY:Sunset Catamaran Cruise
DESCRIPTION:Unwind and enjoy a scenic evening aboard the Hakuna Matata\, as you cruise along the stunning Downtown West Palm Beach skyline. Take in breathtaking views of the magnificent palatial mansions and mega yachts of Palm Beach Island\, all while relaxing on the water. Perfect for an unforgettable evening of relaxation and luxury! \nPlease note departure times can vary based on tides and currents. 
URL:https://www.visitpalmbeach.com/cruises-boat-tours/sunset-cruise/
LOCATION:Visit Palm Beach\, 138 South Flagler Drive\, West Palm Beach\, FL\, 33401\, United States
CATEGORIES:Outdoors
ATTACH;FMTTYPE=image/jpeg:https://downtownwpb.com/wp-content/uploads/Sunset-Catamaran-Cruise.jpg
END:VEVENT
BEGIN:VEVENT
DTSTART;TZID=America/New_York:20260227T180000
DTEND;TZID=America/New_York:20260227T200000
DTSTAMP:20260424T175835
CREATED:20250616T212242Z
LAST-MODIFIED:20250616T212310Z
UID:10025817-1772215200-1772222400@downtownwpb.com
SUMMARY:Motunui Sunset Sail
DESCRIPTION:Set sail into the stunning South Florida sunset aboard the brand-new\, luxuriously appointed catamaran Motunui. Enjoy a relaxing and unforgettable evening as you take in breathtaking views of the coastline\, all while sipping a refreshing drink and soaking in the beauty of the moment. Perfect for a serene escape! \nPlease note departure times can vary based on tides and currents. 
URL:https://www.visitpalmbeach.com/motunui-sunset-sail/
LOCATION:Visit Palm Beach\, 138 South Flagler Drive\, West Palm Beach\, FL\, 33401\, United States
CATEGORIES:Outdoors
ATTACH;FMTTYPE=image/jpeg:https://downtownwpb.com/wp-content/uploads/Motunui-Cruise.jpg
END:VEVENT
BEGIN:VEVENT
DTSTART;TZID=America/New_York:20260226T183000
DTEND;TZID=America/New_York:20260226T203000
DTSTAMP:20260424T175835
CREATED:20250616T210709Z
LAST-MODIFIED:20250616T210709Z
UID:10022163-1772130600-1772137800@downtownwpb.com
SUMMARY:Sunset Catamaran Cruise
DESCRIPTION:Unwind and enjoy a scenic evening aboard the Hakuna Matata\, as you cruise along the stunning Downtown West Palm Beach skyline. Take in breathtaking views of the magnificent palatial mansions and mega yachts of Palm Beach Island\, all while relaxing on the water. Perfect for an unforgettable evening of relaxation and luxury! \nPlease note departure times can vary based on tides and currents. 
URL:https://www.visitpalmbeach.com/cruises-boat-tours/sunset-cruise/
LOCATION:Visit Palm Beach\, 138 South Flagler Drive\, West Palm Beach\, FL\, 33401\, United States
CATEGORIES:Outdoors
ATTACH;FMTTYPE=image/jpeg:https://downtownwpb.com/wp-content/uploads/Sunset-Catamaran-Cruise.jpg
END:VEVENT
BEGIN:VEVENT
DTSTART;TZID=America/New_York:20260226T180000
DTEND;TZID=America/New_York:20260226T200000
DTSTAMP:20260424T175835
CREATED:20250616T212242Z
LAST-MODIFIED:20250616T212310Z
UID:10025816-1772128800-1772136000@downtownwpb.com
SUMMARY:Motunui Sunset Sail
DESCRIPTION:Set sail into the stunning South Florida sunset aboard the brand-new\, luxuriously appointed catamaran Motunui. Enjoy a relaxing and unforgettable evening as you take in breathtaking views of the coastline\, all while sipping a refreshing drink and soaking in the beauty of the moment. Perfect for a serene escape! \nPlease note departure times can vary based on tides and currents. 
URL:https://www.visitpalmbeach.com/motunui-sunset-sail/
LOCATION:Visit Palm Beach\, 138 South Flagler Drive\, West Palm Beach\, FL\, 33401\, United States
CATEGORIES:Outdoors
ATTACH;FMTTYPE=image/jpeg:https://downtownwpb.com/wp-content/uploads/Motunui-Cruise.jpg
END:VEVENT
BEGIN:VEVENT
DTSTART;TZID=America/New_York:20260225T183000
DTEND;TZID=America/New_York:20260225T203000
DTSTAMP:20260424T175835
CREATED:20250616T210709Z
LAST-MODIFIED:20250616T210709Z
UID:10022162-1772044200-1772051400@downtownwpb.com
SUMMARY:Sunset Catamaran Cruise
DESCRIPTION:Unwind and enjoy a scenic evening aboard the Hakuna Matata\, as you cruise along the stunning Downtown West Palm Beach skyline. Take in breathtaking views of the magnificent palatial mansions and mega yachts of Palm Beach Island\, all while relaxing on the water. Perfect for an unforgettable evening of relaxation and luxury! \nPlease note departure times can vary based on tides and currents. 
URL:https://www.visitpalmbeach.com/cruises-boat-tours/sunset-cruise/
LOCATION:Visit Palm Beach\, 138 South Flagler Drive\, West Palm Beach\, FL\, 33401\, United States
CATEGORIES:Outdoors
ATTACH;FMTTYPE=image/jpeg:https://downtownwpb.com/wp-content/uploads/Sunset-Catamaran-Cruise.jpg
END:VEVENT
BEGIN:VEVENT
DTSTART;TZID=America/New_York:20260225T180000
DTEND;TZID=America/New_York:20260225T200000
DTSTAMP:20260424T175835
CREATED:20250616T212242Z
LAST-MODIFIED:20250616T212310Z
UID:10025815-1772042400-1772049600@downtownwpb.com
SUMMARY:Motunui Sunset Sail
DESCRIPTION:Set sail into the stunning South Florida sunset aboard the brand-new\, luxuriously appointed catamaran Motunui. Enjoy a relaxing and unforgettable evening as you take in breathtaking views of the coastline\, all while sipping a refreshing drink and soaking in the beauty of the moment. Perfect for a serene escape! \nPlease note departure times can vary based on tides and currents. 
URL:https://www.visitpalmbeach.com/motunui-sunset-sail/
LOCATION:Visit Palm Beach\, 138 South Flagler Drive\, West Palm Beach\, FL\, 33401\, United States
CATEGORIES:Outdoors
ATTACH;FMTTYPE=image/jpeg:https://downtownwpb.com/wp-content/uploads/Motunui-Cruise.jpg
END:VEVENT
BEGIN:VEVENT
DTSTART;TZID=America/New_York:20260224T183000
DTEND;TZID=America/New_York:20260224T203000
DTSTAMP:20260424T175835
CREATED:20250616T210709Z
LAST-MODIFIED:20250616T210709Z
UID:10022161-1771957800-1771965000@downtownwpb.com
SUMMARY:Sunset Catamaran Cruise
DESCRIPTION:Unwind and enjoy a scenic evening aboard the Hakuna Matata\, as you cruise along the stunning Downtown West Palm Beach skyline. Take in breathtaking views of the magnificent palatial mansions and mega yachts of Palm Beach Island\, all while relaxing on the water. Perfect for an unforgettable evening of relaxation and luxury! \nPlease note departure times can vary based on tides and currents. 
URL:https://www.visitpalmbeach.com/cruises-boat-tours/sunset-cruise/
LOCATION:Visit Palm Beach\, 138 South Flagler Drive\, West Palm Beach\, FL\, 33401\, United States
CATEGORIES:Outdoors
ATTACH;FMTTYPE=image/jpeg:https://downtownwpb.com/wp-content/uploads/Sunset-Catamaran-Cruise.jpg
END:VEVENT
BEGIN:VEVENT
DTSTART;TZID=America/New_York:20260224T180000
DTEND;TZID=America/New_York:20260224T200000
DTSTAMP:20260424T175835
CREATED:20250616T212242Z
LAST-MODIFIED:20250616T212310Z
UID:10025814-1771956000-1771963200@downtownwpb.com
SUMMARY:Motunui Sunset Sail
DESCRIPTION:Set sail into the stunning South Florida sunset aboard the brand-new\, luxuriously appointed catamaran Motunui. Enjoy a relaxing and unforgettable evening as you take in breathtaking views of the coastline\, all while sipping a refreshing drink and soaking in the beauty of the moment. Perfect for a serene escape! \nPlease note departure times can vary based on tides and currents. 
URL:https://www.visitpalmbeach.com/motunui-sunset-sail/
LOCATION:Visit Palm Beach\, 138 South Flagler Drive\, West Palm Beach\, FL\, 33401\, United States
CATEGORIES:Outdoors
ATTACH;FMTTYPE=image/jpeg:https://downtownwpb.com/wp-content/uploads/Motunui-Cruise.jpg
END:VEVENT
BEGIN:VEVENT
DTSTART;TZID=America/New_York:20260223T183000
DTEND;TZID=America/New_York:20260223T203000
DTSTAMP:20260424T175835
CREATED:20250616T210709Z
LAST-MODIFIED:20250616T210709Z
UID:10022160-1771871400-1771878600@downtownwpb.com
SUMMARY:Sunset Catamaran Cruise
DESCRIPTION:Unwind and enjoy a scenic evening aboard the Hakuna Matata\, as you cruise along the stunning Downtown West Palm Beach skyline. Take in breathtaking views of the magnificent palatial mansions and mega yachts of Palm Beach Island\, all while relaxing on the water. Perfect for an unforgettable evening of relaxation and luxury! \nPlease note departure times can vary based on tides and currents. 
URL:https://www.visitpalmbeach.com/cruises-boat-tours/sunset-cruise/
LOCATION:Visit Palm Beach\, 138 South Flagler Drive\, West Palm Beach\, FL\, 33401\, United States
CATEGORIES:Outdoors
ATTACH;FMTTYPE=image/jpeg:https://downtownwpb.com/wp-content/uploads/Sunset-Catamaran-Cruise.jpg
END:VEVENT
BEGIN:VEVENT
DTSTART;TZID=America/New_York:20260223T180000
DTEND;TZID=America/New_York:20260223T200000
DTSTAMP:20260424T175835
CREATED:20250616T212242Z
LAST-MODIFIED:20250616T212310Z
UID:10025813-1771869600-1771876800@downtownwpb.com
SUMMARY:Motunui Sunset Sail
DESCRIPTION:Set sail into the stunning South Florida sunset aboard the brand-new\, luxuriously appointed catamaran Motunui. Enjoy a relaxing and unforgettable evening as you take in breathtaking views of the coastline\, all while sipping a refreshing drink and soaking in the beauty of the moment. Perfect for a serene escape! \nPlease note departure times can vary based on tides and currents. 
URL:https://www.visitpalmbeach.com/motunui-sunset-sail/
LOCATION:Visit Palm Beach\, 138 South Flagler Drive\, West Palm Beach\, FL\, 33401\, United States
CATEGORIES:Outdoors
ATTACH;FMTTYPE=image/jpeg:https://downtownwpb.com/wp-content/uploads/Motunui-Cruise.jpg
END:VEVENT
BEGIN:VEVENT
DTSTART;TZID=America/New_York:20260222T183000
DTEND;TZID=America/New_York:20260222T203000
DTSTAMP:20260424T175835
CREATED:20250616T210709Z
LAST-MODIFIED:20250616T210709Z
UID:10022159-1771785000-1771792200@downtownwpb.com
SUMMARY:Sunset Catamaran Cruise
DESCRIPTION:Unwind and enjoy a scenic evening aboard the Hakuna Matata\, as you cruise along the stunning Downtown West Palm Beach skyline. Take in breathtaking views of the magnificent palatial mansions and mega yachts of Palm Beach Island\, all while relaxing on the water. Perfect for an unforgettable evening of relaxation and luxury! \nPlease note departure times can vary based on tides and currents. 
URL:https://www.visitpalmbeach.com/cruises-boat-tours/sunset-cruise/
LOCATION:Visit Palm Beach\, 138 South Flagler Drive\, West Palm Beach\, FL\, 33401\, United States
CATEGORIES:Outdoors
ATTACH;FMTTYPE=image/jpeg:https://downtownwpb.com/wp-content/uploads/Sunset-Catamaran-Cruise.jpg
END:VEVENT
BEGIN:VEVENT
DTSTART;TZID=America/New_York:20260222T180000
DTEND;TZID=America/New_York:20260222T200000
DTSTAMP:20260424T175835
CREATED:20250616T212242Z
LAST-MODIFIED:20250616T212310Z
UID:10025812-1771783200-1771790400@downtownwpb.com
SUMMARY:Motunui Sunset Sail
DESCRIPTION:Set sail into the stunning South Florida sunset aboard the brand-new\, luxuriously appointed catamaran Motunui. Enjoy a relaxing and unforgettable evening as you take in breathtaking views of the coastline\, all while sipping a refreshing drink and soaking in the beauty of the moment. Perfect for a serene escape! \nPlease note departure times can vary based on tides and currents. 
URL:https://www.visitpalmbeach.com/motunui-sunset-sail/
LOCATION:Visit Palm Beach\, 138 South Flagler Drive\, West Palm Beach\, FL\, 33401\, United States
CATEGORIES:Outdoors
ATTACH;FMTTYPE=image/jpeg:https://downtownwpb.com/wp-content/uploads/Motunui-Cruise.jpg
END:VEVENT
BEGIN:VEVENT
DTSTART;TZID=America/New_York:20260221T183000
DTEND;TZID=America/New_York:20260221T203000
DTSTAMP:20260424T175835
CREATED:20250616T210709Z
LAST-MODIFIED:20250616T210709Z
UID:10022158-1771698600-1771705800@downtownwpb.com
SUMMARY:Sunset Catamaran Cruise
DESCRIPTION:Unwind and enjoy a scenic evening aboard the Hakuna Matata\, as you cruise along the stunning Downtown West Palm Beach skyline. Take in breathtaking views of the magnificent palatial mansions and mega yachts of Palm Beach Island\, all while relaxing on the water. Perfect for an unforgettable evening of relaxation and luxury! \nPlease note departure times can vary based on tides and currents. 
URL:https://www.visitpalmbeach.com/cruises-boat-tours/sunset-cruise/
LOCATION:Visit Palm Beach\, 138 South Flagler Drive\, West Palm Beach\, FL\, 33401\, United States
CATEGORIES:Outdoors
ATTACH;FMTTYPE=image/jpeg:https://downtownwpb.com/wp-content/uploads/Sunset-Catamaran-Cruise.jpg
END:VEVENT
BEGIN:VEVENT
DTSTART;TZID=America/New_York:20260221T180000
DTEND;TZID=America/New_York:20260221T200000
DTSTAMP:20260424T175835
CREATED:20250616T212242Z
LAST-MODIFIED:20250616T212310Z
UID:10025811-1771696800-1771704000@downtownwpb.com
SUMMARY:Motunui Sunset Sail
DESCRIPTION:Set sail into the stunning South Florida sunset aboard the brand-new\, luxuriously appointed catamaran Motunui. Enjoy a relaxing and unforgettable evening as you take in breathtaking views of the coastline\, all while sipping a refreshing drink and soaking in the beauty of the moment. Perfect for a serene escape! \nPlease note departure times can vary based on tides and currents. 
URL:https://www.visitpalmbeach.com/motunui-sunset-sail/
LOCATION:Visit Palm Beach\, 138 South Flagler Drive\, West Palm Beach\, FL\, 33401\, United States
CATEGORIES:Outdoors
ATTACH;FMTTYPE=image/jpeg:https://downtownwpb.com/wp-content/uploads/Motunui-Cruise.jpg
END:VEVENT
BEGIN:VEVENT
DTSTART;TZID=America/New_York:20260220T183000
DTEND;TZID=America/New_York:20260220T203000
DTSTAMP:20260424T175835
CREATED:20250616T210709Z
LAST-MODIFIED:20250616T210709Z
UID:10022157-1771612200-1771619400@downtownwpb.com
SUMMARY:Sunset Catamaran Cruise
DESCRIPTION:Unwind and enjoy a scenic evening aboard the Hakuna Matata\, as you cruise along the stunning Downtown West Palm Beach skyline. Take in breathtaking views of the magnificent palatial mansions and mega yachts of Palm Beach Island\, all while relaxing on the water. Perfect for an unforgettable evening of relaxation and luxury! \nPlease note departure times can vary based on tides and currents. 
URL:https://www.visitpalmbeach.com/cruises-boat-tours/sunset-cruise/
LOCATION:Visit Palm Beach\, 138 South Flagler Drive\, West Palm Beach\, FL\, 33401\, United States
CATEGORIES:Outdoors
ATTACH;FMTTYPE=image/jpeg:https://downtownwpb.com/wp-content/uploads/Sunset-Catamaran-Cruise.jpg
END:VEVENT
BEGIN:VEVENT
DTSTART;TZID=America/New_York:20260220T180000
DTEND;TZID=America/New_York:20260220T200000
DTSTAMP:20260424T175835
CREATED:20250616T212242Z
LAST-MODIFIED:20250616T212310Z
UID:10025810-1771610400-1771617600@downtownwpb.com
SUMMARY:Motunui Sunset Sail
DESCRIPTION:Set sail into the stunning South Florida sunset aboard the brand-new\, luxuriously appointed catamaran Motunui. Enjoy a relaxing and unforgettable evening as you take in breathtaking views of the coastline\, all while sipping a refreshing drink and soaking in the beauty of the moment. Perfect for a serene escape! \nPlease note departure times can vary based on tides and currents. 
URL:https://www.visitpalmbeach.com/motunui-sunset-sail/
LOCATION:Visit Palm Beach\, 138 South Flagler Drive\, West Palm Beach\, FL\, 33401\, United States
CATEGORIES:Outdoors
ATTACH;FMTTYPE=image/jpeg:https://downtownwpb.com/wp-content/uploads/Motunui-Cruise.jpg
END:VEVENT
END:VCALENDAR