BEGIN:VCALENDAR
VERSION:2.0
PRODID:-//West Palm Beach - ECPv6.15.5//NONSGML v1.0//EN
CALSCALE:GREGORIAN
METHOD:PUBLISH
X-WR-CALNAME:West Palm Beach
X-ORIGINAL-URL:https://downtownwpb.com
X-WR-CALDESC:Events for West Palm Beach
REFRESH-INTERVAL;VALUE=DURATION:PT1H
X-Robots-Tag:noindex
X-PUBLISHED-TTL:PT1H
BEGIN:VTIMEZONE
TZID:America/New_York
BEGIN:DAYLIGHT
TZOFFSETFROM:-0500
TZOFFSETTO:-0400
TZNAME:EDT
DTSTART:20260308T070000
END:DAYLIGHT
BEGIN:STANDARD
TZOFFSETFROM:-0400
TZOFFSETTO:-0500
TZNAME:EST
DTSTART:20261101T060000
END:STANDARD
END:VTIMEZONE
BEGIN:VEVENT
DTSTART;TZID=America/New_York:20260922T180000
DTEND;TZID=America/New_York:20260922T200000
DTSTAMP:20260419T161058
CREATED:20250616T212242Z
LAST-MODIFIED:20250616T212310Z
UID:10026024-1790100000-1790107200@downtownwpb.com
SUMMARY:Motunui Sunset Sail
DESCRIPTION:Set sail into the stunning South Florida sunset aboard the brand-new\, luxuriously appointed catamaran Motunui. Enjoy a relaxing and unforgettable evening as you take in breathtaking views of the coastline\, all while sipping a refreshing drink and soaking in the beauty of the moment. Perfect for a serene escape! \nPlease note departure times can vary based on tides and currents. 
URL:https://www.visitpalmbeach.com/motunui-sunset-sail/
LOCATION:Visit Palm Beach\, 138 South Flagler Drive\, West Palm Beach\, FL\, 33401\, United States
CATEGORIES:Outdoors
ATTACH;FMTTYPE=image/jpeg:https://downtownwpb.com/wp-content/uploads/Motunui-Cruise.jpg
END:VEVENT
BEGIN:VEVENT
DTSTART;TZID=America/New_York:20260922T183000
DTEND;TZID=America/New_York:20260922T203000
DTSTAMP:20260419T161058
CREATED:20250616T210709Z
LAST-MODIFIED:20250616T210709Z
UID:10022371-1790101800-1790109000@downtownwpb.com
SUMMARY:Sunset Catamaran Cruise
DESCRIPTION:Unwind and enjoy a scenic evening aboard the Hakuna Matata\, as you cruise along the stunning Downtown West Palm Beach skyline. Take in breathtaking views of the magnificent palatial mansions and mega yachts of Palm Beach Island\, all while relaxing on the water. Perfect for an unforgettable evening of relaxation and luxury! \nPlease note departure times can vary based on tides and currents. 
URL:https://www.visitpalmbeach.com/cruises-boat-tours/sunset-cruise/
LOCATION:Visit Palm Beach\, 138 South Flagler Drive\, West Palm Beach\, FL\, 33401\, United States
CATEGORIES:Outdoors
ATTACH;FMTTYPE=image/jpeg:https://downtownwpb.com/wp-content/uploads/Sunset-Catamaran-Cruise.jpg
END:VEVENT
BEGIN:VEVENT
DTSTART;TZID=America/New_York:20260923T180000
DTEND;TZID=America/New_York:20260923T200000
DTSTAMP:20260419T161058
CREATED:20250616T212242Z
LAST-MODIFIED:20250616T212310Z
UID:10026025-1790186400-1790193600@downtownwpb.com
SUMMARY:Motunui Sunset Sail
DESCRIPTION:Set sail into the stunning South Florida sunset aboard the brand-new\, luxuriously appointed catamaran Motunui. Enjoy a relaxing and unforgettable evening as you take in breathtaking views of the coastline\, all while sipping a refreshing drink and soaking in the beauty of the moment. Perfect for a serene escape! \nPlease note departure times can vary based on tides and currents. 
URL:https://www.visitpalmbeach.com/motunui-sunset-sail/
LOCATION:Visit Palm Beach\, 138 South Flagler Drive\, West Palm Beach\, FL\, 33401\, United States
CATEGORIES:Outdoors
ATTACH;FMTTYPE=image/jpeg:https://downtownwpb.com/wp-content/uploads/Motunui-Cruise.jpg
END:VEVENT
BEGIN:VEVENT
DTSTART;TZID=America/New_York:20260923T183000
DTEND;TZID=America/New_York:20260923T203000
DTSTAMP:20260419T161058
CREATED:20250616T210709Z
LAST-MODIFIED:20250616T210709Z
UID:10022372-1790188200-1790195400@downtownwpb.com
SUMMARY:Sunset Catamaran Cruise
DESCRIPTION:Unwind and enjoy a scenic evening aboard the Hakuna Matata\, as you cruise along the stunning Downtown West Palm Beach skyline. Take in breathtaking views of the magnificent palatial mansions and mega yachts of Palm Beach Island\, all while relaxing on the water. Perfect for an unforgettable evening of relaxation and luxury! \nPlease note departure times can vary based on tides and currents. 
URL:https://www.visitpalmbeach.com/cruises-boat-tours/sunset-cruise/
LOCATION:Visit Palm Beach\, 138 South Flagler Drive\, West Palm Beach\, FL\, 33401\, United States
CATEGORIES:Outdoors
ATTACH;FMTTYPE=image/jpeg:https://downtownwpb.com/wp-content/uploads/Sunset-Catamaran-Cruise.jpg
END:VEVENT
BEGIN:VEVENT
DTSTART;TZID=America/New_York:20260924T180000
DTEND;TZID=America/New_York:20260924T200000
DTSTAMP:20260419T161058
CREATED:20250616T212242Z
LAST-MODIFIED:20250616T212310Z
UID:10026026-1790272800-1790280000@downtownwpb.com
SUMMARY:Motunui Sunset Sail
DESCRIPTION:Set sail into the stunning South Florida sunset aboard the brand-new\, luxuriously appointed catamaran Motunui. Enjoy a relaxing and unforgettable evening as you take in breathtaking views of the coastline\, all while sipping a refreshing drink and soaking in the beauty of the moment. Perfect for a serene escape! \nPlease note departure times can vary based on tides and currents. 
URL:https://www.visitpalmbeach.com/motunui-sunset-sail/
LOCATION:Visit Palm Beach\, 138 South Flagler Drive\, West Palm Beach\, FL\, 33401\, United States
CATEGORIES:Outdoors
ATTACH;FMTTYPE=image/jpeg:https://downtownwpb.com/wp-content/uploads/Motunui-Cruise.jpg
END:VEVENT
BEGIN:VEVENT
DTSTART;TZID=America/New_York:20260924T183000
DTEND;TZID=America/New_York:20260924T203000
DTSTAMP:20260419T161058
CREATED:20250616T210709Z
LAST-MODIFIED:20250616T210709Z
UID:10022373-1790274600-1790281800@downtownwpb.com
SUMMARY:Sunset Catamaran Cruise
DESCRIPTION:Unwind and enjoy a scenic evening aboard the Hakuna Matata\, as you cruise along the stunning Downtown West Palm Beach skyline. Take in breathtaking views of the magnificent palatial mansions and mega yachts of Palm Beach Island\, all while relaxing on the water. Perfect for an unforgettable evening of relaxation and luxury! \nPlease note departure times can vary based on tides and currents. 
URL:https://www.visitpalmbeach.com/cruises-boat-tours/sunset-cruise/
LOCATION:Visit Palm Beach\, 138 South Flagler Drive\, West Palm Beach\, FL\, 33401\, United States
CATEGORIES:Outdoors
ATTACH;FMTTYPE=image/jpeg:https://downtownwpb.com/wp-content/uploads/Sunset-Catamaran-Cruise.jpg
END:VEVENT
BEGIN:VEVENT
DTSTART;TZID=America/New_York:20260925T180000
DTEND;TZID=America/New_York:20260925T200000
DTSTAMP:20260419T161058
CREATED:20250616T212242Z
LAST-MODIFIED:20250616T212310Z
UID:10026027-1790359200-1790366400@downtownwpb.com
SUMMARY:Motunui Sunset Sail
DESCRIPTION:Set sail into the stunning South Florida sunset aboard the brand-new\, luxuriously appointed catamaran Motunui. Enjoy a relaxing and unforgettable evening as you take in breathtaking views of the coastline\, all while sipping a refreshing drink and soaking in the beauty of the moment. Perfect for a serene escape! \nPlease note departure times can vary based on tides and currents. 
URL:https://www.visitpalmbeach.com/motunui-sunset-sail/
LOCATION:Visit Palm Beach\, 138 South Flagler Drive\, West Palm Beach\, FL\, 33401\, United States
CATEGORIES:Outdoors
ATTACH;FMTTYPE=image/jpeg:https://downtownwpb.com/wp-content/uploads/Motunui-Cruise.jpg
END:VEVENT
BEGIN:VEVENT
DTSTART;TZID=America/New_York:20260925T183000
DTEND;TZID=America/New_York:20260925T203000
DTSTAMP:20260419T161058
CREATED:20250616T210709Z
LAST-MODIFIED:20250616T210709Z
UID:10022374-1790361000-1790368200@downtownwpb.com
SUMMARY:Sunset Catamaran Cruise
DESCRIPTION:Unwind and enjoy a scenic evening aboard the Hakuna Matata\, as you cruise along the stunning Downtown West Palm Beach skyline. Take in breathtaking views of the magnificent palatial mansions and mega yachts of Palm Beach Island\, all while relaxing on the water. Perfect for an unforgettable evening of relaxation and luxury! \nPlease note departure times can vary based on tides and currents. 
URL:https://www.visitpalmbeach.com/cruises-boat-tours/sunset-cruise/
LOCATION:Visit Palm Beach\, 138 South Flagler Drive\, West Palm Beach\, FL\, 33401\, United States
CATEGORIES:Outdoors
ATTACH;FMTTYPE=image/jpeg:https://downtownwpb.com/wp-content/uploads/Sunset-Catamaran-Cruise.jpg
END:VEVENT
BEGIN:VEVENT
DTSTART;TZID=America/New_York:20260926T180000
DTEND;TZID=America/New_York:20260926T200000
DTSTAMP:20260419T161058
CREATED:20250616T212242Z
LAST-MODIFIED:20250616T212310Z
UID:10026028-1790445600-1790452800@downtownwpb.com
SUMMARY:Motunui Sunset Sail
DESCRIPTION:Set sail into the stunning South Florida sunset aboard the brand-new\, luxuriously appointed catamaran Motunui. Enjoy a relaxing and unforgettable evening as you take in breathtaking views of the coastline\, all while sipping a refreshing drink and soaking in the beauty of the moment. Perfect for a serene escape! \nPlease note departure times can vary based on tides and currents. 
URL:https://www.visitpalmbeach.com/motunui-sunset-sail/
LOCATION:Visit Palm Beach\, 138 South Flagler Drive\, West Palm Beach\, FL\, 33401\, United States
CATEGORIES:Outdoors
ATTACH;FMTTYPE=image/jpeg:https://downtownwpb.com/wp-content/uploads/Motunui-Cruise.jpg
END:VEVENT
BEGIN:VEVENT
DTSTART;TZID=America/New_York:20260926T183000
DTEND;TZID=America/New_York:20260926T203000
DTSTAMP:20260419T161058
CREATED:20250616T210709Z
LAST-MODIFIED:20250616T210709Z
UID:10022375-1790447400-1790454600@downtownwpb.com
SUMMARY:Sunset Catamaran Cruise
DESCRIPTION:Unwind and enjoy a scenic evening aboard the Hakuna Matata\, as you cruise along the stunning Downtown West Palm Beach skyline. Take in breathtaking views of the magnificent palatial mansions and mega yachts of Palm Beach Island\, all while relaxing on the water. Perfect for an unforgettable evening of relaxation and luxury! \nPlease note departure times can vary based on tides and currents. 
URL:https://www.visitpalmbeach.com/cruises-boat-tours/sunset-cruise/
LOCATION:Visit Palm Beach\, 138 South Flagler Drive\, West Palm Beach\, FL\, 33401\, United States
CATEGORIES:Outdoors
ATTACH;FMTTYPE=image/jpeg:https://downtownwpb.com/wp-content/uploads/Sunset-Catamaran-Cruise.jpg
END:VEVENT
BEGIN:VEVENT
DTSTART;TZID=America/New_York:20260927T180000
DTEND;TZID=America/New_York:20260927T200000
DTSTAMP:20260419T161058
CREATED:20250616T212242Z
LAST-MODIFIED:20250616T212310Z
UID:10026029-1790532000-1790539200@downtownwpb.com
SUMMARY:Motunui Sunset Sail
DESCRIPTION:Set sail into the stunning South Florida sunset aboard the brand-new\, luxuriously appointed catamaran Motunui. Enjoy a relaxing and unforgettable evening as you take in breathtaking views of the coastline\, all while sipping a refreshing drink and soaking in the beauty of the moment. Perfect for a serene escape! \nPlease note departure times can vary based on tides and currents. 
URL:https://www.visitpalmbeach.com/motunui-sunset-sail/
LOCATION:Visit Palm Beach\, 138 South Flagler Drive\, West Palm Beach\, FL\, 33401\, United States
CATEGORIES:Outdoors
ATTACH;FMTTYPE=image/jpeg:https://downtownwpb.com/wp-content/uploads/Motunui-Cruise.jpg
END:VEVENT
BEGIN:VEVENT
DTSTART;TZID=America/New_York:20260927T183000
DTEND;TZID=America/New_York:20260927T203000
DTSTAMP:20260419T161058
CREATED:20250616T210709Z
LAST-MODIFIED:20250616T210709Z
UID:10022376-1790533800-1790541000@downtownwpb.com
SUMMARY:Sunset Catamaran Cruise
DESCRIPTION:Unwind and enjoy a scenic evening aboard the Hakuna Matata\, as you cruise along the stunning Downtown West Palm Beach skyline. Take in breathtaking views of the magnificent palatial mansions and mega yachts of Palm Beach Island\, all while relaxing on the water. Perfect for an unforgettable evening of relaxation and luxury! \nPlease note departure times can vary based on tides and currents. 
URL:https://www.visitpalmbeach.com/cruises-boat-tours/sunset-cruise/
LOCATION:Visit Palm Beach\, 138 South Flagler Drive\, West Palm Beach\, FL\, 33401\, United States
CATEGORIES:Outdoors
ATTACH;FMTTYPE=image/jpeg:https://downtownwpb.com/wp-content/uploads/Sunset-Catamaran-Cruise.jpg
END:VEVENT
BEGIN:VEVENT
DTSTART;TZID=America/New_York:20260928T180000
DTEND;TZID=America/New_York:20260928T200000
DTSTAMP:20260419T161059
CREATED:20250616T212242Z
LAST-MODIFIED:20250616T212310Z
UID:10026030-1790618400-1790625600@downtownwpb.com
SUMMARY:Motunui Sunset Sail
DESCRIPTION:Set sail into the stunning South Florida sunset aboard the brand-new\, luxuriously appointed catamaran Motunui. Enjoy a relaxing and unforgettable evening as you take in breathtaking views of the coastline\, all while sipping a refreshing drink and soaking in the beauty of the moment. Perfect for a serene escape! \nPlease note departure times can vary based on tides and currents. 
URL:https://www.visitpalmbeach.com/motunui-sunset-sail/
LOCATION:Visit Palm Beach\, 138 South Flagler Drive\, West Palm Beach\, FL\, 33401\, United States
CATEGORIES:Outdoors
ATTACH;FMTTYPE=image/jpeg:https://downtownwpb.com/wp-content/uploads/Motunui-Cruise.jpg
END:VEVENT
BEGIN:VEVENT
DTSTART;TZID=America/New_York:20260928T183000
DTEND;TZID=America/New_York:20260928T203000
DTSTAMP:20260419T161059
CREATED:20250616T210709Z
LAST-MODIFIED:20250616T210709Z
UID:10022377-1790620200-1790627400@downtownwpb.com
SUMMARY:Sunset Catamaran Cruise
DESCRIPTION:Unwind and enjoy a scenic evening aboard the Hakuna Matata\, as you cruise along the stunning Downtown West Palm Beach skyline. Take in breathtaking views of the magnificent palatial mansions and mega yachts of Palm Beach Island\, all while relaxing on the water. Perfect for an unforgettable evening of relaxation and luxury! \nPlease note departure times can vary based on tides and currents. 
URL:https://www.visitpalmbeach.com/cruises-boat-tours/sunset-cruise/
LOCATION:Visit Palm Beach\, 138 South Flagler Drive\, West Palm Beach\, FL\, 33401\, United States
CATEGORIES:Outdoors
ATTACH;FMTTYPE=image/jpeg:https://downtownwpb.com/wp-content/uploads/Sunset-Catamaran-Cruise.jpg
END:VEVENT
BEGIN:VEVENT
DTSTART;TZID=America/New_York:20260929T180000
DTEND;TZID=America/New_York:20260929T200000
DTSTAMP:20260419T161059
CREATED:20250616T212242Z
LAST-MODIFIED:20250616T212310Z
UID:10026031-1790704800-1790712000@downtownwpb.com
SUMMARY:Motunui Sunset Sail
DESCRIPTION:Set sail into the stunning South Florida sunset aboard the brand-new\, luxuriously appointed catamaran Motunui. Enjoy a relaxing and unforgettable evening as you take in breathtaking views of the coastline\, all while sipping a refreshing drink and soaking in the beauty of the moment. Perfect for a serene escape! \nPlease note departure times can vary based on tides and currents. 
URL:https://www.visitpalmbeach.com/motunui-sunset-sail/
LOCATION:Visit Palm Beach\, 138 South Flagler Drive\, West Palm Beach\, FL\, 33401\, United States
CATEGORIES:Outdoors
ATTACH;FMTTYPE=image/jpeg:https://downtownwpb.com/wp-content/uploads/Motunui-Cruise.jpg
END:VEVENT
BEGIN:VEVENT
DTSTART;TZID=America/New_York:20260929T183000
DTEND;TZID=America/New_York:20260929T203000
DTSTAMP:20260419T161059
CREATED:20250616T210709Z
LAST-MODIFIED:20250616T210709Z
UID:10022378-1790706600-1790713800@downtownwpb.com
SUMMARY:Sunset Catamaran Cruise
DESCRIPTION:Unwind and enjoy a scenic evening aboard the Hakuna Matata\, as you cruise along the stunning Downtown West Palm Beach skyline. Take in breathtaking views of the magnificent palatial mansions and mega yachts of Palm Beach Island\, all while relaxing on the water. Perfect for an unforgettable evening of relaxation and luxury! \nPlease note departure times can vary based on tides and currents. 
URL:https://www.visitpalmbeach.com/cruises-boat-tours/sunset-cruise/
LOCATION:Visit Palm Beach\, 138 South Flagler Drive\, West Palm Beach\, FL\, 33401\, United States
CATEGORIES:Outdoors
ATTACH;FMTTYPE=image/jpeg:https://downtownwpb.com/wp-content/uploads/Sunset-Catamaran-Cruise.jpg
END:VEVENT
BEGIN:VEVENT
DTSTART;TZID=America/New_York:20260930T180000
DTEND;TZID=America/New_York:20260930T200000
DTSTAMP:20260419T161059
CREATED:20250616T212242Z
LAST-MODIFIED:20250616T212310Z
UID:10026032-1790791200-1790798400@downtownwpb.com
SUMMARY:Motunui Sunset Sail
DESCRIPTION:Set sail into the stunning South Florida sunset aboard the brand-new\, luxuriously appointed catamaran Motunui. Enjoy a relaxing and unforgettable evening as you take in breathtaking views of the coastline\, all while sipping a refreshing drink and soaking in the beauty of the moment. Perfect for a serene escape! \nPlease note departure times can vary based on tides and currents. 
URL:https://www.visitpalmbeach.com/motunui-sunset-sail/
LOCATION:Visit Palm Beach\, 138 South Flagler Drive\, West Palm Beach\, FL\, 33401\, United States
CATEGORIES:Outdoors
ATTACH;FMTTYPE=image/jpeg:https://downtownwpb.com/wp-content/uploads/Motunui-Cruise.jpg
END:VEVENT
BEGIN:VEVENT
DTSTART;TZID=America/New_York:20260930T183000
DTEND;TZID=America/New_York:20260930T203000
DTSTAMP:20260419T161059
CREATED:20250616T210709Z
LAST-MODIFIED:20250616T210709Z
UID:10022379-1790793000-1790800200@downtownwpb.com
SUMMARY:Sunset Catamaran Cruise
DESCRIPTION:Unwind and enjoy a scenic evening aboard the Hakuna Matata\, as you cruise along the stunning Downtown West Palm Beach skyline. Take in breathtaking views of the magnificent palatial mansions and mega yachts of Palm Beach Island\, all while relaxing on the water. Perfect for an unforgettable evening of relaxation and luxury! \nPlease note departure times can vary based on tides and currents. 
URL:https://www.visitpalmbeach.com/cruises-boat-tours/sunset-cruise/
LOCATION:Visit Palm Beach\, 138 South Flagler Drive\, West Palm Beach\, FL\, 33401\, United States
CATEGORIES:Outdoors
ATTACH;FMTTYPE=image/jpeg:https://downtownwpb.com/wp-content/uploads/Sunset-Catamaran-Cruise.jpg
END:VEVENT
BEGIN:VEVENT
DTSTART;TZID=America/New_York:20261001T180000
DTEND;TZID=America/New_York:20261001T200000
DTSTAMP:20260419T161059
CREATED:20250616T212242Z
LAST-MODIFIED:20250616T212310Z
UID:10026033-1790877600-1790884800@downtownwpb.com
SUMMARY:Motunui Sunset Sail
DESCRIPTION:Set sail into the stunning South Florida sunset aboard the brand-new\, luxuriously appointed catamaran Motunui. Enjoy a relaxing and unforgettable evening as you take in breathtaking views of the coastline\, all while sipping a refreshing drink and soaking in the beauty of the moment. Perfect for a serene escape! \nPlease note departure times can vary based on tides and currents. 
URL:https://www.visitpalmbeach.com/motunui-sunset-sail/
LOCATION:Visit Palm Beach\, 138 South Flagler Drive\, West Palm Beach\, FL\, 33401\, United States
CATEGORIES:Outdoors
ATTACH;FMTTYPE=image/jpeg:https://downtownwpb.com/wp-content/uploads/Motunui-Cruise.jpg
END:VEVENT
BEGIN:VEVENT
DTSTART;TZID=America/New_York:20261001T183000
DTEND;TZID=America/New_York:20261001T203000
DTSTAMP:20260419T161059
CREATED:20250616T210709Z
LAST-MODIFIED:20250616T210709Z
UID:10022380-1790879400-1790886600@downtownwpb.com
SUMMARY:Sunset Catamaran Cruise
DESCRIPTION:Unwind and enjoy a scenic evening aboard the Hakuna Matata\, as you cruise along the stunning Downtown West Palm Beach skyline. Take in breathtaking views of the magnificent palatial mansions and mega yachts of Palm Beach Island\, all while relaxing on the water. Perfect for an unforgettable evening of relaxation and luxury! \nPlease note departure times can vary based on tides and currents. 
URL:https://www.visitpalmbeach.com/cruises-boat-tours/sunset-cruise/
LOCATION:Visit Palm Beach\, 138 South Flagler Drive\, West Palm Beach\, FL\, 33401\, United States
CATEGORIES:Outdoors
ATTACH;FMTTYPE=image/jpeg:https://downtownwpb.com/wp-content/uploads/Sunset-Catamaran-Cruise.jpg
END:VEVENT
BEGIN:VEVENT
DTSTART;TZID=America/New_York:20261002T180000
DTEND;TZID=America/New_York:20261002T200000
DTSTAMP:20260419T161059
CREATED:20250616T212242Z
LAST-MODIFIED:20250616T212310Z
UID:10026034-1790964000-1790971200@downtownwpb.com
SUMMARY:Motunui Sunset Sail
DESCRIPTION:Set sail into the stunning South Florida sunset aboard the brand-new\, luxuriously appointed catamaran Motunui. Enjoy a relaxing and unforgettable evening as you take in breathtaking views of the coastline\, all while sipping a refreshing drink and soaking in the beauty of the moment. Perfect for a serene escape! \nPlease note departure times can vary based on tides and currents. 
URL:https://www.visitpalmbeach.com/motunui-sunset-sail/
LOCATION:Visit Palm Beach\, 138 South Flagler Drive\, West Palm Beach\, FL\, 33401\, United States
CATEGORIES:Outdoors
ATTACH;FMTTYPE=image/jpeg:https://downtownwpb.com/wp-content/uploads/Motunui-Cruise.jpg
END:VEVENT
BEGIN:VEVENT
DTSTART;TZID=America/New_York:20261002T183000
DTEND;TZID=America/New_York:20261002T203000
DTSTAMP:20260419T161059
CREATED:20250616T210709Z
LAST-MODIFIED:20250616T210709Z
UID:10022381-1790965800-1790973000@downtownwpb.com
SUMMARY:Sunset Catamaran Cruise
DESCRIPTION:Unwind and enjoy a scenic evening aboard the Hakuna Matata\, as you cruise along the stunning Downtown West Palm Beach skyline. Take in breathtaking views of the magnificent palatial mansions and mega yachts of Palm Beach Island\, all while relaxing on the water. Perfect for an unforgettable evening of relaxation and luxury! \nPlease note departure times can vary based on tides and currents. 
URL:https://www.visitpalmbeach.com/cruises-boat-tours/sunset-cruise/
LOCATION:Visit Palm Beach\, 138 South Flagler Drive\, West Palm Beach\, FL\, 33401\, United States
CATEGORIES:Outdoors
ATTACH;FMTTYPE=image/jpeg:https://downtownwpb.com/wp-content/uploads/Sunset-Catamaran-Cruise.jpg
END:VEVENT
BEGIN:VEVENT
DTSTART;TZID=America/New_York:20261003T180000
DTEND;TZID=America/New_York:20261003T200000
DTSTAMP:20260419T161059
CREATED:20250616T212242Z
LAST-MODIFIED:20250616T212310Z
UID:10026035-1791050400-1791057600@downtownwpb.com
SUMMARY:Motunui Sunset Sail
DESCRIPTION:Set sail into the stunning South Florida sunset aboard the brand-new\, luxuriously appointed catamaran Motunui. Enjoy a relaxing and unforgettable evening as you take in breathtaking views of the coastline\, all while sipping a refreshing drink and soaking in the beauty of the moment. Perfect for a serene escape! \nPlease note departure times can vary based on tides and currents. 
URL:https://www.visitpalmbeach.com/motunui-sunset-sail/
LOCATION:Visit Palm Beach\, 138 South Flagler Drive\, West Palm Beach\, FL\, 33401\, United States
CATEGORIES:Outdoors
ATTACH;FMTTYPE=image/jpeg:https://downtownwpb.com/wp-content/uploads/Motunui-Cruise.jpg
END:VEVENT
BEGIN:VEVENT
DTSTART;TZID=America/New_York:20261003T183000
DTEND;TZID=America/New_York:20261003T203000
DTSTAMP:20260419T161059
CREATED:20250616T210709Z
LAST-MODIFIED:20250616T210709Z
UID:10022382-1791052200-1791059400@downtownwpb.com
SUMMARY:Sunset Catamaran Cruise
DESCRIPTION:Unwind and enjoy a scenic evening aboard the Hakuna Matata\, as you cruise along the stunning Downtown West Palm Beach skyline. Take in breathtaking views of the magnificent palatial mansions and mega yachts of Palm Beach Island\, all while relaxing on the water. Perfect for an unforgettable evening of relaxation and luxury! \nPlease note departure times can vary based on tides and currents. 
URL:https://www.visitpalmbeach.com/cruises-boat-tours/sunset-cruise/
LOCATION:Visit Palm Beach\, 138 South Flagler Drive\, West Palm Beach\, FL\, 33401\, United States
CATEGORIES:Outdoors
ATTACH;FMTTYPE=image/jpeg:https://downtownwpb.com/wp-content/uploads/Sunset-Catamaran-Cruise.jpg
END:VEVENT
BEGIN:VEVENT
DTSTART;TZID=America/New_York:20261004T180000
DTEND;TZID=America/New_York:20261004T200000
DTSTAMP:20260419T161059
CREATED:20250616T212242Z
LAST-MODIFIED:20250616T212310Z
UID:10026036-1791136800-1791144000@downtownwpb.com
SUMMARY:Motunui Sunset Sail
DESCRIPTION:Set sail into the stunning South Florida sunset aboard the brand-new\, luxuriously appointed catamaran Motunui. Enjoy a relaxing and unforgettable evening as you take in breathtaking views of the coastline\, all while sipping a refreshing drink and soaking in the beauty of the moment. Perfect for a serene escape! \nPlease note departure times can vary based on tides and currents. 
URL:https://www.visitpalmbeach.com/motunui-sunset-sail/
LOCATION:Visit Palm Beach\, 138 South Flagler Drive\, West Palm Beach\, FL\, 33401\, United States
CATEGORIES:Outdoors
ATTACH;FMTTYPE=image/jpeg:https://downtownwpb.com/wp-content/uploads/Motunui-Cruise.jpg
END:VEVENT
BEGIN:VEVENT
DTSTART;TZID=America/New_York:20261004T183000
DTEND;TZID=America/New_York:20261004T203000
DTSTAMP:20260419T161059
CREATED:20250616T210709Z
LAST-MODIFIED:20250616T210709Z
UID:10022383-1791138600-1791145800@downtownwpb.com
SUMMARY:Sunset Catamaran Cruise
DESCRIPTION:Unwind and enjoy a scenic evening aboard the Hakuna Matata\, as you cruise along the stunning Downtown West Palm Beach skyline. Take in breathtaking views of the magnificent palatial mansions and mega yachts of Palm Beach Island\, all while relaxing on the water. Perfect for an unforgettable evening of relaxation and luxury! \nPlease note departure times can vary based on tides and currents. 
URL:https://www.visitpalmbeach.com/cruises-boat-tours/sunset-cruise/
LOCATION:Visit Palm Beach\, 138 South Flagler Drive\, West Palm Beach\, FL\, 33401\, United States
CATEGORIES:Outdoors
ATTACH;FMTTYPE=image/jpeg:https://downtownwpb.com/wp-content/uploads/Sunset-Catamaran-Cruise.jpg
END:VEVENT
BEGIN:VEVENT
DTSTART;TZID=America/New_York:20261005T180000
DTEND;TZID=America/New_York:20261005T200000
DTSTAMP:20260419T161059
CREATED:20250616T212242Z
LAST-MODIFIED:20250616T212310Z
UID:10026037-1791223200-1791230400@downtownwpb.com
SUMMARY:Motunui Sunset Sail
DESCRIPTION:Set sail into the stunning South Florida sunset aboard the brand-new\, luxuriously appointed catamaran Motunui. Enjoy a relaxing and unforgettable evening as you take in breathtaking views of the coastline\, all while sipping a refreshing drink and soaking in the beauty of the moment. Perfect for a serene escape! \nPlease note departure times can vary based on tides and currents. 
URL:https://www.visitpalmbeach.com/motunui-sunset-sail/
LOCATION:Visit Palm Beach\, 138 South Flagler Drive\, West Palm Beach\, FL\, 33401\, United States
CATEGORIES:Outdoors
ATTACH;FMTTYPE=image/jpeg:https://downtownwpb.com/wp-content/uploads/Motunui-Cruise.jpg
END:VEVENT
BEGIN:VEVENT
DTSTART;TZID=America/New_York:20261005T183000
DTEND;TZID=America/New_York:20261005T203000
DTSTAMP:20260419T161059
CREATED:20250616T210709Z
LAST-MODIFIED:20250616T210709Z
UID:10022384-1791225000-1791232200@downtownwpb.com
SUMMARY:Sunset Catamaran Cruise
DESCRIPTION:Unwind and enjoy a scenic evening aboard the Hakuna Matata\, as you cruise along the stunning Downtown West Palm Beach skyline. Take in breathtaking views of the magnificent palatial mansions and mega yachts of Palm Beach Island\, all while relaxing on the water. Perfect for an unforgettable evening of relaxation and luxury! \nPlease note departure times can vary based on tides and currents. 
URL:https://www.visitpalmbeach.com/cruises-boat-tours/sunset-cruise/
LOCATION:Visit Palm Beach\, 138 South Flagler Drive\, West Palm Beach\, FL\, 33401\, United States
CATEGORIES:Outdoors
ATTACH;FMTTYPE=image/jpeg:https://downtownwpb.com/wp-content/uploads/Sunset-Catamaran-Cruise.jpg
END:VEVENT
BEGIN:VEVENT
DTSTART;TZID=America/New_York:20261006T180000
DTEND;TZID=America/New_York:20261006T200000
DTSTAMP:20260419T161059
CREATED:20250616T212242Z
LAST-MODIFIED:20250616T212310Z
UID:10026038-1791309600-1791316800@downtownwpb.com
SUMMARY:Motunui Sunset Sail
DESCRIPTION:Set sail into the stunning South Florida sunset aboard the brand-new\, luxuriously appointed catamaran Motunui. Enjoy a relaxing and unforgettable evening as you take in breathtaking views of the coastline\, all while sipping a refreshing drink and soaking in the beauty of the moment. Perfect for a serene escape! \nPlease note departure times can vary based on tides and currents. 
URL:https://www.visitpalmbeach.com/motunui-sunset-sail/
LOCATION:Visit Palm Beach\, 138 South Flagler Drive\, West Palm Beach\, FL\, 33401\, United States
CATEGORIES:Outdoors
ATTACH;FMTTYPE=image/jpeg:https://downtownwpb.com/wp-content/uploads/Motunui-Cruise.jpg
END:VEVENT
BEGIN:VEVENT
DTSTART;TZID=America/New_York:20261006T183000
DTEND;TZID=America/New_York:20261006T203000
DTSTAMP:20260419T161059
CREATED:20250616T210709Z
LAST-MODIFIED:20250616T210709Z
UID:10022385-1791311400-1791318600@downtownwpb.com
SUMMARY:Sunset Catamaran Cruise
DESCRIPTION:Unwind and enjoy a scenic evening aboard the Hakuna Matata\, as you cruise along the stunning Downtown West Palm Beach skyline. Take in breathtaking views of the magnificent palatial mansions and mega yachts of Palm Beach Island\, all while relaxing on the water. Perfect for an unforgettable evening of relaxation and luxury! \nPlease note departure times can vary based on tides and currents. 
URL:https://www.visitpalmbeach.com/cruises-boat-tours/sunset-cruise/
LOCATION:Visit Palm Beach\, 138 South Flagler Drive\, West Palm Beach\, FL\, 33401\, United States
CATEGORIES:Outdoors
ATTACH;FMTTYPE=image/jpeg:https://downtownwpb.com/wp-content/uploads/Sunset-Catamaran-Cruise.jpg
END:VEVENT
END:VCALENDAR