BEGIN:VCALENDAR
VERSION:2.0
PRODID:-//West Palm Beach - ECPv6.15.5//NONSGML v1.0//EN
CALSCALE:GREGORIAN
METHOD:PUBLISH
X-ORIGINAL-URL:https://downtownwpb.com
X-WR-CALDESC:Events for West Palm Beach
REFRESH-INTERVAL;VALUE=DURATION:PT1H
X-Robots-Tag:noindex
X-PUBLISHED-TTL:PT1H
BEGIN:VTIMEZONE
TZID:America/New_York
BEGIN:DAYLIGHT
TZOFFSETFROM:-0500
TZOFFSETTO:-0400
TZNAME:EDT
DTSTART:20230312T070000
END:DAYLIGHT
BEGIN:STANDARD
TZOFFSETFROM:-0400
TZOFFSETTO:-0500
TZNAME:EST
DTSTART:20231105T060000
END:STANDARD
BEGIN:DAYLIGHT
TZOFFSETFROM:-0500
TZOFFSETTO:-0400
TZNAME:EDT
DTSTART:20240310T070000
END:DAYLIGHT
BEGIN:STANDARD
TZOFFSETFROM:-0400
TZOFFSETTO:-0500
TZNAME:EST
DTSTART:20241103T060000
END:STANDARD
END:VTIMEZONE
BEGIN:VEVENT
DTSTART;TZID=America/New_York:20231231T193000
DTEND;TZID=America/New_York:20240101T020000
DTSTAMP:20260422T170508
CREATED:20231212T210939Z
LAST-MODIFIED:20231212T210939Z
UID:10016140-1704051000-1704074400@downtownwpb.com
SUMMARY:New Year's Eve Great Gatsby Party
DESCRIPTION:Step back in time and ring in 2024with the glamour of the Roaring Twenties! Head to Vinyl Fish Club for a Great Gatsby-themed party on New Year’s Eve from 7:30 p.m.-2 a.m. Dress in your Gatsby best and get ready for a night of dazzling elegance\, live jazz\, and sparkling celebrations. \nRSVP is required; admission is $150 per person. Call (561) 619-6121 for more information.
URL:https://downtownwpb.com/event/new-years-eve-great-gatsby-party/
LOCATION:Vinyl Fish Club\, 340 Clematis Street\, West Palm Beach\, FL\, 33401\, United States
CATEGORIES:Indoors
ATTACH;FMTTYPE=image/jpeg:https://downtownwpb.com/wp-content/uploads/Vinyl-Fish-Club-2023.jpg
END:VEVENT
BEGIN:VEVENT
DTSTART;TZID=America/New_York:20231216T170000
DTEND;TZID=America/New_York:20231216T230000
DTSTAMP:20260422T170508
CREATED:20231211T163742Z
LAST-MODIFIED:20231211T163742Z
UID:10013695-1702746000-1702767600@downtownwpb.com
SUMMARY:Vinyl Fish Club One-Year Anniversary Party
DESCRIPTION:Celebrate the one-year anniversary of Vinyl Fish Club on Saturday\, December 16 with a wonderful evening of sushi and socializing! \nFor more information\, call (561) 619-6121.
URL:https://downtownwpb.com/event/vinyl-fish-club-one-year-anniversary-party/
LOCATION:Vinyl Fish Club\, 340 Clematis Street\, West Palm Beach\, FL\, 33401\, United States
CATEGORIES:Indoors
ATTACH;FMTTYPE=image/jpeg:https://downtownwpb.com/wp-content/uploads/Vinyl-Fish-Club-anniversary-party.jpeg
END:VEVENT
END:VCALENDAR