BEGIN:VCALENDAR
VERSION:2.0
PRODID:-//West Palm Beach - ECPv6.15.5//NONSGML v1.0//EN
CALSCALE:GREGORIAN
METHOD:PUBLISH
X-WR-CALNAME:West Palm Beach
X-ORIGINAL-URL:https://downtownwpb.com
X-WR-CALDESC:Events for West Palm Beach
REFRESH-INTERVAL;VALUE=DURATION:PT1H
X-Robots-Tag:noindex
X-PUBLISHED-TTL:PT1H
BEGIN:VTIMEZONE
TZID:America/New_York
BEGIN:DAYLIGHT
TZOFFSETFROM:-0500
TZOFFSETTO:-0400
TZNAME:EDT
DTSTART:20240310T070000
END:DAYLIGHT
BEGIN:STANDARD
TZOFFSETFROM:-0400
TZOFFSETTO:-0500
TZNAME:EST
DTSTART:20241103T060000
END:STANDARD
BEGIN:DAYLIGHT
TZOFFSETFROM:-0500
TZOFFSETTO:-0400
TZNAME:EDT
DTSTART:20250309T070000
END:DAYLIGHT
BEGIN:STANDARD
TZOFFSETFROM:-0400
TZOFFSETTO:-0500
TZNAME:EST
DTSTART:20251102T060000
END:STANDARD
END:VTIMEZONE
BEGIN:VEVENT
DTSTART;TZID=America/New_York:20250202T093000
DTEND;TZID=America/New_York:20250202T103000
DTSTAMP:20260425T120324
CREATED:20231031T174454Z
LAST-MODIFIED:20231031T174454Z
UID:10015115-1738488600-1738492200@downtownwpb.com
SUMMARY:Sunday Yoga
DESCRIPTION:Visit Temanatu Kava Bar every Sunday at 9:30 a.m. for Power Vinyasa Flow Yoga! \nIt costs $15 to participate and the price includes one shell\, one tea or a bottle of water.
URL:https://downtownwpb.com/event/sunday-yoga-2/2025-02-02/
LOCATION:Temanatu A Nakamal Tea Room\, 330 Clematis Street Unit 102\, West Palm Beach\, FL\, 33401\, United States
ATTACH;FMTTYPE=image/jpeg:https://downtownwpb.com/wp-content/uploads/Temanatu-Sunday-Yoga.jpg
END:VEVENT
BEGIN:VEVENT
DTSTART;TZID=America/New_York:20250126T093000
DTEND;TZID=America/New_York:20250126T103000
DTSTAMP:20260425T120324
CREATED:20231031T174454Z
LAST-MODIFIED:20231031T174454Z
UID:10015114-1737883800-1737887400@downtownwpb.com
SUMMARY:Sunday Yoga
DESCRIPTION:Visit Temanatu Kava Bar every Sunday at 9:30 a.m. for Power Vinyasa Flow Yoga! \nIt costs $15 to participate and the price includes one shell\, one tea or a bottle of water.
URL:https://downtownwpb.com/event/sunday-yoga-2/2025-01-26/
LOCATION:Temanatu A Nakamal Tea Room\, 330 Clematis Street Unit 102\, West Palm Beach\, FL\, 33401\, United States
ATTACH;FMTTYPE=image/jpeg:https://downtownwpb.com/wp-content/uploads/Temanatu-Sunday-Yoga.jpg
END:VEVENT
BEGIN:VEVENT
DTSTART;TZID=America/New_York:20250119T093000
DTEND;TZID=America/New_York:20250119T103000
DTSTAMP:20260425T120324
CREATED:20231031T174454Z
LAST-MODIFIED:20231031T174454Z
UID:10015113-1737279000-1737282600@downtownwpb.com
SUMMARY:Sunday Yoga
DESCRIPTION:Visit Temanatu Kava Bar every Sunday at 9:30 a.m. for Power Vinyasa Flow Yoga! \nIt costs $15 to participate and the price includes one shell\, one tea or a bottle of water.
URL:https://downtownwpb.com/event/sunday-yoga-2/2025-01-19/
LOCATION:Temanatu A Nakamal Tea Room\, 330 Clematis Street Unit 102\, West Palm Beach\, FL\, 33401\, United States
ATTACH;FMTTYPE=image/jpeg:https://downtownwpb.com/wp-content/uploads/Temanatu-Sunday-Yoga.jpg
END:VEVENT
BEGIN:VEVENT
DTSTART;TZID=America/New_York:20250112T093000
DTEND;TZID=America/New_York:20250112T103000
DTSTAMP:20260425T120324
CREATED:20231031T174454Z
LAST-MODIFIED:20231031T174454Z
UID:10015112-1736674200-1736677800@downtownwpb.com
SUMMARY:Sunday Yoga
DESCRIPTION:Visit Temanatu Kava Bar every Sunday at 9:30 a.m. for Power Vinyasa Flow Yoga! \nIt costs $15 to participate and the price includes one shell\, one tea or a bottle of water.
URL:https://downtownwpb.com/event/sunday-yoga-2/2025-01-12/
LOCATION:Temanatu A Nakamal Tea Room\, 330 Clematis Street Unit 102\, West Palm Beach\, FL\, 33401\, United States
ATTACH;FMTTYPE=image/jpeg:https://downtownwpb.com/wp-content/uploads/Temanatu-Sunday-Yoga.jpg
END:VEVENT
BEGIN:VEVENT
DTSTART;TZID=America/New_York:20250105T093000
DTEND;TZID=America/New_York:20250105T103000
DTSTAMP:20260425T120324
CREATED:20231031T174454Z
LAST-MODIFIED:20231031T174454Z
UID:10015111-1736069400-1736073000@downtownwpb.com
SUMMARY:Sunday Yoga
DESCRIPTION:Visit Temanatu Kava Bar every Sunday at 9:30 a.m. for Power Vinyasa Flow Yoga! \nIt costs $15 to participate and the price includes one shell\, one tea or a bottle of water.
URL:https://downtownwpb.com/event/sunday-yoga-2/2025-01-05/
LOCATION:Temanatu A Nakamal Tea Room\, 330 Clematis Street Unit 102\, West Palm Beach\, FL\, 33401\, United States
ATTACH;FMTTYPE=image/jpeg:https://downtownwpb.com/wp-content/uploads/Temanatu-Sunday-Yoga.jpg
END:VEVENT
BEGIN:VEVENT
DTSTART;TZID=America/New_York:20241229T093000
DTEND;TZID=America/New_York:20241229T103000
DTSTAMP:20260425T120324
CREATED:20231031T174454Z
LAST-MODIFIED:20231031T174454Z
UID:10015110-1735464600-1735468200@downtownwpb.com
SUMMARY:Sunday Yoga
DESCRIPTION:Visit Temanatu Kava Bar every Sunday at 9:30 a.m. for Power Vinyasa Flow Yoga! \nIt costs $15 to participate and the price includes one shell\, one tea or a bottle of water.
URL:https://downtownwpb.com/event/sunday-yoga-2/2024-12-29/
LOCATION:Temanatu A Nakamal Tea Room\, 330 Clematis Street Unit 102\, West Palm Beach\, FL\, 33401\, United States
ATTACH;FMTTYPE=image/jpeg:https://downtownwpb.com/wp-content/uploads/Temanatu-Sunday-Yoga.jpg
END:VEVENT
BEGIN:VEVENT
DTSTART;TZID=America/New_York:20241222T093000
DTEND;TZID=America/New_York:20241222T103000
DTSTAMP:20260425T120324
CREATED:20231031T174454Z
LAST-MODIFIED:20231031T174454Z
UID:10015109-1734859800-1734863400@downtownwpb.com
SUMMARY:Sunday Yoga
DESCRIPTION:Visit Temanatu Kava Bar every Sunday at 9:30 a.m. for Power Vinyasa Flow Yoga! \nIt costs $15 to participate and the price includes one shell\, one tea or a bottle of water.
URL:https://downtownwpb.com/event/sunday-yoga-2/2024-12-22/
LOCATION:Temanatu A Nakamal Tea Room\, 330 Clematis Street Unit 102\, West Palm Beach\, FL\, 33401\, United States
ATTACH;FMTTYPE=image/jpeg:https://downtownwpb.com/wp-content/uploads/Temanatu-Sunday-Yoga.jpg
END:VEVENT
BEGIN:VEVENT
DTSTART;TZID=America/New_York:20241215T093000
DTEND;TZID=America/New_York:20241215T103000
DTSTAMP:20260425T120324
CREATED:20231031T174454Z
LAST-MODIFIED:20231031T174454Z
UID:10015108-1734255000-1734258600@downtownwpb.com
SUMMARY:Sunday Yoga
DESCRIPTION:Visit Temanatu Kava Bar every Sunday at 9:30 a.m. for Power Vinyasa Flow Yoga! \nIt costs $15 to participate and the price includes one shell\, one tea or a bottle of water.
URL:https://downtownwpb.com/event/sunday-yoga-2/2024-12-15/
LOCATION:Temanatu A Nakamal Tea Room\, 330 Clematis Street Unit 102\, West Palm Beach\, FL\, 33401\, United States
ATTACH;FMTTYPE=image/jpeg:https://downtownwpb.com/wp-content/uploads/Temanatu-Sunday-Yoga.jpg
END:VEVENT
BEGIN:VEVENT
DTSTART;TZID=America/New_York:20241208T093000
DTEND;TZID=America/New_York:20241208T103000
DTSTAMP:20260425T120324
CREATED:20231031T174454Z
LAST-MODIFIED:20231031T174454Z
UID:10015107-1733650200-1733653800@downtownwpb.com
SUMMARY:Sunday Yoga
DESCRIPTION:Visit Temanatu Kava Bar every Sunday at 9:30 a.m. for Power Vinyasa Flow Yoga! \nIt costs $15 to participate and the price includes one shell\, one tea or a bottle of water.
URL:https://downtownwpb.com/event/sunday-yoga-2/2024-12-08/
LOCATION:Temanatu A Nakamal Tea Room\, 330 Clematis Street Unit 102\, West Palm Beach\, FL\, 33401\, United States
ATTACH;FMTTYPE=image/jpeg:https://downtownwpb.com/wp-content/uploads/Temanatu-Sunday-Yoga.jpg
END:VEVENT
BEGIN:VEVENT
DTSTART;TZID=America/New_York:20241201T093000
DTEND;TZID=America/New_York:20241201T103000
DTSTAMP:20260425T120324
CREATED:20231031T174454Z
LAST-MODIFIED:20231031T174454Z
UID:10015106-1733045400-1733049000@downtownwpb.com
SUMMARY:Sunday Yoga
DESCRIPTION:Visit Temanatu Kava Bar every Sunday at 9:30 a.m. for Power Vinyasa Flow Yoga! \nIt costs $15 to participate and the price includes one shell\, one tea or a bottle of water.
URL:https://downtownwpb.com/event/sunday-yoga-2/2024-12-01/
LOCATION:Temanatu A Nakamal Tea Room\, 330 Clematis Street Unit 102\, West Palm Beach\, FL\, 33401\, United States
ATTACH;FMTTYPE=image/jpeg:https://downtownwpb.com/wp-content/uploads/Temanatu-Sunday-Yoga.jpg
END:VEVENT
BEGIN:VEVENT
DTSTART;TZID=America/New_York:20241124T093000
DTEND;TZID=America/New_York:20241124T103000
DTSTAMP:20260425T120324
CREATED:20231031T174454Z
LAST-MODIFIED:20231031T174454Z
UID:10015105-1732440600-1732444200@downtownwpb.com
SUMMARY:Sunday Yoga
DESCRIPTION:Visit Temanatu Kava Bar every Sunday at 9:30 a.m. for Power Vinyasa Flow Yoga! \nIt costs $15 to participate and the price includes one shell\, one tea or a bottle of water.
URL:https://downtownwpb.com/event/sunday-yoga-2/2024-11-24/
LOCATION:Temanatu A Nakamal Tea Room\, 330 Clematis Street Unit 102\, West Palm Beach\, FL\, 33401\, United States
ATTACH;FMTTYPE=image/jpeg:https://downtownwpb.com/wp-content/uploads/Temanatu-Sunday-Yoga.jpg
END:VEVENT
BEGIN:VEVENT
DTSTART;TZID=America/New_York:20241117T093000
DTEND;TZID=America/New_York:20241117T103000
DTSTAMP:20260425T120324
CREATED:20231031T174454Z
LAST-MODIFIED:20231031T174454Z
UID:10015104-1731835800-1731839400@downtownwpb.com
SUMMARY:Sunday Yoga
DESCRIPTION:Visit Temanatu Kava Bar every Sunday at 9:30 a.m. for Power Vinyasa Flow Yoga! \nIt costs $15 to participate and the price includes one shell\, one tea or a bottle of water.
URL:https://downtownwpb.com/event/sunday-yoga-2/2024-11-17/
LOCATION:Temanatu A Nakamal Tea Room\, 330 Clematis Street Unit 102\, West Palm Beach\, FL\, 33401\, United States
ATTACH;FMTTYPE=image/jpeg:https://downtownwpb.com/wp-content/uploads/Temanatu-Sunday-Yoga.jpg
END:VEVENT
BEGIN:VEVENT
DTSTART;TZID=America/New_York:20241110T093000
DTEND;TZID=America/New_York:20241110T103000
DTSTAMP:20260425T120324
CREATED:20231031T174454Z
LAST-MODIFIED:20231031T174454Z
UID:10015103-1731231000-1731234600@downtownwpb.com
SUMMARY:Sunday Yoga
DESCRIPTION:Visit Temanatu Kava Bar every Sunday at 9:30 a.m. for Power Vinyasa Flow Yoga! \nIt costs $15 to participate and the price includes one shell\, one tea or a bottle of water.
URL:https://downtownwpb.com/event/sunday-yoga-2/2024-11-10/
LOCATION:Temanatu A Nakamal Tea Room\, 330 Clematis Street Unit 102\, West Palm Beach\, FL\, 33401\, United States
ATTACH;FMTTYPE=image/jpeg:https://downtownwpb.com/wp-content/uploads/Temanatu-Sunday-Yoga.jpg
END:VEVENT
BEGIN:VEVENT
DTSTART;TZID=America/New_York:20241103T093000
DTEND;TZID=America/New_York:20241103T103000
DTSTAMP:20260425T120324
CREATED:20231031T174454Z
LAST-MODIFIED:20231031T174454Z
UID:10015102-1730626200-1730629800@downtownwpb.com
SUMMARY:Sunday Yoga
DESCRIPTION:Visit Temanatu Kava Bar every Sunday at 9:30 a.m. for Power Vinyasa Flow Yoga! \nIt costs $15 to participate and the price includes one shell\, one tea or a bottle of water.
URL:https://downtownwpb.com/event/sunday-yoga-2/2024-11-03/
LOCATION:Temanatu A Nakamal Tea Room\, 330 Clematis Street Unit 102\, West Palm Beach\, FL\, 33401\, United States
ATTACH;FMTTYPE=image/jpeg:https://downtownwpb.com/wp-content/uploads/Temanatu-Sunday-Yoga.jpg
END:VEVENT
BEGIN:VEVENT
DTSTART;TZID=America/New_York:20241027T093000
DTEND;TZID=America/New_York:20241027T103000
DTSTAMP:20260425T120324
CREATED:20231031T174454Z
LAST-MODIFIED:20231031T174454Z
UID:10015101-1730021400-1730025000@downtownwpb.com
SUMMARY:Sunday Yoga
DESCRIPTION:Visit Temanatu Kava Bar every Sunday at 9:30 a.m. for Power Vinyasa Flow Yoga! \nIt costs $15 to participate and the price includes one shell\, one tea or a bottle of water.
URL:https://downtownwpb.com/event/sunday-yoga-2/2024-10-27/
LOCATION:Temanatu A Nakamal Tea Room\, 330 Clematis Street Unit 102\, West Palm Beach\, FL\, 33401\, United States
ATTACH;FMTTYPE=image/jpeg:https://downtownwpb.com/wp-content/uploads/Temanatu-Sunday-Yoga.jpg
END:VEVENT
BEGIN:VEVENT
DTSTART;TZID=America/New_York:20241020T093000
DTEND;TZID=America/New_York:20241020T103000
DTSTAMP:20260425T120324
CREATED:20231031T174454Z
LAST-MODIFIED:20231031T174454Z
UID:10015100-1729416600-1729420200@downtownwpb.com
SUMMARY:Sunday Yoga
DESCRIPTION:Visit Temanatu Kava Bar every Sunday at 9:30 a.m. for Power Vinyasa Flow Yoga! \nIt costs $15 to participate and the price includes one shell\, one tea or a bottle of water.
URL:https://downtownwpb.com/event/sunday-yoga-2/2024-10-20/
LOCATION:Temanatu A Nakamal Tea Room\, 330 Clematis Street Unit 102\, West Palm Beach\, FL\, 33401\, United States
ATTACH;FMTTYPE=image/jpeg:https://downtownwpb.com/wp-content/uploads/Temanatu-Sunday-Yoga.jpg
END:VEVENT
BEGIN:VEVENT
DTSTART;TZID=America/New_York:20241013T093000
DTEND;TZID=America/New_York:20241013T103000
DTSTAMP:20260425T120324
CREATED:20231031T174454Z
LAST-MODIFIED:20231031T174454Z
UID:10015099-1728811800-1728815400@downtownwpb.com
SUMMARY:Sunday Yoga
DESCRIPTION:Visit Temanatu Kava Bar every Sunday at 9:30 a.m. for Power Vinyasa Flow Yoga! \nIt costs $15 to participate and the price includes one shell\, one tea or a bottle of water.
URL:https://downtownwpb.com/event/sunday-yoga-2/2024-10-13/
LOCATION:Temanatu A Nakamal Tea Room\, 330 Clematis Street Unit 102\, West Palm Beach\, FL\, 33401\, United States
ATTACH;FMTTYPE=image/jpeg:https://downtownwpb.com/wp-content/uploads/Temanatu-Sunday-Yoga.jpg
END:VEVENT
BEGIN:VEVENT
DTSTART;TZID=America/New_York:20241006T093000
DTEND;TZID=America/New_York:20241006T103000
DTSTAMP:20260425T120324
CREATED:20231031T174454Z
LAST-MODIFIED:20231031T174454Z
UID:10015098-1728207000-1728210600@downtownwpb.com
SUMMARY:Sunday Yoga
DESCRIPTION:Visit Temanatu Kava Bar every Sunday at 9:30 a.m. for Power Vinyasa Flow Yoga! \nIt costs $15 to participate and the price includes one shell\, one tea or a bottle of water.
URL:https://downtownwpb.com/event/sunday-yoga-2/2024-10-06/
LOCATION:Temanatu A Nakamal Tea Room\, 330 Clematis Street Unit 102\, West Palm Beach\, FL\, 33401\, United States
ATTACH;FMTTYPE=image/jpeg:https://downtownwpb.com/wp-content/uploads/Temanatu-Sunday-Yoga.jpg
END:VEVENT
BEGIN:VEVENT
DTSTART;TZID=America/New_York:20240929T093000
DTEND;TZID=America/New_York:20240929T103000
DTSTAMP:20260425T120324
CREATED:20231031T174454Z
LAST-MODIFIED:20231031T174454Z
UID:10015097-1727602200-1727605800@downtownwpb.com
SUMMARY:Sunday Yoga
DESCRIPTION:Visit Temanatu Kava Bar every Sunday at 9:30 a.m. for Power Vinyasa Flow Yoga! \nIt costs $15 to participate and the price includes one shell\, one tea or a bottle of water.
URL:https://downtownwpb.com/event/sunday-yoga-2/2024-09-29/
LOCATION:Temanatu A Nakamal Tea Room\, 330 Clematis Street Unit 102\, West Palm Beach\, FL\, 33401\, United States
ATTACH;FMTTYPE=image/jpeg:https://downtownwpb.com/wp-content/uploads/Temanatu-Sunday-Yoga.jpg
END:VEVENT
BEGIN:VEVENT
DTSTART;TZID=America/New_York:20240922T093000
DTEND;TZID=America/New_York:20240922T103000
DTSTAMP:20260425T120324
CREATED:20231031T174454Z
LAST-MODIFIED:20231031T174454Z
UID:10015096-1726997400-1727001000@downtownwpb.com
SUMMARY:Sunday Yoga
DESCRIPTION:Visit Temanatu Kava Bar every Sunday at 9:30 a.m. for Power Vinyasa Flow Yoga! \nIt costs $15 to participate and the price includes one shell\, one tea or a bottle of water.
URL:https://downtownwpb.com/event/sunday-yoga-2/2024-09-22/
LOCATION:Temanatu A Nakamal Tea Room\, 330 Clematis Street Unit 102\, West Palm Beach\, FL\, 33401\, United States
ATTACH;FMTTYPE=image/jpeg:https://downtownwpb.com/wp-content/uploads/Temanatu-Sunday-Yoga.jpg
END:VEVENT
BEGIN:VEVENT
DTSTART;TZID=America/New_York:20240915T093000
DTEND;TZID=America/New_York:20240915T103000
DTSTAMP:20260425T120324
CREATED:20231031T174454Z
LAST-MODIFIED:20231031T174454Z
UID:10015095-1726392600-1726396200@downtownwpb.com
SUMMARY:Sunday Yoga
DESCRIPTION:Visit Temanatu Kava Bar every Sunday at 9:30 a.m. for Power Vinyasa Flow Yoga! \nIt costs $15 to participate and the price includes one shell\, one tea or a bottle of water.
URL:https://downtownwpb.com/event/sunday-yoga-2/2024-09-15/
LOCATION:Temanatu A Nakamal Tea Room\, 330 Clematis Street Unit 102\, West Palm Beach\, FL\, 33401\, United States
ATTACH;FMTTYPE=image/jpeg:https://downtownwpb.com/wp-content/uploads/Temanatu-Sunday-Yoga.jpg
END:VEVENT
BEGIN:VEVENT
DTSTART;TZID=America/New_York:20240908T093000
DTEND;TZID=America/New_York:20240908T103000
DTSTAMP:20260425T120324
CREATED:20231031T174454Z
LAST-MODIFIED:20231031T174454Z
UID:10015094-1725787800-1725791400@downtownwpb.com
SUMMARY:Sunday Yoga
DESCRIPTION:Visit Temanatu Kava Bar every Sunday at 9:30 a.m. for Power Vinyasa Flow Yoga! \nIt costs $15 to participate and the price includes one shell\, one tea or a bottle of water.
URL:https://downtownwpb.com/event/sunday-yoga-2/2024-09-08/
LOCATION:Temanatu A Nakamal Tea Room\, 330 Clematis Street Unit 102\, West Palm Beach\, FL\, 33401\, United States
ATTACH;FMTTYPE=image/jpeg:https://downtownwpb.com/wp-content/uploads/Temanatu-Sunday-Yoga.jpg
END:VEVENT
BEGIN:VEVENT
DTSTART;TZID=America/New_York:20240901T093000
DTEND;TZID=America/New_York:20240901T103000
DTSTAMP:20260425T120324
CREATED:20231031T174454Z
LAST-MODIFIED:20231031T174454Z
UID:10015093-1725183000-1725186600@downtownwpb.com
SUMMARY:Sunday Yoga
DESCRIPTION:Visit Temanatu Kava Bar every Sunday at 9:30 a.m. for Power Vinyasa Flow Yoga! \nIt costs $15 to participate and the price includes one shell\, one tea or a bottle of water.
URL:https://downtownwpb.com/event/sunday-yoga-2/2024-09-01/
LOCATION:Temanatu A Nakamal Tea Room\, 330 Clematis Street Unit 102\, West Palm Beach\, FL\, 33401\, United States
ATTACH;FMTTYPE=image/jpeg:https://downtownwpb.com/wp-content/uploads/Temanatu-Sunday-Yoga.jpg
END:VEVENT
BEGIN:VEVENT
DTSTART;TZID=America/New_York:20240825T093000
DTEND;TZID=America/New_York:20240825T103000
DTSTAMP:20260425T120324
CREATED:20231031T174454Z
LAST-MODIFIED:20231031T174454Z
UID:10015092-1724578200-1724581800@downtownwpb.com
SUMMARY:Sunday Yoga
DESCRIPTION:Visit Temanatu Kava Bar every Sunday at 9:30 a.m. for Power Vinyasa Flow Yoga! \nIt costs $15 to participate and the price includes one shell\, one tea or a bottle of water.
URL:https://downtownwpb.com/event/sunday-yoga-2/2024-08-25/
LOCATION:Temanatu A Nakamal Tea Room\, 330 Clematis Street Unit 102\, West Palm Beach\, FL\, 33401\, United States
ATTACH;FMTTYPE=image/jpeg:https://downtownwpb.com/wp-content/uploads/Temanatu-Sunday-Yoga.jpg
END:VEVENT
BEGIN:VEVENT
DTSTART;TZID=America/New_York:20240818T093000
DTEND;TZID=America/New_York:20240818T103000
DTSTAMP:20260425T120324
CREATED:20231031T174454Z
LAST-MODIFIED:20231031T174454Z
UID:10015091-1723973400-1723977000@downtownwpb.com
SUMMARY:Sunday Yoga
DESCRIPTION:Visit Temanatu Kava Bar every Sunday at 9:30 a.m. for Power Vinyasa Flow Yoga! \nIt costs $15 to participate and the price includes one shell\, one tea or a bottle of water.
URL:https://downtownwpb.com/event/sunday-yoga-2/2024-08-18/
LOCATION:Temanatu A Nakamal Tea Room\, 330 Clematis Street Unit 102\, West Palm Beach\, FL\, 33401\, United States
ATTACH;FMTTYPE=image/jpeg:https://downtownwpb.com/wp-content/uploads/Temanatu-Sunday-Yoga.jpg
END:VEVENT
BEGIN:VEVENT
DTSTART;TZID=America/New_York:20240811T093000
DTEND;TZID=America/New_York:20240811T103000
DTSTAMP:20260425T120324
CREATED:20231031T174454Z
LAST-MODIFIED:20231031T174454Z
UID:10015090-1723368600-1723372200@downtownwpb.com
SUMMARY:Sunday Yoga
DESCRIPTION:Visit Temanatu Kava Bar every Sunday at 9:30 a.m. for Power Vinyasa Flow Yoga! \nIt costs $15 to participate and the price includes one shell\, one tea or a bottle of water.
URL:https://downtownwpb.com/event/sunday-yoga-2/2024-08-11/
LOCATION:Temanatu A Nakamal Tea Room\, 330 Clematis Street Unit 102\, West Palm Beach\, FL\, 33401\, United States
ATTACH;FMTTYPE=image/jpeg:https://downtownwpb.com/wp-content/uploads/Temanatu-Sunday-Yoga.jpg
END:VEVENT
BEGIN:VEVENT
DTSTART;TZID=America/New_York:20240804T093000
DTEND;TZID=America/New_York:20240804T103000
DTSTAMP:20260425T120324
CREATED:20231031T174454Z
LAST-MODIFIED:20231031T174454Z
UID:10015089-1722763800-1722767400@downtownwpb.com
SUMMARY:Sunday Yoga
DESCRIPTION:Visit Temanatu Kava Bar every Sunday at 9:30 a.m. for Power Vinyasa Flow Yoga! \nIt costs $15 to participate and the price includes one shell\, one tea or a bottle of water.
URL:https://downtownwpb.com/event/sunday-yoga-2/2024-08-04/
LOCATION:Temanatu A Nakamal Tea Room\, 330 Clematis Street Unit 102\, West Palm Beach\, FL\, 33401\, United States
ATTACH;FMTTYPE=image/jpeg:https://downtownwpb.com/wp-content/uploads/Temanatu-Sunday-Yoga.jpg
END:VEVENT
BEGIN:VEVENT
DTSTART;TZID=America/New_York:20240728T093000
DTEND;TZID=America/New_York:20240728T103000
DTSTAMP:20260425T120324
CREATED:20231031T174454Z
LAST-MODIFIED:20231031T174454Z
UID:10015088-1722159000-1722162600@downtownwpb.com
SUMMARY:Sunday Yoga
DESCRIPTION:Visit Temanatu Kava Bar every Sunday at 9:30 a.m. for Power Vinyasa Flow Yoga! \nIt costs $15 to participate and the price includes one shell\, one tea or a bottle of water.
URL:https://downtownwpb.com/event/sunday-yoga-2/2024-07-28/
LOCATION:Temanatu A Nakamal Tea Room\, 330 Clematis Street Unit 102\, West Palm Beach\, FL\, 33401\, United States
ATTACH;FMTTYPE=image/jpeg:https://downtownwpb.com/wp-content/uploads/Temanatu-Sunday-Yoga.jpg
END:VEVENT
BEGIN:VEVENT
DTSTART;TZID=America/New_York:20240721T093000
DTEND;TZID=America/New_York:20240721T103000
DTSTAMP:20260425T120324
CREATED:20231031T174454Z
LAST-MODIFIED:20231031T174454Z
UID:10015087-1721554200-1721557800@downtownwpb.com
SUMMARY:Sunday Yoga
DESCRIPTION:Visit Temanatu Kava Bar every Sunday at 9:30 a.m. for Power Vinyasa Flow Yoga! \nIt costs $15 to participate and the price includes one shell\, one tea or a bottle of water.
URL:https://downtownwpb.com/event/sunday-yoga-2/2024-07-21/
LOCATION:Temanatu A Nakamal Tea Room\, 330 Clematis Street Unit 102\, West Palm Beach\, FL\, 33401\, United States
ATTACH;FMTTYPE=image/jpeg:https://downtownwpb.com/wp-content/uploads/Temanatu-Sunday-Yoga.jpg
END:VEVENT
BEGIN:VEVENT
DTSTART;TZID=America/New_York:20240714T093000
DTEND;TZID=America/New_York:20240714T103000
DTSTAMP:20260425T120324
CREATED:20231031T174454Z
LAST-MODIFIED:20231031T174454Z
UID:10015086-1720949400-1720953000@downtownwpb.com
SUMMARY:Sunday Yoga
DESCRIPTION:Visit Temanatu Kava Bar every Sunday at 9:30 a.m. for Power Vinyasa Flow Yoga! \nIt costs $15 to participate and the price includes one shell\, one tea or a bottle of water.
URL:https://downtownwpb.com/event/sunday-yoga-2/2024-07-14/
LOCATION:Temanatu A Nakamal Tea Room\, 330 Clematis Street Unit 102\, West Palm Beach\, FL\, 33401\, United States
ATTACH;FMTTYPE=image/jpeg:https://downtownwpb.com/wp-content/uploads/Temanatu-Sunday-Yoga.jpg
END:VEVENT
END:VCALENDAR