BEGIN:VCALENDAR
VERSION:2.0
PRODID:-//West Palm Beach - ECPv6.15.5//NONSGML v1.0//EN
CALSCALE:GREGORIAN
METHOD:PUBLISH
X-WR-CALNAME:West Palm Beach
X-ORIGINAL-URL:https://downtownwpb.com
X-WR-CALDESC:Events for West Palm Beach
REFRESH-INTERVAL;VALUE=DURATION:PT1H
X-Robots-Tag:noindex
X-PUBLISHED-TTL:PT1H
BEGIN:VTIMEZONE
TZID:America/New_York
BEGIN:DAYLIGHT
TZOFFSETFROM:-0500
TZOFFSETTO:-0400
TZNAME:EDT
DTSTART:20240310T070000
END:DAYLIGHT
BEGIN:STANDARD
TZOFFSETFROM:-0400
TZOFFSETTO:-0500
TZNAME:EST
DTSTART:20241103T060000
END:STANDARD
BEGIN:DAYLIGHT
TZOFFSETFROM:-0500
TZOFFSETTO:-0400
TZNAME:EDT
DTSTART:20250309T070000
END:DAYLIGHT
BEGIN:STANDARD
TZOFFSETFROM:-0400
TZOFFSETTO:-0500
TZNAME:EST
DTSTART:20251102T060000
END:STANDARD
END:VTIMEZONE
BEGIN:VEVENT
DTSTART;TZID=America/New_York:20250720T093000
DTEND;TZID=America/New_York:20250720T103000
DTSTAMP:20260425T102414
CREATED:20231031T174454Z
LAST-MODIFIED:20231031T174454Z
UID:10015139-1753003800-1753007400@downtownwpb.com
SUMMARY:Sunday Yoga
DESCRIPTION:Visit Temanatu Kava Bar every Sunday at 9:30 a.m. for Power Vinyasa Flow Yoga! \nIt costs $15 to participate and the price includes one shell\, one tea or a bottle of water.
URL:https://downtownwpb.com/event/sunday-yoga-2/2025-07-20/
LOCATION:Temanatu A Nakamal Tea Room\, 330 Clematis Street Unit 102\, West Palm Beach\, FL\, 33401\, United States
ATTACH;FMTTYPE=image/jpeg:https://downtownwpb.com/wp-content/uploads/Temanatu-Sunday-Yoga.jpg
END:VEVENT
BEGIN:VEVENT
DTSTART;TZID=America/New_York:20250713T093000
DTEND;TZID=America/New_York:20250713T103000
DTSTAMP:20260425T102414
CREATED:20231031T174454Z
LAST-MODIFIED:20231031T174454Z
UID:10015138-1752399000-1752402600@downtownwpb.com
SUMMARY:Sunday Yoga
DESCRIPTION:Visit Temanatu Kava Bar every Sunday at 9:30 a.m. for Power Vinyasa Flow Yoga! \nIt costs $15 to participate and the price includes one shell\, one tea or a bottle of water.
URL:https://downtownwpb.com/event/sunday-yoga-2/2025-07-13/
LOCATION:Temanatu A Nakamal Tea Room\, 330 Clematis Street Unit 102\, West Palm Beach\, FL\, 33401\, United States
ATTACH;FMTTYPE=image/jpeg:https://downtownwpb.com/wp-content/uploads/Temanatu-Sunday-Yoga.jpg
END:VEVENT
BEGIN:VEVENT
DTSTART;TZID=America/New_York:20250706T093000
DTEND;TZID=America/New_York:20250706T103000
DTSTAMP:20260425T102414
CREATED:20231031T174454Z
LAST-MODIFIED:20231031T174454Z
UID:10015137-1751794200-1751797800@downtownwpb.com
SUMMARY:Sunday Yoga
DESCRIPTION:Visit Temanatu Kava Bar every Sunday at 9:30 a.m. for Power Vinyasa Flow Yoga! \nIt costs $15 to participate and the price includes one shell\, one tea or a bottle of water.
URL:https://downtownwpb.com/event/sunday-yoga-2/2025-07-06/
LOCATION:Temanatu A Nakamal Tea Room\, 330 Clematis Street Unit 102\, West Palm Beach\, FL\, 33401\, United States
ATTACH;FMTTYPE=image/jpeg:https://downtownwpb.com/wp-content/uploads/Temanatu-Sunday-Yoga.jpg
END:VEVENT
BEGIN:VEVENT
DTSTART;TZID=America/New_York:20250629T093000
DTEND;TZID=America/New_York:20250629T103000
DTSTAMP:20260425T102414
CREATED:20231031T174454Z
LAST-MODIFIED:20231031T174454Z
UID:10015136-1751189400-1751193000@downtownwpb.com
SUMMARY:Sunday Yoga
DESCRIPTION:Visit Temanatu Kava Bar every Sunday at 9:30 a.m. for Power Vinyasa Flow Yoga! \nIt costs $15 to participate and the price includes one shell\, one tea or a bottle of water.
URL:https://downtownwpb.com/event/sunday-yoga-2/2025-06-29/
LOCATION:Temanatu A Nakamal Tea Room\, 330 Clematis Street Unit 102\, West Palm Beach\, FL\, 33401\, United States
ATTACH;FMTTYPE=image/jpeg:https://downtownwpb.com/wp-content/uploads/Temanatu-Sunday-Yoga.jpg
END:VEVENT
BEGIN:VEVENT
DTSTART;TZID=America/New_York:20250622T093000
DTEND;TZID=America/New_York:20250622T103000
DTSTAMP:20260425T102414
CREATED:20231031T174454Z
LAST-MODIFIED:20231031T174454Z
UID:10015135-1750584600-1750588200@downtownwpb.com
SUMMARY:Sunday Yoga
DESCRIPTION:Visit Temanatu Kava Bar every Sunday at 9:30 a.m. for Power Vinyasa Flow Yoga! \nIt costs $15 to participate and the price includes one shell\, one tea or a bottle of water.
URL:https://downtownwpb.com/event/sunday-yoga-2/2025-06-22/
LOCATION:Temanatu A Nakamal Tea Room\, 330 Clematis Street Unit 102\, West Palm Beach\, FL\, 33401\, United States
ATTACH;FMTTYPE=image/jpeg:https://downtownwpb.com/wp-content/uploads/Temanatu-Sunday-Yoga.jpg
END:VEVENT
BEGIN:VEVENT
DTSTART;TZID=America/New_York:20250615T093000
DTEND;TZID=America/New_York:20250615T103000
DTSTAMP:20260425T102414
CREATED:20231031T174454Z
LAST-MODIFIED:20231031T174454Z
UID:10015134-1749979800-1749983400@downtownwpb.com
SUMMARY:Sunday Yoga
DESCRIPTION:Visit Temanatu Kava Bar every Sunday at 9:30 a.m. for Power Vinyasa Flow Yoga! \nIt costs $15 to participate and the price includes one shell\, one tea or a bottle of water.
URL:https://downtownwpb.com/event/sunday-yoga-2/2025-06-15/
LOCATION:Temanatu A Nakamal Tea Room\, 330 Clematis Street Unit 102\, West Palm Beach\, FL\, 33401\, United States
ATTACH;FMTTYPE=image/jpeg:https://downtownwpb.com/wp-content/uploads/Temanatu-Sunday-Yoga.jpg
END:VEVENT
BEGIN:VEVENT
DTSTART;TZID=America/New_York:20250608T093000
DTEND;TZID=America/New_York:20250608T103000
DTSTAMP:20260425T102414
CREATED:20231031T174454Z
LAST-MODIFIED:20231031T174454Z
UID:10015133-1749375000-1749378600@downtownwpb.com
SUMMARY:Sunday Yoga
DESCRIPTION:Visit Temanatu Kava Bar every Sunday at 9:30 a.m. for Power Vinyasa Flow Yoga! \nIt costs $15 to participate and the price includes one shell\, one tea or a bottle of water.
URL:https://downtownwpb.com/event/sunday-yoga-2/2025-06-08/
LOCATION:Temanatu A Nakamal Tea Room\, 330 Clematis Street Unit 102\, West Palm Beach\, FL\, 33401\, United States
ATTACH;FMTTYPE=image/jpeg:https://downtownwpb.com/wp-content/uploads/Temanatu-Sunday-Yoga.jpg
END:VEVENT
BEGIN:VEVENT
DTSTART;TZID=America/New_York:20250601T093000
DTEND;TZID=America/New_York:20250601T103000
DTSTAMP:20260425T102414
CREATED:20231031T174454Z
LAST-MODIFIED:20231031T174454Z
UID:10015132-1748770200-1748773800@downtownwpb.com
SUMMARY:Sunday Yoga
DESCRIPTION:Visit Temanatu Kava Bar every Sunday at 9:30 a.m. for Power Vinyasa Flow Yoga! \nIt costs $15 to participate and the price includes one shell\, one tea or a bottle of water.
URL:https://downtownwpb.com/event/sunday-yoga-2/2025-06-01/
LOCATION:Temanatu A Nakamal Tea Room\, 330 Clematis Street Unit 102\, West Palm Beach\, FL\, 33401\, United States
ATTACH;FMTTYPE=image/jpeg:https://downtownwpb.com/wp-content/uploads/Temanatu-Sunday-Yoga.jpg
END:VEVENT
BEGIN:VEVENT
DTSTART;TZID=America/New_York:20250525T093000
DTEND;TZID=America/New_York:20250525T103000
DTSTAMP:20260425T102414
CREATED:20231031T174454Z
LAST-MODIFIED:20231031T174454Z
UID:10015131-1748165400-1748169000@downtownwpb.com
SUMMARY:Sunday Yoga
DESCRIPTION:Visit Temanatu Kava Bar every Sunday at 9:30 a.m. for Power Vinyasa Flow Yoga! \nIt costs $15 to participate and the price includes one shell\, one tea or a bottle of water.
URL:https://downtownwpb.com/event/sunday-yoga-2/2025-05-25/
LOCATION:Temanatu A Nakamal Tea Room\, 330 Clematis Street Unit 102\, West Palm Beach\, FL\, 33401\, United States
ATTACH;FMTTYPE=image/jpeg:https://downtownwpb.com/wp-content/uploads/Temanatu-Sunday-Yoga.jpg
END:VEVENT
BEGIN:VEVENT
DTSTART;TZID=America/New_York:20250518T093000
DTEND;TZID=America/New_York:20250518T103000
DTSTAMP:20260425T102414
CREATED:20231031T174454Z
LAST-MODIFIED:20231031T174454Z
UID:10015130-1747560600-1747564200@downtownwpb.com
SUMMARY:Sunday Yoga
DESCRIPTION:Visit Temanatu Kava Bar every Sunday at 9:30 a.m. for Power Vinyasa Flow Yoga! \nIt costs $15 to participate and the price includes one shell\, one tea or a bottle of water.
URL:https://downtownwpb.com/event/sunday-yoga-2/2025-05-18/
LOCATION:Temanatu A Nakamal Tea Room\, 330 Clematis Street Unit 102\, West Palm Beach\, FL\, 33401\, United States
ATTACH;FMTTYPE=image/jpeg:https://downtownwpb.com/wp-content/uploads/Temanatu-Sunday-Yoga.jpg
END:VEVENT
BEGIN:VEVENT
DTSTART;TZID=America/New_York:20250511T093000
DTEND;TZID=America/New_York:20250511T103000
DTSTAMP:20260425T102414
CREATED:20231031T174454Z
LAST-MODIFIED:20231031T174454Z
UID:10015129-1746955800-1746959400@downtownwpb.com
SUMMARY:Sunday Yoga
DESCRIPTION:Visit Temanatu Kava Bar every Sunday at 9:30 a.m. for Power Vinyasa Flow Yoga! \nIt costs $15 to participate and the price includes one shell\, one tea or a bottle of water.
URL:https://downtownwpb.com/event/sunday-yoga-2/2025-05-11/
LOCATION:Temanatu A Nakamal Tea Room\, 330 Clematis Street Unit 102\, West Palm Beach\, FL\, 33401\, United States
ATTACH;FMTTYPE=image/jpeg:https://downtownwpb.com/wp-content/uploads/Temanatu-Sunday-Yoga.jpg
END:VEVENT
BEGIN:VEVENT
DTSTART;TZID=America/New_York:20250504T093000
DTEND;TZID=America/New_York:20250504T103000
DTSTAMP:20260425T102414
CREATED:20231031T174454Z
LAST-MODIFIED:20231031T174454Z
UID:10015128-1746351000-1746354600@downtownwpb.com
SUMMARY:Sunday Yoga
DESCRIPTION:Visit Temanatu Kava Bar every Sunday at 9:30 a.m. for Power Vinyasa Flow Yoga! \nIt costs $15 to participate and the price includes one shell\, one tea or a bottle of water.
URL:https://downtownwpb.com/event/sunday-yoga-2/2025-05-04/
LOCATION:Temanatu A Nakamal Tea Room\, 330 Clematis Street Unit 102\, West Palm Beach\, FL\, 33401\, United States
ATTACH;FMTTYPE=image/jpeg:https://downtownwpb.com/wp-content/uploads/Temanatu-Sunday-Yoga.jpg
END:VEVENT
BEGIN:VEVENT
DTSTART;TZID=America/New_York:20250427T093000
DTEND;TZID=America/New_York:20250427T103000
DTSTAMP:20260425T102414
CREATED:20231031T174454Z
LAST-MODIFIED:20231031T174454Z
UID:10015127-1745746200-1745749800@downtownwpb.com
SUMMARY:Sunday Yoga
DESCRIPTION:Visit Temanatu Kava Bar every Sunday at 9:30 a.m. for Power Vinyasa Flow Yoga! \nIt costs $15 to participate and the price includes one shell\, one tea or a bottle of water.
URL:https://downtownwpb.com/event/sunday-yoga-2/2025-04-27/
LOCATION:Temanatu A Nakamal Tea Room\, 330 Clematis Street Unit 102\, West Palm Beach\, FL\, 33401\, United States
ATTACH;FMTTYPE=image/jpeg:https://downtownwpb.com/wp-content/uploads/Temanatu-Sunday-Yoga.jpg
END:VEVENT
BEGIN:VEVENT
DTSTART;TZID=America/New_York:20250420T093000
DTEND;TZID=America/New_York:20250420T103000
DTSTAMP:20260425T102414
CREATED:20231031T174454Z
LAST-MODIFIED:20231031T174454Z
UID:10015126-1745141400-1745145000@downtownwpb.com
SUMMARY:Sunday Yoga
DESCRIPTION:Visit Temanatu Kava Bar every Sunday at 9:30 a.m. for Power Vinyasa Flow Yoga! \nIt costs $15 to participate and the price includes one shell\, one tea or a bottle of water.
URL:https://downtownwpb.com/event/sunday-yoga-2/2025-04-20/
LOCATION:Temanatu A Nakamal Tea Room\, 330 Clematis Street Unit 102\, West Palm Beach\, FL\, 33401\, United States
ATTACH;FMTTYPE=image/jpeg:https://downtownwpb.com/wp-content/uploads/Temanatu-Sunday-Yoga.jpg
END:VEVENT
BEGIN:VEVENT
DTSTART;TZID=America/New_York:20250413T093000
DTEND;TZID=America/New_York:20250413T103000
DTSTAMP:20260425T102414
CREATED:20231031T174454Z
LAST-MODIFIED:20231031T174454Z
UID:10015125-1744536600-1744540200@downtownwpb.com
SUMMARY:Sunday Yoga
DESCRIPTION:Visit Temanatu Kava Bar every Sunday at 9:30 a.m. for Power Vinyasa Flow Yoga! \nIt costs $15 to participate and the price includes one shell\, one tea or a bottle of water.
URL:https://downtownwpb.com/event/sunday-yoga-2/2025-04-13/
LOCATION:Temanatu A Nakamal Tea Room\, 330 Clematis Street Unit 102\, West Palm Beach\, FL\, 33401\, United States
ATTACH;FMTTYPE=image/jpeg:https://downtownwpb.com/wp-content/uploads/Temanatu-Sunday-Yoga.jpg
END:VEVENT
BEGIN:VEVENT
DTSTART;TZID=America/New_York:20250406T093000
DTEND;TZID=America/New_York:20250406T103000
DTSTAMP:20260425T102414
CREATED:20231031T174454Z
LAST-MODIFIED:20231031T174454Z
UID:10015124-1743931800-1743935400@downtownwpb.com
SUMMARY:Sunday Yoga
DESCRIPTION:Visit Temanatu Kava Bar every Sunday at 9:30 a.m. for Power Vinyasa Flow Yoga! \nIt costs $15 to participate and the price includes one shell\, one tea or a bottle of water.
URL:https://downtownwpb.com/event/sunday-yoga-2/2025-04-06/
LOCATION:Temanatu A Nakamal Tea Room\, 330 Clematis Street Unit 102\, West Palm Beach\, FL\, 33401\, United States
ATTACH;FMTTYPE=image/jpeg:https://downtownwpb.com/wp-content/uploads/Temanatu-Sunday-Yoga.jpg
END:VEVENT
BEGIN:VEVENT
DTSTART;TZID=America/New_York:20250330T093000
DTEND;TZID=America/New_York:20250330T103000
DTSTAMP:20260425T102414
CREATED:20231031T174454Z
LAST-MODIFIED:20231031T174454Z
UID:10015123-1743327000-1743330600@downtownwpb.com
SUMMARY:Sunday Yoga
DESCRIPTION:Visit Temanatu Kava Bar every Sunday at 9:30 a.m. for Power Vinyasa Flow Yoga! \nIt costs $15 to participate and the price includes one shell\, one tea or a bottle of water.
URL:https://downtownwpb.com/event/sunday-yoga-2/2025-03-30/
LOCATION:Temanatu A Nakamal Tea Room\, 330 Clematis Street Unit 102\, West Palm Beach\, FL\, 33401\, United States
ATTACH;FMTTYPE=image/jpeg:https://downtownwpb.com/wp-content/uploads/Temanatu-Sunday-Yoga.jpg
END:VEVENT
BEGIN:VEVENT
DTSTART;TZID=America/New_York:20250323T093000
DTEND;TZID=America/New_York:20250323T103000
DTSTAMP:20260425T102414
CREATED:20231031T174454Z
LAST-MODIFIED:20231031T174454Z
UID:10015122-1742722200-1742725800@downtownwpb.com
SUMMARY:Sunday Yoga
DESCRIPTION:Visit Temanatu Kava Bar every Sunday at 9:30 a.m. for Power Vinyasa Flow Yoga! \nIt costs $15 to participate and the price includes one shell\, one tea or a bottle of water.
URL:https://downtownwpb.com/event/sunday-yoga-2/2025-03-23/
LOCATION:Temanatu A Nakamal Tea Room\, 330 Clematis Street Unit 102\, West Palm Beach\, FL\, 33401\, United States
ATTACH;FMTTYPE=image/jpeg:https://downtownwpb.com/wp-content/uploads/Temanatu-Sunday-Yoga.jpg
END:VEVENT
BEGIN:VEVENT
DTSTART;TZID=America/New_York:20250316T093000
DTEND;TZID=America/New_York:20250316T103000
DTSTAMP:20260425T102414
CREATED:20231031T174454Z
LAST-MODIFIED:20231031T174454Z
UID:10015121-1742117400-1742121000@downtownwpb.com
SUMMARY:Sunday Yoga
DESCRIPTION:Visit Temanatu Kava Bar every Sunday at 9:30 a.m. for Power Vinyasa Flow Yoga! \nIt costs $15 to participate and the price includes one shell\, one tea or a bottle of water.
URL:https://downtownwpb.com/event/sunday-yoga-2/2025-03-16/
LOCATION:Temanatu A Nakamal Tea Room\, 330 Clematis Street Unit 102\, West Palm Beach\, FL\, 33401\, United States
ATTACH;FMTTYPE=image/jpeg:https://downtownwpb.com/wp-content/uploads/Temanatu-Sunday-Yoga.jpg
END:VEVENT
BEGIN:VEVENT
DTSTART;TZID=America/New_York:20250309T093000
DTEND;TZID=America/New_York:20250309T103000
DTSTAMP:20260425T102414
CREATED:20231031T174454Z
LAST-MODIFIED:20231031T174454Z
UID:10015120-1741512600-1741516200@downtownwpb.com
SUMMARY:Sunday Yoga
DESCRIPTION:Visit Temanatu Kava Bar every Sunday at 9:30 a.m. for Power Vinyasa Flow Yoga! \nIt costs $15 to participate and the price includes one shell\, one tea or a bottle of water.
URL:https://downtownwpb.com/event/sunday-yoga-2/2025-03-09/
LOCATION:Temanatu A Nakamal Tea Room\, 330 Clematis Street Unit 102\, West Palm Beach\, FL\, 33401\, United States
ATTACH;FMTTYPE=image/jpeg:https://downtownwpb.com/wp-content/uploads/Temanatu-Sunday-Yoga.jpg
END:VEVENT
BEGIN:VEVENT
DTSTART;TZID=America/New_York:20250302T093000
DTEND;TZID=America/New_York:20250302T103000
DTSTAMP:20260425T102414
CREATED:20231031T174454Z
LAST-MODIFIED:20231031T174454Z
UID:10015119-1740907800-1740911400@downtownwpb.com
SUMMARY:Sunday Yoga
DESCRIPTION:Visit Temanatu Kava Bar every Sunday at 9:30 a.m. for Power Vinyasa Flow Yoga! \nIt costs $15 to participate and the price includes one shell\, one tea or a bottle of water.
URL:https://downtownwpb.com/event/sunday-yoga-2/2025-03-02/
LOCATION:Temanatu A Nakamal Tea Room\, 330 Clematis Street Unit 102\, West Palm Beach\, FL\, 33401\, United States
ATTACH;FMTTYPE=image/jpeg:https://downtownwpb.com/wp-content/uploads/Temanatu-Sunday-Yoga.jpg
END:VEVENT
BEGIN:VEVENT
DTSTART;TZID=America/New_York:20250223T093000
DTEND;TZID=America/New_York:20250223T103000
DTSTAMP:20260425T102414
CREATED:20231031T174454Z
LAST-MODIFIED:20231031T174454Z
UID:10015118-1740303000-1740306600@downtownwpb.com
SUMMARY:Sunday Yoga
DESCRIPTION:Visit Temanatu Kava Bar every Sunday at 9:30 a.m. for Power Vinyasa Flow Yoga! \nIt costs $15 to participate and the price includes one shell\, one tea or a bottle of water.
URL:https://downtownwpb.com/event/sunday-yoga-2/2025-02-23/
LOCATION:Temanatu A Nakamal Tea Room\, 330 Clematis Street Unit 102\, West Palm Beach\, FL\, 33401\, United States
ATTACH;FMTTYPE=image/jpeg:https://downtownwpb.com/wp-content/uploads/Temanatu-Sunday-Yoga.jpg
END:VEVENT
BEGIN:VEVENT
DTSTART;TZID=America/New_York:20250216T093000
DTEND;TZID=America/New_York:20250216T103000
DTSTAMP:20260425T102414
CREATED:20231031T174454Z
LAST-MODIFIED:20231031T174454Z
UID:10015117-1739698200-1739701800@downtownwpb.com
SUMMARY:Sunday Yoga
DESCRIPTION:Visit Temanatu Kava Bar every Sunday at 9:30 a.m. for Power Vinyasa Flow Yoga! \nIt costs $15 to participate and the price includes one shell\, one tea or a bottle of water.
URL:https://downtownwpb.com/event/sunday-yoga-2/2025-02-16/
LOCATION:Temanatu A Nakamal Tea Room\, 330 Clematis Street Unit 102\, West Palm Beach\, FL\, 33401\, United States
ATTACH;FMTTYPE=image/jpeg:https://downtownwpb.com/wp-content/uploads/Temanatu-Sunday-Yoga.jpg
END:VEVENT
BEGIN:VEVENT
DTSTART;TZID=America/New_York:20250209T093000
DTEND;TZID=America/New_York:20250209T103000
DTSTAMP:20260425T102414
CREATED:20231031T174454Z
LAST-MODIFIED:20231031T174454Z
UID:10015116-1739093400-1739097000@downtownwpb.com
SUMMARY:Sunday Yoga
DESCRIPTION:Visit Temanatu Kava Bar every Sunday at 9:30 a.m. for Power Vinyasa Flow Yoga! \nIt costs $15 to participate and the price includes one shell\, one tea or a bottle of water.
URL:https://downtownwpb.com/event/sunday-yoga-2/2025-02-09/
LOCATION:Temanatu A Nakamal Tea Room\, 330 Clematis Street Unit 102\, West Palm Beach\, FL\, 33401\, United States
ATTACH;FMTTYPE=image/jpeg:https://downtownwpb.com/wp-content/uploads/Temanatu-Sunday-Yoga.jpg
END:VEVENT
BEGIN:VEVENT
DTSTART;TZID=America/New_York:20250202T093000
DTEND;TZID=America/New_York:20250202T103000
DTSTAMP:20260425T102414
CREATED:20231031T174454Z
LAST-MODIFIED:20231031T174454Z
UID:10015115-1738488600-1738492200@downtownwpb.com
SUMMARY:Sunday Yoga
DESCRIPTION:Visit Temanatu Kava Bar every Sunday at 9:30 a.m. for Power Vinyasa Flow Yoga! \nIt costs $15 to participate and the price includes one shell\, one tea or a bottle of water.
URL:https://downtownwpb.com/event/sunday-yoga-2/2025-02-02/
LOCATION:Temanatu A Nakamal Tea Room\, 330 Clematis Street Unit 102\, West Palm Beach\, FL\, 33401\, United States
ATTACH;FMTTYPE=image/jpeg:https://downtownwpb.com/wp-content/uploads/Temanatu-Sunday-Yoga.jpg
END:VEVENT
BEGIN:VEVENT
DTSTART;TZID=America/New_York:20250126T093000
DTEND;TZID=America/New_York:20250126T103000
DTSTAMP:20260425T102414
CREATED:20231031T174454Z
LAST-MODIFIED:20231031T174454Z
UID:10015114-1737883800-1737887400@downtownwpb.com
SUMMARY:Sunday Yoga
DESCRIPTION:Visit Temanatu Kava Bar every Sunday at 9:30 a.m. for Power Vinyasa Flow Yoga! \nIt costs $15 to participate and the price includes one shell\, one tea or a bottle of water.
URL:https://downtownwpb.com/event/sunday-yoga-2/2025-01-26/
LOCATION:Temanatu A Nakamal Tea Room\, 330 Clematis Street Unit 102\, West Palm Beach\, FL\, 33401\, United States
ATTACH;FMTTYPE=image/jpeg:https://downtownwpb.com/wp-content/uploads/Temanatu-Sunday-Yoga.jpg
END:VEVENT
BEGIN:VEVENT
DTSTART;TZID=America/New_York:20250119T093000
DTEND;TZID=America/New_York:20250119T103000
DTSTAMP:20260425T102414
CREATED:20231031T174454Z
LAST-MODIFIED:20231031T174454Z
UID:10015113-1737279000-1737282600@downtownwpb.com
SUMMARY:Sunday Yoga
DESCRIPTION:Visit Temanatu Kava Bar every Sunday at 9:30 a.m. for Power Vinyasa Flow Yoga! \nIt costs $15 to participate and the price includes one shell\, one tea or a bottle of water.
URL:https://downtownwpb.com/event/sunday-yoga-2/2025-01-19/
LOCATION:Temanatu A Nakamal Tea Room\, 330 Clematis Street Unit 102\, West Palm Beach\, FL\, 33401\, United States
ATTACH;FMTTYPE=image/jpeg:https://downtownwpb.com/wp-content/uploads/Temanatu-Sunday-Yoga.jpg
END:VEVENT
BEGIN:VEVENT
DTSTART;TZID=America/New_York:20250112T093000
DTEND;TZID=America/New_York:20250112T103000
DTSTAMP:20260425T102414
CREATED:20231031T174454Z
LAST-MODIFIED:20231031T174454Z
UID:10015112-1736674200-1736677800@downtownwpb.com
SUMMARY:Sunday Yoga
DESCRIPTION:Visit Temanatu Kava Bar every Sunday at 9:30 a.m. for Power Vinyasa Flow Yoga! \nIt costs $15 to participate and the price includes one shell\, one tea or a bottle of water.
URL:https://downtownwpb.com/event/sunday-yoga-2/2025-01-12/
LOCATION:Temanatu A Nakamal Tea Room\, 330 Clematis Street Unit 102\, West Palm Beach\, FL\, 33401\, United States
ATTACH;FMTTYPE=image/jpeg:https://downtownwpb.com/wp-content/uploads/Temanatu-Sunday-Yoga.jpg
END:VEVENT
BEGIN:VEVENT
DTSTART;TZID=America/New_York:20250105T093000
DTEND;TZID=America/New_York:20250105T103000
DTSTAMP:20260425T102414
CREATED:20231031T174454Z
LAST-MODIFIED:20231031T174454Z
UID:10015111-1736069400-1736073000@downtownwpb.com
SUMMARY:Sunday Yoga
DESCRIPTION:Visit Temanatu Kava Bar every Sunday at 9:30 a.m. for Power Vinyasa Flow Yoga! \nIt costs $15 to participate and the price includes one shell\, one tea or a bottle of water.
URL:https://downtownwpb.com/event/sunday-yoga-2/2025-01-05/
LOCATION:Temanatu A Nakamal Tea Room\, 330 Clematis Street Unit 102\, West Palm Beach\, FL\, 33401\, United States
ATTACH;FMTTYPE=image/jpeg:https://downtownwpb.com/wp-content/uploads/Temanatu-Sunday-Yoga.jpg
END:VEVENT
BEGIN:VEVENT
DTSTART;TZID=America/New_York:20241229T093000
DTEND;TZID=America/New_York:20241229T103000
DTSTAMP:20260425T102414
CREATED:20231031T174454Z
LAST-MODIFIED:20231031T174454Z
UID:10015110-1735464600-1735468200@downtownwpb.com
SUMMARY:Sunday Yoga
DESCRIPTION:Visit Temanatu Kava Bar every Sunday at 9:30 a.m. for Power Vinyasa Flow Yoga! \nIt costs $15 to participate and the price includes one shell\, one tea or a bottle of water.
URL:https://downtownwpb.com/event/sunday-yoga-2/2024-12-29/
LOCATION:Temanatu A Nakamal Tea Room\, 330 Clematis Street Unit 102\, West Palm Beach\, FL\, 33401\, United States
ATTACH;FMTTYPE=image/jpeg:https://downtownwpb.com/wp-content/uploads/Temanatu-Sunday-Yoga.jpg
END:VEVENT
END:VCALENDAR