BEGIN:VCALENDAR
VERSION:2.0
PRODID:-//West Palm Beach - ECPv6.15.5//NONSGML v1.0//EN
CALSCALE:GREGORIAN
METHOD:PUBLISH
X-ORIGINAL-URL:https://downtownwpb.com
X-WR-CALDESC:Events for West Palm Beach
REFRESH-INTERVAL;VALUE=DURATION:PT1H
X-Robots-Tag:noindex
X-PUBLISHED-TTL:PT1H
BEGIN:VTIMEZONE
TZID:America/New_York
BEGIN:DAYLIGHT
TZOFFSETFROM:-0500
TZOFFSETTO:-0400
TZNAME:EDT
DTSTART:20230312T070000
END:DAYLIGHT
BEGIN:STANDARD
TZOFFSETFROM:-0400
TZOFFSETTO:-0500
TZNAME:EST
DTSTART:20231105T060000
END:STANDARD
END:VTIMEZONE
BEGIN:VEVENT
DTSTART;TZID=America/New_York:20230925T190000
DTEND;TZID=America/New_York:20230925T210000
DTSTAMP:20260421T224132
CREATED:20230202T205737Z
LAST-MODIFIED:20230202T205737Z
UID:10013856-1695668400-1695675600@downtownwpb.com
SUMMARY:Trivia at Subculture Coffee
DESCRIPTION:Head to Subculture Coffee every Monday for Think and Drink Trivia from 7-9 p.m.! \nIt’s FREE to play and prizes are awarded for the top three teams. \nFor more information\, call (561) 318-5142.
URL:https://downtownwpb.com/event/trivia-at-subculture-coffee/2023-09-25/
LOCATION:Subculture Coffee\, 509 Clematis Street\, West Palm Beach\, FL\, 33401\, United States
CATEGORIES:Indoors
ATTACH;FMTTYPE=image/jpeg:https://downtownwpb.com/wp-content/uploads/Subculture-WPB.jpg
END:VEVENT
BEGIN:VEVENT
DTSTART;TZID=America/New_York:20230918T190000
DTEND;TZID=America/New_York:20230918T210000
DTSTAMP:20260421T224132
CREATED:20230202T205737Z
LAST-MODIFIED:20230202T205737Z
UID:10013855-1695063600-1695070800@downtownwpb.com
SUMMARY:Trivia at Subculture Coffee
DESCRIPTION:Head to Subculture Coffee every Monday for Think and Drink Trivia from 7-9 p.m.! \nIt’s FREE to play and prizes are awarded for the top three teams. \nFor more information\, call (561) 318-5142.
URL:https://downtownwpb.com/event/trivia-at-subculture-coffee/2023-09-18/
LOCATION:Subculture Coffee\, 509 Clematis Street\, West Palm Beach\, FL\, 33401\, United States
CATEGORIES:Indoors
ATTACH;FMTTYPE=image/jpeg:https://downtownwpb.com/wp-content/uploads/Subculture-WPB.jpg
END:VEVENT
BEGIN:VEVENT
DTSTART;TZID=America/New_York:20230911T190000
DTEND;TZID=America/New_York:20230911T210000
DTSTAMP:20260421T224132
CREATED:20230202T205737Z
LAST-MODIFIED:20230202T205737Z
UID:10013854-1694458800-1694466000@downtownwpb.com
SUMMARY:Trivia at Subculture Coffee
DESCRIPTION:Head to Subculture Coffee every Monday for Think and Drink Trivia from 7-9 p.m.! \nIt’s FREE to play and prizes are awarded for the top three teams. \nFor more information\, call (561) 318-5142.
URL:https://downtownwpb.com/event/trivia-at-subculture-coffee/2023-09-11/
LOCATION:Subculture Coffee\, 509 Clematis Street\, West Palm Beach\, FL\, 33401\, United States
CATEGORIES:Indoors
ATTACH;FMTTYPE=image/jpeg:https://downtownwpb.com/wp-content/uploads/Subculture-WPB.jpg
END:VEVENT
BEGIN:VEVENT
DTSTART;TZID=America/New_York:20230904T190000
DTEND;TZID=America/New_York:20230904T210000
DTSTAMP:20260421T224132
CREATED:20230202T205737Z
LAST-MODIFIED:20230202T205737Z
UID:10013853-1693854000-1693861200@downtownwpb.com
SUMMARY:Trivia at Subculture Coffee
DESCRIPTION:Head to Subculture Coffee every Monday for Think and Drink Trivia from 7-9 p.m.! \nIt’s FREE to play and prizes are awarded for the top three teams. \nFor more information\, call (561) 318-5142.
URL:https://downtownwpb.com/event/trivia-at-subculture-coffee/2023-09-04/
LOCATION:Subculture Coffee\, 509 Clematis Street\, West Palm Beach\, FL\, 33401\, United States
CATEGORIES:Indoors
ATTACH;FMTTYPE=image/jpeg:https://downtownwpb.com/wp-content/uploads/Subculture-WPB.jpg
END:VEVENT
BEGIN:VEVENT
DTSTART;TZID=America/New_York:20230828T190000
DTEND;TZID=America/New_York:20230828T210000
DTSTAMP:20260421T224132
CREATED:20230202T205737Z
LAST-MODIFIED:20230202T205737Z
UID:10013852-1693249200-1693256400@downtownwpb.com
SUMMARY:Trivia at Subculture Coffee
DESCRIPTION:Head to Subculture Coffee every Monday for Think and Drink Trivia from 7-9 p.m.! \nIt’s FREE to play and prizes are awarded for the top three teams. \nFor more information\, call (561) 318-5142.
URL:https://downtownwpb.com/event/trivia-at-subculture-coffee/2023-08-28/
LOCATION:Subculture Coffee\, 509 Clematis Street\, West Palm Beach\, FL\, 33401\, United States
CATEGORIES:Indoors
ATTACH;FMTTYPE=image/jpeg:https://downtownwpb.com/wp-content/uploads/Subculture-WPB.jpg
END:VEVENT
BEGIN:VEVENT
DTSTART;TZID=America/New_York:20230821T190000
DTEND;TZID=America/New_York:20230821T210000
DTSTAMP:20260421T224132
CREATED:20230202T205737Z
LAST-MODIFIED:20230202T205737Z
UID:10013851-1692644400-1692651600@downtownwpb.com
SUMMARY:Trivia at Subculture Coffee
DESCRIPTION:Head to Subculture Coffee every Monday for Think and Drink Trivia from 7-9 p.m.! \nIt’s FREE to play and prizes are awarded for the top three teams. \nFor more information\, call (561) 318-5142.
URL:https://downtownwpb.com/event/trivia-at-subculture-coffee/2023-08-21/
LOCATION:Subculture Coffee\, 509 Clematis Street\, West Palm Beach\, FL\, 33401\, United States
CATEGORIES:Indoors
ATTACH;FMTTYPE=image/jpeg:https://downtownwpb.com/wp-content/uploads/Subculture-WPB.jpg
END:VEVENT
BEGIN:VEVENT
DTSTART;TZID=America/New_York:20230814T190000
DTEND;TZID=America/New_York:20230814T210000
DTSTAMP:20260421T224132
CREATED:20230202T205737Z
LAST-MODIFIED:20230202T205737Z
UID:10013850-1692039600-1692046800@downtownwpb.com
SUMMARY:Trivia at Subculture Coffee
DESCRIPTION:Head to Subculture Coffee every Monday for Think and Drink Trivia from 7-9 p.m.! \nIt’s FREE to play and prizes are awarded for the top three teams. \nFor more information\, call (561) 318-5142.
URL:https://downtownwpb.com/event/trivia-at-subculture-coffee/2023-08-14/
LOCATION:Subculture Coffee\, 509 Clematis Street\, West Palm Beach\, FL\, 33401\, United States
CATEGORIES:Indoors
ATTACH;FMTTYPE=image/jpeg:https://downtownwpb.com/wp-content/uploads/Subculture-WPB.jpg
END:VEVENT
BEGIN:VEVENT
DTSTART;TZID=America/New_York:20230807T190000
DTEND;TZID=America/New_York:20230807T210000
DTSTAMP:20260421T224132
CREATED:20230202T205737Z
LAST-MODIFIED:20230202T205737Z
UID:10013849-1691434800-1691442000@downtownwpb.com
SUMMARY:Trivia at Subculture Coffee
DESCRIPTION:Head to Subculture Coffee every Monday for Think and Drink Trivia from 7-9 p.m.! \nIt’s FREE to play and prizes are awarded for the top three teams. \nFor more information\, call (561) 318-5142.
URL:https://downtownwpb.com/event/trivia-at-subculture-coffee/2023-08-07/
LOCATION:Subculture Coffee\, 509 Clematis Street\, West Palm Beach\, FL\, 33401\, United States
CATEGORIES:Indoors
ATTACH;FMTTYPE=image/jpeg:https://downtownwpb.com/wp-content/uploads/Subculture-WPB.jpg
END:VEVENT
BEGIN:VEVENT
DTSTART;TZID=America/New_York:20230731T190000
DTEND;TZID=America/New_York:20230731T210000
DTSTAMP:20260421T224132
CREATED:20230202T205737Z
LAST-MODIFIED:20230202T205737Z
UID:10013848-1690830000-1690837200@downtownwpb.com
SUMMARY:Trivia at Subculture Coffee
DESCRIPTION:Head to Subculture Coffee every Monday for Think and Drink Trivia from 7-9 p.m.! \nIt’s FREE to play and prizes are awarded for the top three teams. \nFor more information\, call (561) 318-5142.
URL:https://downtownwpb.com/event/trivia-at-subculture-coffee/2023-07-31/
LOCATION:Subculture Coffee\, 509 Clematis Street\, West Palm Beach\, FL\, 33401\, United States
CATEGORIES:Indoors
ATTACH;FMTTYPE=image/jpeg:https://downtownwpb.com/wp-content/uploads/Subculture-WPB.jpg
END:VEVENT
BEGIN:VEVENT
DTSTART;TZID=America/New_York:20230724T190000
DTEND;TZID=America/New_York:20230724T210000
DTSTAMP:20260421T224132
CREATED:20230202T205737Z
LAST-MODIFIED:20230202T205737Z
UID:10013847-1690225200-1690232400@downtownwpb.com
SUMMARY:Trivia at Subculture Coffee
DESCRIPTION:Head to Subculture Coffee every Monday for Think and Drink Trivia from 7-9 p.m.! \nIt’s FREE to play and prizes are awarded for the top three teams. \nFor more information\, call (561) 318-5142.
URL:https://downtownwpb.com/event/trivia-at-subculture-coffee/2023-07-24/
LOCATION:Subculture Coffee\, 509 Clematis Street\, West Palm Beach\, FL\, 33401\, United States
CATEGORIES:Indoors
ATTACH;FMTTYPE=image/jpeg:https://downtownwpb.com/wp-content/uploads/Subculture-WPB.jpg
END:VEVENT
BEGIN:VEVENT
DTSTART;TZID=America/New_York:20230717T190000
DTEND;TZID=America/New_York:20230717T210000
DTSTAMP:20260421T224132
CREATED:20230202T205737Z
LAST-MODIFIED:20230202T205737Z
UID:10013846-1689620400-1689627600@downtownwpb.com
SUMMARY:Trivia at Subculture Coffee
DESCRIPTION:Head to Subculture Coffee every Monday for Think and Drink Trivia from 7-9 p.m.! \nIt’s FREE to play and prizes are awarded for the top three teams. \nFor more information\, call (561) 318-5142.
URL:https://downtownwpb.com/event/trivia-at-subculture-coffee/2023-07-17/
LOCATION:Subculture Coffee\, 509 Clematis Street\, West Palm Beach\, FL\, 33401\, United States
CATEGORIES:Indoors
ATTACH;FMTTYPE=image/jpeg:https://downtownwpb.com/wp-content/uploads/Subculture-WPB.jpg
END:VEVENT
BEGIN:VEVENT
DTSTART;TZID=America/New_York:20230710T190000
DTEND;TZID=America/New_York:20230710T210000
DTSTAMP:20260421T224132
CREATED:20230202T205737Z
LAST-MODIFIED:20230202T205737Z
UID:10013845-1689015600-1689022800@downtownwpb.com
SUMMARY:Trivia at Subculture Coffee
DESCRIPTION:Head to Subculture Coffee every Monday for Think and Drink Trivia from 7-9 p.m.! \nIt’s FREE to play and prizes are awarded for the top three teams. \nFor more information\, call (561) 318-5142.
URL:https://downtownwpb.com/event/trivia-at-subculture-coffee/2023-07-10/
LOCATION:Subculture Coffee\, 509 Clematis Street\, West Palm Beach\, FL\, 33401\, United States
CATEGORIES:Indoors
ATTACH;FMTTYPE=image/jpeg:https://downtownwpb.com/wp-content/uploads/Subculture-WPB.jpg
END:VEVENT
BEGIN:VEVENT
DTSTART;TZID=America/New_York:20230703T190000
DTEND;TZID=America/New_York:20230703T210000
DTSTAMP:20260421T224132
CREATED:20230202T205737Z
LAST-MODIFIED:20230202T205737Z
UID:10013844-1688410800-1688418000@downtownwpb.com
SUMMARY:Trivia at Subculture Coffee
DESCRIPTION:Head to Subculture Coffee every Monday for Think and Drink Trivia from 7-9 p.m.! \nIt’s FREE to play and prizes are awarded for the top three teams. \nFor more information\, call (561) 318-5142.
URL:https://downtownwpb.com/event/trivia-at-subculture-coffee/2023-07-03/
LOCATION:Subculture Coffee\, 509 Clematis Street\, West Palm Beach\, FL\, 33401\, United States
CATEGORIES:Indoors
ATTACH;FMTTYPE=image/jpeg:https://downtownwpb.com/wp-content/uploads/Subculture-WPB.jpg
END:VEVENT
BEGIN:VEVENT
DTSTART;TZID=America/New_York:20230626T190000
DTEND;TZID=America/New_York:20230626T210000
DTSTAMP:20260421T224132
CREATED:20230202T205737Z
LAST-MODIFIED:20230202T205737Z
UID:10013843-1687806000-1687813200@downtownwpb.com
SUMMARY:Trivia at Subculture Coffee
DESCRIPTION:Head to Subculture Coffee every Monday for Think and Drink Trivia from 7-9 p.m.! \nIt’s FREE to play and prizes are awarded for the top three teams. \nFor more information\, call (561) 318-5142.
URL:https://downtownwpb.com/event/trivia-at-subculture-coffee/2023-06-26/
LOCATION:Subculture Coffee\, 509 Clematis Street\, West Palm Beach\, FL\, 33401\, United States
CATEGORIES:Indoors
ATTACH;FMTTYPE=image/jpeg:https://downtownwpb.com/wp-content/uploads/Subculture-WPB.jpg
END:VEVENT
BEGIN:VEVENT
DTSTART;TZID=America/New_York:20230619T190000
DTEND;TZID=America/New_York:20230619T210000
DTSTAMP:20260421T224132
CREATED:20230202T205737Z
LAST-MODIFIED:20230202T205737Z
UID:10013842-1687201200-1687208400@downtownwpb.com
SUMMARY:Trivia at Subculture Coffee
DESCRIPTION:Head to Subculture Coffee every Monday for Think and Drink Trivia from 7-9 p.m.! \nIt’s FREE to play and prizes are awarded for the top three teams. \nFor more information\, call (561) 318-5142.
URL:https://downtownwpb.com/event/trivia-at-subculture-coffee/2023-06-19/
LOCATION:Subculture Coffee\, 509 Clematis Street\, West Palm Beach\, FL\, 33401\, United States
CATEGORIES:Indoors
ATTACH;FMTTYPE=image/jpeg:https://downtownwpb.com/wp-content/uploads/Subculture-WPB.jpg
END:VEVENT
BEGIN:VEVENT
DTSTART;TZID=America/New_York:20230612T190000
DTEND;TZID=America/New_York:20230612T210000
DTSTAMP:20260421T224132
CREATED:20230202T205737Z
LAST-MODIFIED:20230202T205737Z
UID:10013841-1686596400-1686603600@downtownwpb.com
SUMMARY:Trivia at Subculture Coffee
DESCRIPTION:Head to Subculture Coffee every Monday for Think and Drink Trivia from 7-9 p.m.! \nIt’s FREE to play and prizes are awarded for the top three teams. \nFor more information\, call (561) 318-5142.
URL:https://downtownwpb.com/event/trivia-at-subculture-coffee/2023-06-12/
LOCATION:Subculture Coffee\, 509 Clematis Street\, West Palm Beach\, FL\, 33401\, United States
CATEGORIES:Indoors
ATTACH;FMTTYPE=image/jpeg:https://downtownwpb.com/wp-content/uploads/Subculture-WPB.jpg
END:VEVENT
BEGIN:VEVENT
DTSTART;TZID=America/New_York:20230605T190000
DTEND;TZID=America/New_York:20230605T210000
DTSTAMP:20260421T224132
CREATED:20230202T205737Z
LAST-MODIFIED:20230202T205737Z
UID:10013840-1685991600-1685998800@downtownwpb.com
SUMMARY:Trivia at Subculture Coffee
DESCRIPTION:Head to Subculture Coffee every Monday for Think and Drink Trivia from 7-9 p.m.! \nIt’s FREE to play and prizes are awarded for the top three teams. \nFor more information\, call (561) 318-5142.
URL:https://downtownwpb.com/event/trivia-at-subculture-coffee/2023-06-05/
LOCATION:Subculture Coffee\, 509 Clematis Street\, West Palm Beach\, FL\, 33401\, United States
CATEGORIES:Indoors
ATTACH;FMTTYPE=image/jpeg:https://downtownwpb.com/wp-content/uploads/Subculture-WPB.jpg
END:VEVENT
BEGIN:VEVENT
DTSTART;TZID=America/New_York:20230529T190000
DTEND;TZID=America/New_York:20230529T210000
DTSTAMP:20260421T224132
CREATED:20230202T205737Z
LAST-MODIFIED:20230202T205737Z
UID:10013839-1685386800-1685394000@downtownwpb.com
SUMMARY:Trivia at Subculture Coffee
DESCRIPTION:Head to Subculture Coffee every Monday for Think and Drink Trivia from 7-9 p.m.! \nIt’s FREE to play and prizes are awarded for the top three teams. \nFor more information\, call (561) 318-5142.
URL:https://downtownwpb.com/event/trivia-at-subculture-coffee/2023-05-29/
LOCATION:Subculture Coffee\, 509 Clematis Street\, West Palm Beach\, FL\, 33401\, United States
CATEGORIES:Indoors
ATTACH;FMTTYPE=image/jpeg:https://downtownwpb.com/wp-content/uploads/Subculture-WPB.jpg
END:VEVENT
BEGIN:VEVENT
DTSTART;TZID=America/New_York:20230522T190000
DTEND;TZID=America/New_York:20230522T210000
DTSTAMP:20260421T224132
CREATED:20230202T205737Z
LAST-MODIFIED:20230202T205737Z
UID:10013838-1684782000-1684789200@downtownwpb.com
SUMMARY:Trivia at Subculture Coffee
DESCRIPTION:Head to Subculture Coffee every Monday for Think and Drink Trivia from 7-9 p.m.! \nIt’s FREE to play and prizes are awarded for the top three teams. \nFor more information\, call (561) 318-5142.
URL:https://downtownwpb.com/event/trivia-at-subculture-coffee/2023-05-22/
LOCATION:Subculture Coffee\, 509 Clematis Street\, West Palm Beach\, FL\, 33401\, United States
CATEGORIES:Indoors
ATTACH;FMTTYPE=image/jpeg:https://downtownwpb.com/wp-content/uploads/Subculture-WPB.jpg
END:VEVENT
BEGIN:VEVENT
DTSTART;TZID=America/New_York:20230515T190000
DTEND;TZID=America/New_York:20230515T210000
DTSTAMP:20260421T224132
CREATED:20230202T205737Z
LAST-MODIFIED:20230202T205737Z
UID:10013837-1684177200-1684184400@downtownwpb.com
SUMMARY:Trivia at Subculture Coffee
DESCRIPTION:Head to Subculture Coffee every Monday for Think and Drink Trivia from 7-9 p.m.! \nIt’s FREE to play and prizes are awarded for the top three teams. \nFor more information\, call (561) 318-5142.
URL:https://downtownwpb.com/event/trivia-at-subculture-coffee/2023-05-15/
LOCATION:Subculture Coffee\, 509 Clematis Street\, West Palm Beach\, FL\, 33401\, United States
CATEGORIES:Indoors
ATTACH;FMTTYPE=image/jpeg:https://downtownwpb.com/wp-content/uploads/Subculture-WPB.jpg
END:VEVENT
BEGIN:VEVENT
DTSTART;TZID=America/New_York:20230508T190000
DTEND;TZID=America/New_York:20230508T210000
DTSTAMP:20260421T224132
CREATED:20230202T205737Z
LAST-MODIFIED:20230202T205737Z
UID:10013836-1683572400-1683579600@downtownwpb.com
SUMMARY:Trivia at Subculture Coffee
DESCRIPTION:Head to Subculture Coffee every Monday for Think and Drink Trivia from 7-9 p.m.! \nIt’s FREE to play and prizes are awarded for the top three teams. \nFor more information\, call (561) 318-5142.
URL:https://downtownwpb.com/event/trivia-at-subculture-coffee/2023-05-08/
LOCATION:Subculture Coffee\, 509 Clematis Street\, West Palm Beach\, FL\, 33401\, United States
CATEGORIES:Indoors
ATTACH;FMTTYPE=image/jpeg:https://downtownwpb.com/wp-content/uploads/Subculture-WPB.jpg
END:VEVENT
BEGIN:VEVENT
DTSTART;TZID=America/New_York:20230501T190000
DTEND;TZID=America/New_York:20230501T210000
DTSTAMP:20260421T224132
CREATED:20230202T205737Z
LAST-MODIFIED:20230202T205737Z
UID:10013835-1682967600-1682974800@downtownwpb.com
SUMMARY:Trivia at Subculture Coffee
DESCRIPTION:Head to Subculture Coffee every Monday for Think and Drink Trivia from 7-9 p.m.! \nIt’s FREE to play and prizes are awarded for the top three teams. \nFor more information\, call (561) 318-5142.
URL:https://downtownwpb.com/event/trivia-at-subculture-coffee/2023-05-01/
LOCATION:Subculture Coffee\, 509 Clematis Street\, West Palm Beach\, FL\, 33401\, United States
CATEGORIES:Indoors
ATTACH;FMTTYPE=image/jpeg:https://downtownwpb.com/wp-content/uploads/Subculture-WPB.jpg
END:VEVENT
BEGIN:VEVENT
DTSTART;TZID=America/New_York:20230424T190000
DTEND;TZID=America/New_York:20230424T210000
DTSTAMP:20260421T224132
CREATED:20230202T205737Z
LAST-MODIFIED:20230202T205737Z
UID:10013834-1682362800-1682370000@downtownwpb.com
SUMMARY:Trivia at Subculture Coffee
DESCRIPTION:Head to Subculture Coffee every Monday for Think and Drink Trivia from 7-9 p.m.! \nIt’s FREE to play and prizes are awarded for the top three teams. \nFor more information\, call (561) 318-5142.
URL:https://downtownwpb.com/event/trivia-at-subculture-coffee/2023-04-24/
LOCATION:Subculture Coffee\, 509 Clematis Street\, West Palm Beach\, FL\, 33401\, United States
CATEGORIES:Indoors
ATTACH;FMTTYPE=image/jpeg:https://downtownwpb.com/wp-content/uploads/Subculture-WPB.jpg
END:VEVENT
BEGIN:VEVENT
DTSTART;TZID=America/New_York:20230417T190000
DTEND;TZID=America/New_York:20230417T210000
DTSTAMP:20260421T224132
CREATED:20230202T205737Z
LAST-MODIFIED:20230202T205737Z
UID:10013833-1681758000-1681765200@downtownwpb.com
SUMMARY:Trivia at Subculture Coffee
DESCRIPTION:Head to Subculture Coffee every Monday for Think and Drink Trivia from 7-9 p.m.! \nIt’s FREE to play and prizes are awarded for the top three teams. \nFor more information\, call (561) 318-5142.
URL:https://downtownwpb.com/event/trivia-at-subculture-coffee/2023-04-17/
LOCATION:Subculture Coffee\, 509 Clematis Street\, West Palm Beach\, FL\, 33401\, United States
CATEGORIES:Indoors
ATTACH;FMTTYPE=image/jpeg:https://downtownwpb.com/wp-content/uploads/Subculture-WPB.jpg
END:VEVENT
BEGIN:VEVENT
DTSTART;TZID=America/New_York:20230410T190000
DTEND;TZID=America/New_York:20230410T210000
DTSTAMP:20260421T224132
CREATED:20230202T205737Z
LAST-MODIFIED:20230202T205737Z
UID:10013832-1681153200-1681160400@downtownwpb.com
SUMMARY:Trivia at Subculture Coffee
DESCRIPTION:Head to Subculture Coffee every Monday for Think and Drink Trivia from 7-9 p.m.! \nIt’s FREE to play and prizes are awarded for the top three teams. \nFor more information\, call (561) 318-5142.
URL:https://downtownwpb.com/event/trivia-at-subculture-coffee/2023-04-10/
LOCATION:Subculture Coffee\, 509 Clematis Street\, West Palm Beach\, FL\, 33401\, United States
CATEGORIES:Indoors
ATTACH;FMTTYPE=image/jpeg:https://downtownwpb.com/wp-content/uploads/Subculture-WPB.jpg
END:VEVENT
BEGIN:VEVENT
DTSTART;TZID=America/New_York:20230403T190000
DTEND;TZID=America/New_York:20230403T210000
DTSTAMP:20260421T224132
CREATED:20230202T205737Z
LAST-MODIFIED:20230202T205737Z
UID:10013831-1680548400-1680555600@downtownwpb.com
SUMMARY:Trivia at Subculture Coffee
DESCRIPTION:Head to Subculture Coffee every Monday for Think and Drink Trivia from 7-9 p.m.! \nIt’s FREE to play and prizes are awarded for the top three teams. \nFor more information\, call (561) 318-5142.
URL:https://downtownwpb.com/event/trivia-at-subculture-coffee/2023-04-03/
LOCATION:Subculture Coffee\, 509 Clematis Street\, West Palm Beach\, FL\, 33401\, United States
CATEGORIES:Indoors
ATTACH;FMTTYPE=image/jpeg:https://downtownwpb.com/wp-content/uploads/Subculture-WPB.jpg
END:VEVENT
BEGIN:VEVENT
DTSTART;TZID=America/New_York:20230327T190000
DTEND;TZID=America/New_York:20230327T210000
DTSTAMP:20260421T224132
CREATED:20230202T205737Z
LAST-MODIFIED:20230202T205737Z
UID:10013830-1679943600-1679950800@downtownwpb.com
SUMMARY:Trivia at Subculture Coffee
DESCRIPTION:Head to Subculture Coffee every Monday for Think and Drink Trivia from 7-9 p.m.! \nIt’s FREE to play and prizes are awarded for the top three teams. \nFor more information\, call (561) 318-5142.
URL:https://downtownwpb.com/event/trivia-at-subculture-coffee/2023-03-27/
LOCATION:Subculture Coffee\, 509 Clematis Street\, West Palm Beach\, FL\, 33401\, United States
CATEGORIES:Indoors
ATTACH;FMTTYPE=image/jpeg:https://downtownwpb.com/wp-content/uploads/Subculture-WPB.jpg
END:VEVENT
BEGIN:VEVENT
DTSTART;TZID=America/New_York:20230320T190000
DTEND;TZID=America/New_York:20230320T210000
DTSTAMP:20260421T224132
CREATED:20230202T205737Z
LAST-MODIFIED:20230202T205737Z
UID:10013829-1679338800-1679346000@downtownwpb.com
SUMMARY:Trivia at Subculture Coffee
DESCRIPTION:Head to Subculture Coffee every Monday for Think and Drink Trivia from 7-9 p.m.! \nIt’s FREE to play and prizes are awarded for the top three teams. \nFor more information\, call (561) 318-5142.
URL:https://downtownwpb.com/event/trivia-at-subculture-coffee/2023-03-20/
LOCATION:Subculture Coffee\, 509 Clematis Street\, West Palm Beach\, FL\, 33401\, United States
CATEGORIES:Indoors
ATTACH;FMTTYPE=image/jpeg:https://downtownwpb.com/wp-content/uploads/Subculture-WPB.jpg
END:VEVENT
BEGIN:VEVENT
DTSTART;TZID=America/New_York:20230313T190000
DTEND;TZID=America/New_York:20230313T210000
DTSTAMP:20260421T224132
CREATED:20230202T205737Z
LAST-MODIFIED:20230202T205737Z
UID:10013828-1678734000-1678741200@downtownwpb.com
SUMMARY:Trivia at Subculture Coffee
DESCRIPTION:Head to Subculture Coffee every Monday for Think and Drink Trivia from 7-9 p.m.! \nIt’s FREE to play and prizes are awarded for the top three teams. \nFor more information\, call (561) 318-5142.
URL:https://downtownwpb.com/event/trivia-at-subculture-coffee/2023-03-13/
LOCATION:Subculture Coffee\, 509 Clematis Street\, West Palm Beach\, FL\, 33401\, United States
CATEGORIES:Indoors
ATTACH;FMTTYPE=image/jpeg:https://downtownwpb.com/wp-content/uploads/Subculture-WPB.jpg
END:VEVENT
BEGIN:VEVENT
DTSTART;TZID=America/New_York:20230306T190000
DTEND;TZID=America/New_York:20230306T210000
DTSTAMP:20260421T224132
CREATED:20230202T205737Z
LAST-MODIFIED:20230202T205737Z
UID:10013827-1678129200-1678136400@downtownwpb.com
SUMMARY:Trivia at Subculture Coffee
DESCRIPTION:Head to Subculture Coffee every Monday for Think and Drink Trivia from 7-9 p.m.! \nIt’s FREE to play and prizes are awarded for the top three teams. \nFor more information\, call (561) 318-5142.
URL:https://downtownwpb.com/event/trivia-at-subculture-coffee/2023-03-06/
LOCATION:Subculture Coffee\, 509 Clematis Street\, West Palm Beach\, FL\, 33401\, United States
CATEGORIES:Indoors
ATTACH;FMTTYPE=image/jpeg:https://downtownwpb.com/wp-content/uploads/Subculture-WPB.jpg
END:VEVENT
END:VCALENDAR