BEGIN:VCALENDAR
VERSION:2.0
PRODID:-//West Palm Beach - ECPv6.15.5//NONSGML v1.0//EN
CALSCALE:GREGORIAN
METHOD:PUBLISH
X-ORIGINAL-URL:https://downtownwpb.com
X-WR-CALDESC:Events for West Palm Beach
REFRESH-INTERVAL;VALUE=DURATION:PT1H
X-Robots-Tag:noindex
X-PUBLISHED-TTL:PT1H
BEGIN:VTIMEZONE
TZID:America/New_York
BEGIN:DAYLIGHT
TZOFFSETFROM:-0500
TZOFFSETTO:-0400
TZNAME:EDT
DTSTART:20250309T070000
END:DAYLIGHT
BEGIN:STANDARD
TZOFFSETFROM:-0400
TZOFFSETTO:-0500
TZNAME:EST
DTSTART:20251102T060000
END:STANDARD
END:VTIMEZONE
BEGIN:VEVENT
DTSTART;TZID=America/New_York:20251224T170000
DTEND;TZID=America/New_York:20251224T210000
DTSTAMP:20260420T220414
CREATED:20251127T021103Z
LAST-MODIFIED:20251127T021132Z
UID:10043546-1766595600-1766610000@downtownwpb.com
SUMMARY:Jingle & Mingle Holiday Bar
DESCRIPTION:Celebrate the season South Florida–style at Jingle & Mingle\, an outdoor holiday bar experience featuring cozy firepits\, sparkling lights\, and festive vibes for all ages. Enjoy cheerful cocktails\, relaxed gatherings\, and a merry atmosphere.
URL:https://hiltonwestpalmbeach.com/holiday/
LOCATION:Hilton West Palm Beach\, 600 Okeechobee Blvd\, West Palm Beach\, FL\, 33401\, United States
ATTACH;FMTTYPE=image/jpeg:https://downtownwpb.com/wp-content/uploads/SnapInsta.to_587716212_18493048243073259_6299892885515044316_n.jpg
END:VEVENT
BEGIN:VEVENT
DTSTART;TZID=America/New_York:20251223T170000
DTEND;TZID=America/New_York:20251223T210000
DTSTAMP:20260420T220414
CREATED:20251127T021103Z
LAST-MODIFIED:20251127T021132Z
UID:10043545-1766509200-1766523600@downtownwpb.com
SUMMARY:Jingle & Mingle Holiday Bar
DESCRIPTION:Celebrate the season South Florida–style at Jingle & Mingle\, an outdoor holiday bar experience featuring cozy firepits\, sparkling lights\, and festive vibes for all ages. Enjoy cheerful cocktails\, relaxed gatherings\, and a merry atmosphere.
URL:https://hiltonwestpalmbeach.com/holiday/
LOCATION:Hilton West Palm Beach\, 600 Okeechobee Blvd\, West Palm Beach\, FL\, 33401\, United States
ATTACH;FMTTYPE=image/jpeg:https://downtownwpb.com/wp-content/uploads/SnapInsta.to_587716212_18493048243073259_6299892885515044316_n.jpg
END:VEVENT
BEGIN:VEVENT
DTSTART;TZID=America/New_York:20251222T170000
DTEND;TZID=America/New_York:20251222T210000
DTSTAMP:20260420T220414
CREATED:20251127T021103Z
LAST-MODIFIED:20251127T021132Z
UID:10043544-1766422800-1766437200@downtownwpb.com
SUMMARY:Jingle & Mingle Holiday Bar
DESCRIPTION:Celebrate the season South Florida–style at Jingle & Mingle\, an outdoor holiday bar experience featuring cozy firepits\, sparkling lights\, and festive vibes for all ages. Enjoy cheerful cocktails\, relaxed gatherings\, and a merry atmosphere.
URL:https://hiltonwestpalmbeach.com/holiday/
LOCATION:Hilton West Palm Beach\, 600 Okeechobee Blvd\, West Palm Beach\, FL\, 33401\, United States
ATTACH;FMTTYPE=image/jpeg:https://downtownwpb.com/wp-content/uploads/SnapInsta.to_587716212_18493048243073259_6299892885515044316_n.jpg
END:VEVENT
BEGIN:VEVENT
DTSTART;TZID=America/New_York:20251221T170000
DTEND;TZID=America/New_York:20251221T210000
DTSTAMP:20260420T220414
CREATED:20251127T021103Z
LAST-MODIFIED:20251127T021132Z
UID:10043543-1766336400-1766350800@downtownwpb.com
SUMMARY:Jingle & Mingle Holiday Bar
DESCRIPTION:Celebrate the season South Florida–style at Jingle & Mingle\, an outdoor holiday bar experience featuring cozy firepits\, sparkling lights\, and festive vibes for all ages. Enjoy cheerful cocktails\, relaxed gatherings\, and a merry atmosphere.
URL:https://hiltonwestpalmbeach.com/holiday/
LOCATION:Hilton West Palm Beach\, 600 Okeechobee Blvd\, West Palm Beach\, FL\, 33401\, United States
ATTACH;FMTTYPE=image/jpeg:https://downtownwpb.com/wp-content/uploads/SnapInsta.to_587716212_18493048243073259_6299892885515044316_n.jpg
END:VEVENT
BEGIN:VEVENT
DTSTART;TZID=America/New_York:20251220T170000
DTEND;TZID=America/New_York:20251220T210000
DTSTAMP:20260420T220414
CREATED:20251127T021103Z
LAST-MODIFIED:20251127T021132Z
UID:10043542-1766250000-1766264400@downtownwpb.com
SUMMARY:Jingle & Mingle Holiday Bar
DESCRIPTION:Celebrate the season South Florida–style at Jingle & Mingle\, an outdoor holiday bar experience featuring cozy firepits\, sparkling lights\, and festive vibes for all ages. Enjoy cheerful cocktails\, relaxed gatherings\, and a merry atmosphere.
URL:https://hiltonwestpalmbeach.com/holiday/
LOCATION:Hilton West Palm Beach\, 600 Okeechobee Blvd\, West Palm Beach\, FL\, 33401\, United States
ATTACH;FMTTYPE=image/jpeg:https://downtownwpb.com/wp-content/uploads/SnapInsta.to_587716212_18493048243073259_6299892885515044316_n.jpg
END:VEVENT
BEGIN:VEVENT
DTSTART;TZID=America/New_York:20251219T170000
DTEND;TZID=America/New_York:20251219T210000
DTSTAMP:20260420T220414
CREATED:20251127T021103Z
LAST-MODIFIED:20251127T021132Z
UID:10043541-1766163600-1766178000@downtownwpb.com
SUMMARY:Jingle & Mingle Holiday Bar
DESCRIPTION:Celebrate the season South Florida–style at Jingle & Mingle\, an outdoor holiday bar experience featuring cozy firepits\, sparkling lights\, and festive vibes for all ages. Enjoy cheerful cocktails\, relaxed gatherings\, and a merry atmosphere.
URL:https://hiltonwestpalmbeach.com/holiday/
LOCATION:Hilton West Palm Beach\, 600 Okeechobee Blvd\, West Palm Beach\, FL\, 33401\, United States
ATTACH;FMTTYPE=image/jpeg:https://downtownwpb.com/wp-content/uploads/SnapInsta.to_587716212_18493048243073259_6299892885515044316_n.jpg
END:VEVENT
BEGIN:VEVENT
DTSTART;TZID=America/New_York:20251218T170000
DTEND;TZID=America/New_York:20251218T210000
DTSTAMP:20260420T220414
CREATED:20251127T021103Z
LAST-MODIFIED:20251127T021132Z
UID:10043540-1766077200-1766091600@downtownwpb.com
SUMMARY:Jingle & Mingle Holiday Bar
DESCRIPTION:Celebrate the season South Florida–style at Jingle & Mingle\, an outdoor holiday bar experience featuring cozy firepits\, sparkling lights\, and festive vibes for all ages. Enjoy cheerful cocktails\, relaxed gatherings\, and a merry atmosphere.
URL:https://hiltonwestpalmbeach.com/holiday/
LOCATION:Hilton West Palm Beach\, 600 Okeechobee Blvd\, West Palm Beach\, FL\, 33401\, United States
ATTACH;FMTTYPE=image/jpeg:https://downtownwpb.com/wp-content/uploads/SnapInsta.to_587716212_18493048243073259_6299892885515044316_n.jpg
END:VEVENT
BEGIN:VEVENT
DTSTART;TZID=America/New_York:20251217T170000
DTEND;TZID=America/New_York:20251217T210000
DTSTAMP:20260420T220414
CREATED:20251127T021103Z
LAST-MODIFIED:20251127T021132Z
UID:10043539-1765990800-1766005200@downtownwpb.com
SUMMARY:Jingle & Mingle Holiday Bar
DESCRIPTION:Celebrate the season South Florida–style at Jingle & Mingle\, an outdoor holiday bar experience featuring cozy firepits\, sparkling lights\, and festive vibes for all ages. Enjoy cheerful cocktails\, relaxed gatherings\, and a merry atmosphere.
URL:https://hiltonwestpalmbeach.com/holiday/
LOCATION:Hilton West Palm Beach\, 600 Okeechobee Blvd\, West Palm Beach\, FL\, 33401\, United States
ATTACH;FMTTYPE=image/jpeg:https://downtownwpb.com/wp-content/uploads/SnapInsta.to_587716212_18493048243073259_6299892885515044316_n.jpg
END:VEVENT
BEGIN:VEVENT
DTSTART;TZID=America/New_York:20251216T170000
DTEND;TZID=America/New_York:20251216T210000
DTSTAMP:20260420T220414
CREATED:20251127T021103Z
LAST-MODIFIED:20251127T021132Z
UID:10043538-1765904400-1765918800@downtownwpb.com
SUMMARY:Jingle & Mingle Holiday Bar
DESCRIPTION:Celebrate the season South Florida–style at Jingle & Mingle\, an outdoor holiday bar experience featuring cozy firepits\, sparkling lights\, and festive vibes for all ages. Enjoy cheerful cocktails\, relaxed gatherings\, and a merry atmosphere.
URL:https://hiltonwestpalmbeach.com/holiday/
LOCATION:Hilton West Palm Beach\, 600 Okeechobee Blvd\, West Palm Beach\, FL\, 33401\, United States
ATTACH;FMTTYPE=image/jpeg:https://downtownwpb.com/wp-content/uploads/SnapInsta.to_587716212_18493048243073259_6299892885515044316_n.jpg
END:VEVENT
BEGIN:VEVENT
DTSTART;TZID=America/New_York:20251215T170000
DTEND;TZID=America/New_York:20251215T210000
DTSTAMP:20260420T220414
CREATED:20251127T021103Z
LAST-MODIFIED:20251127T021132Z
UID:10043537-1765818000-1765832400@downtownwpb.com
SUMMARY:Jingle & Mingle Holiday Bar
DESCRIPTION:Celebrate the season South Florida–style at Jingle & Mingle\, an outdoor holiday bar experience featuring cozy firepits\, sparkling lights\, and festive vibes for all ages. Enjoy cheerful cocktails\, relaxed gatherings\, and a merry atmosphere.
URL:https://hiltonwestpalmbeach.com/holiday/
LOCATION:Hilton West Palm Beach\, 600 Okeechobee Blvd\, West Palm Beach\, FL\, 33401\, United States
ATTACH;FMTTYPE=image/jpeg:https://downtownwpb.com/wp-content/uploads/SnapInsta.to_587716212_18493048243073259_6299892885515044316_n.jpg
END:VEVENT
BEGIN:VEVENT
DTSTART;TZID=America/New_York:20251214T170000
DTEND;TZID=America/New_York:20251214T210000
DTSTAMP:20260420T220414
CREATED:20251127T021103Z
LAST-MODIFIED:20251127T021132Z
UID:10043536-1765731600-1765746000@downtownwpb.com
SUMMARY:Jingle & Mingle Holiday Bar
DESCRIPTION:Celebrate the season South Florida–style at Jingle & Mingle\, an outdoor holiday bar experience featuring cozy firepits\, sparkling lights\, and festive vibes for all ages. Enjoy cheerful cocktails\, relaxed gatherings\, and a merry atmosphere.
URL:https://hiltonwestpalmbeach.com/holiday/
LOCATION:Hilton West Palm Beach\, 600 Okeechobee Blvd\, West Palm Beach\, FL\, 33401\, United States
ATTACH;FMTTYPE=image/jpeg:https://downtownwpb.com/wp-content/uploads/SnapInsta.to_587716212_18493048243073259_6299892885515044316_n.jpg
END:VEVENT
BEGIN:VEVENT
DTSTART;TZID=America/New_York:20251213T170000
DTEND;TZID=America/New_York:20251213T210000
DTSTAMP:20260420T220414
CREATED:20251127T021103Z
LAST-MODIFIED:20251127T021132Z
UID:10043535-1765645200-1765659600@downtownwpb.com
SUMMARY:Jingle & Mingle Holiday Bar
DESCRIPTION:Celebrate the season South Florida–style at Jingle & Mingle\, an outdoor holiday bar experience featuring cozy firepits\, sparkling lights\, and festive vibes for all ages. Enjoy cheerful cocktails\, relaxed gatherings\, and a merry atmosphere.
URL:https://hiltonwestpalmbeach.com/holiday/
LOCATION:Hilton West Palm Beach\, 600 Okeechobee Blvd\, West Palm Beach\, FL\, 33401\, United States
ATTACH;FMTTYPE=image/jpeg:https://downtownwpb.com/wp-content/uploads/SnapInsta.to_587716212_18493048243073259_6299892885515044316_n.jpg
END:VEVENT
BEGIN:VEVENT
DTSTART;TZID=America/New_York:20251212T170000
DTEND;TZID=America/New_York:20251212T210000
DTSTAMP:20260420T220414
CREATED:20251127T021103Z
LAST-MODIFIED:20251127T021132Z
UID:10043534-1765558800-1765573200@downtownwpb.com
SUMMARY:Jingle & Mingle Holiday Bar
DESCRIPTION:Celebrate the season South Florida–style at Jingle & Mingle\, an outdoor holiday bar experience featuring cozy firepits\, sparkling lights\, and festive vibes for all ages. Enjoy cheerful cocktails\, relaxed gatherings\, and a merry atmosphere.
URL:https://hiltonwestpalmbeach.com/holiday/
LOCATION:Hilton West Palm Beach\, 600 Okeechobee Blvd\, West Palm Beach\, FL\, 33401\, United States
ATTACH;FMTTYPE=image/jpeg:https://downtownwpb.com/wp-content/uploads/SnapInsta.to_587716212_18493048243073259_6299892885515044316_n.jpg
END:VEVENT
BEGIN:VEVENT
DTSTART;TZID=America/New_York:20251211T170000
DTEND;TZID=America/New_York:20251211T210000
DTSTAMP:20260420T220414
CREATED:20251127T021103Z
LAST-MODIFIED:20251127T021132Z
UID:10043533-1765472400-1765486800@downtownwpb.com
SUMMARY:Jingle & Mingle Holiday Bar
DESCRIPTION:Celebrate the season South Florida–style at Jingle & Mingle\, an outdoor holiday bar experience featuring cozy firepits\, sparkling lights\, and festive vibes for all ages. Enjoy cheerful cocktails\, relaxed gatherings\, and a merry atmosphere.
URL:https://hiltonwestpalmbeach.com/holiday/
LOCATION:Hilton West Palm Beach\, 600 Okeechobee Blvd\, West Palm Beach\, FL\, 33401\, United States
ATTACH;FMTTYPE=image/jpeg:https://downtownwpb.com/wp-content/uploads/SnapInsta.to_587716212_18493048243073259_6299892885515044316_n.jpg
END:VEVENT
BEGIN:VEVENT
DTSTART;TZID=America/New_York:20251210T170000
DTEND;TZID=America/New_York:20251210T210000
DTSTAMP:20260420T220414
CREATED:20251127T021103Z
LAST-MODIFIED:20251127T021132Z
UID:10043532-1765386000-1765400400@downtownwpb.com
SUMMARY:Jingle & Mingle Holiday Bar
DESCRIPTION:Celebrate the season South Florida–style at Jingle & Mingle\, an outdoor holiday bar experience featuring cozy firepits\, sparkling lights\, and festive vibes for all ages. Enjoy cheerful cocktails\, relaxed gatherings\, and a merry atmosphere.
URL:https://hiltonwestpalmbeach.com/holiday/
LOCATION:Hilton West Palm Beach\, 600 Okeechobee Blvd\, West Palm Beach\, FL\, 33401\, United States
ATTACH;FMTTYPE=image/jpeg:https://downtownwpb.com/wp-content/uploads/SnapInsta.to_587716212_18493048243073259_6299892885515044316_n.jpg
END:VEVENT
BEGIN:VEVENT
DTSTART;TZID=America/New_York:20251209T170000
DTEND;TZID=America/New_York:20251209T210000
DTSTAMP:20260420T220414
CREATED:20251127T021103Z
LAST-MODIFIED:20251127T021132Z
UID:10043531-1765299600-1765314000@downtownwpb.com
SUMMARY:Jingle & Mingle Holiday Bar
DESCRIPTION:Celebrate the season South Florida–style at Jingle & Mingle\, an outdoor holiday bar experience featuring cozy firepits\, sparkling lights\, and festive vibes for all ages. Enjoy cheerful cocktails\, relaxed gatherings\, and a merry atmosphere.
URL:https://hiltonwestpalmbeach.com/holiday/
LOCATION:Hilton West Palm Beach\, 600 Okeechobee Blvd\, West Palm Beach\, FL\, 33401\, United States
ATTACH;FMTTYPE=image/jpeg:https://downtownwpb.com/wp-content/uploads/SnapInsta.to_587716212_18493048243073259_6299892885515044316_n.jpg
END:VEVENT
BEGIN:VEVENT
DTSTART;TZID=America/New_York:20251208T170000
DTEND;TZID=America/New_York:20251208T210000
DTSTAMP:20260420T220414
CREATED:20251127T021103Z
LAST-MODIFIED:20251127T021132Z
UID:10043530-1765213200-1765227600@downtownwpb.com
SUMMARY:Jingle & Mingle Holiday Bar
DESCRIPTION:Celebrate the season South Florida–style at Jingle & Mingle\, an outdoor holiday bar experience featuring cozy firepits\, sparkling lights\, and festive vibes for all ages. Enjoy cheerful cocktails\, relaxed gatherings\, and a merry atmosphere.
URL:https://hiltonwestpalmbeach.com/holiday/
LOCATION:Hilton West Palm Beach\, 600 Okeechobee Blvd\, West Palm Beach\, FL\, 33401\, United States
ATTACH;FMTTYPE=image/jpeg:https://downtownwpb.com/wp-content/uploads/SnapInsta.to_587716212_18493048243073259_6299892885515044316_n.jpg
END:VEVENT
BEGIN:VEVENT
DTSTART;TZID=America/New_York:20251207T170000
DTEND;TZID=America/New_York:20251207T210000
DTSTAMP:20260420T220414
CREATED:20251127T021103Z
LAST-MODIFIED:20251127T021132Z
UID:10043529-1765126800-1765141200@downtownwpb.com
SUMMARY:Jingle & Mingle Holiday Bar
DESCRIPTION:Celebrate the season South Florida–style at Jingle & Mingle\, an outdoor holiday bar experience featuring cozy firepits\, sparkling lights\, and festive vibes for all ages. Enjoy cheerful cocktails\, relaxed gatherings\, and a merry atmosphere.
URL:https://hiltonwestpalmbeach.com/holiday/
LOCATION:Hilton West Palm Beach\, 600 Okeechobee Blvd\, West Palm Beach\, FL\, 33401\, United States
ATTACH;FMTTYPE=image/jpeg:https://downtownwpb.com/wp-content/uploads/SnapInsta.to_587716212_18493048243073259_6299892885515044316_n.jpg
END:VEVENT
BEGIN:VEVENT
DTSTART;TZID=America/New_York:20251206T170000
DTEND;TZID=America/New_York:20251206T210000
DTSTAMP:20260420T220414
CREATED:20251127T021103Z
LAST-MODIFIED:20251127T021132Z
UID:10043528-1765040400-1765054800@downtownwpb.com
SUMMARY:Jingle & Mingle Holiday Bar
DESCRIPTION:Celebrate the season South Florida–style at Jingle & Mingle\, an outdoor holiday bar experience featuring cozy firepits\, sparkling lights\, and festive vibes for all ages. Enjoy cheerful cocktails\, relaxed gatherings\, and a merry atmosphere.
URL:https://hiltonwestpalmbeach.com/holiday/
LOCATION:Hilton West Palm Beach\, 600 Okeechobee Blvd\, West Palm Beach\, FL\, 33401\, United States
ATTACH;FMTTYPE=image/jpeg:https://downtownwpb.com/wp-content/uploads/SnapInsta.to_587716212_18493048243073259_6299892885515044316_n.jpg
END:VEVENT
BEGIN:VEVENT
DTSTART;TZID=America/New_York:20251205T170000
DTEND;TZID=America/New_York:20251205T210000
DTSTAMP:20260420T220414
CREATED:20251127T021103Z
LAST-MODIFIED:20251127T021132Z
UID:10043527-1764954000-1764968400@downtownwpb.com
SUMMARY:Jingle & Mingle Holiday Bar
DESCRIPTION:Celebrate the season South Florida–style at Jingle & Mingle\, an outdoor holiday bar experience featuring cozy firepits\, sparkling lights\, and festive vibes for all ages. Enjoy cheerful cocktails\, relaxed gatherings\, and a merry atmosphere.
URL:https://hiltonwestpalmbeach.com/holiday/
LOCATION:Hilton West Palm Beach\, 600 Okeechobee Blvd\, West Palm Beach\, FL\, 33401\, United States
ATTACH;FMTTYPE=image/jpeg:https://downtownwpb.com/wp-content/uploads/SnapInsta.to_587716212_18493048243073259_6299892885515044316_n.jpg
END:VEVENT
BEGIN:VEVENT
DTSTART;TZID=America/New_York:20251204T170000
DTEND;TZID=America/New_York:20251204T210000
DTSTAMP:20260420T220414
CREATED:20251127T021103Z
LAST-MODIFIED:20251127T021132Z
UID:10043526-1764867600-1764882000@downtownwpb.com
SUMMARY:Jingle & Mingle Holiday Bar
DESCRIPTION:Celebrate the season South Florida–style at Jingle & Mingle\, an outdoor holiday bar experience featuring cozy firepits\, sparkling lights\, and festive vibes for all ages. Enjoy cheerful cocktails\, relaxed gatherings\, and a merry atmosphere.
URL:https://hiltonwestpalmbeach.com/holiday/
LOCATION:Hilton West Palm Beach\, 600 Okeechobee Blvd\, West Palm Beach\, FL\, 33401\, United States
ATTACH;FMTTYPE=image/jpeg:https://downtownwpb.com/wp-content/uploads/SnapInsta.to_587716212_18493048243073259_6299892885515044316_n.jpg
END:VEVENT
BEGIN:VEVENT
DTSTART;TZID=America/New_York:20251204T080000
DTEND;TZID=America/New_York:20251204T170000
DTSTAMP:20260420T220414
CREATED:20251117T132511Z
LAST-MODIFIED:20251117T132511Z
UID:10043463-1764835200-1764867600@downtownwpb.com
SUMMARY:Palm Beach State of the Market
DESCRIPTION:Join top industry leaders for an in-depth look at the trends shaping Palm Beach’s commercial real estate landscape. This Bisnow event brings together experts to discuss market growth\, investment opportunities\, and the future of development across the region. Don’t miss this chance to connect\, learn\, and network with the area’s leading professionals.
URL:https://www.bisnow.com/events/south-florida/state-of-market/palm-beach-state-of-the-market-9419
LOCATION:Hilton West Palm Beach\, 600 Okeechobee Blvd\, West Palm Beach\, FL\, 33401\, United States
ATTACH;FMTTYPE=image/jpeg:https://downtownwpb.com/wp-content/uploads/DowntownWPB-Skyline-Banner.jpg
END:VEVENT
BEGIN:VEVENT
DTSTART;TZID=America/New_York:20251203T170000
DTEND;TZID=America/New_York:20251203T210000
DTSTAMP:20260420T220414
CREATED:20251127T021103Z
LAST-MODIFIED:20251127T021132Z
UID:10043525-1764781200-1764795600@downtownwpb.com
SUMMARY:Jingle & Mingle Holiday Bar
DESCRIPTION:Celebrate the season South Florida–style at Jingle & Mingle\, an outdoor holiday bar experience featuring cozy firepits\, sparkling lights\, and festive vibes for all ages. Enjoy cheerful cocktails\, relaxed gatherings\, and a merry atmosphere.
URL:https://hiltonwestpalmbeach.com/holiday/
LOCATION:Hilton West Palm Beach\, 600 Okeechobee Blvd\, West Palm Beach\, FL\, 33401\, United States
ATTACH;FMTTYPE=image/jpeg:https://downtownwpb.com/wp-content/uploads/SnapInsta.to_587716212_18493048243073259_6299892885515044316_n.jpg
END:VEVENT
BEGIN:VEVENT
DTSTART;TZID=America/New_York:20251202T170000
DTEND;TZID=America/New_York:20251202T210000
DTSTAMP:20260420T220414
CREATED:20251127T021103Z
LAST-MODIFIED:20251127T021132Z
UID:10043524-1764694800-1764709200@downtownwpb.com
SUMMARY:Jingle & Mingle Holiday Bar
DESCRIPTION:Celebrate the season South Florida–style at Jingle & Mingle\, an outdoor holiday bar experience featuring cozy firepits\, sparkling lights\, and festive vibes for all ages. Enjoy cheerful cocktails\, relaxed gatherings\, and a merry atmosphere.
URL:https://hiltonwestpalmbeach.com/holiday/
LOCATION:Hilton West Palm Beach\, 600 Okeechobee Blvd\, West Palm Beach\, FL\, 33401\, United States
ATTACH;FMTTYPE=image/jpeg:https://downtownwpb.com/wp-content/uploads/SnapInsta.to_587716212_18493048243073259_6299892885515044316_n.jpg
END:VEVENT
BEGIN:VEVENT
DTSTART;TZID=America/New_York:20251201T170000
DTEND;TZID=America/New_York:20251201T210000
DTSTAMP:20260420T220414
CREATED:20251127T021103Z
LAST-MODIFIED:20251127T021132Z
UID:10043523-1764608400-1764622800@downtownwpb.com
SUMMARY:Jingle & Mingle Holiday Bar
DESCRIPTION:Celebrate the season South Florida–style at Jingle & Mingle\, an outdoor holiday bar experience featuring cozy firepits\, sparkling lights\, and festive vibes for all ages. Enjoy cheerful cocktails\, relaxed gatherings\, and a merry atmosphere.
URL:https://hiltonwestpalmbeach.com/holiday/
LOCATION:Hilton West Palm Beach\, 600 Okeechobee Blvd\, West Palm Beach\, FL\, 33401\, United States
ATTACH;FMTTYPE=image/jpeg:https://downtownwpb.com/wp-content/uploads/SnapInsta.to_587716212_18493048243073259_6299892885515044316_n.jpg
END:VEVENT
BEGIN:VEVENT
DTSTART;TZID=America/New_York:20251130T170000
DTEND;TZID=America/New_York:20251130T210000
DTSTAMP:20260420T220414
CREATED:20251127T021103Z
LAST-MODIFIED:20251127T021132Z
UID:10043522-1764522000-1764536400@downtownwpb.com
SUMMARY:Jingle & Mingle Holiday Bar
DESCRIPTION:Celebrate the season South Florida–style at Jingle & Mingle\, an outdoor holiday bar experience featuring cozy firepits\, sparkling lights\, and festive vibes for all ages. Enjoy cheerful cocktails\, relaxed gatherings\, and a merry atmosphere.
URL:https://hiltonwestpalmbeach.com/holiday/
LOCATION:Hilton West Palm Beach\, 600 Okeechobee Blvd\, West Palm Beach\, FL\, 33401\, United States
ATTACH;FMTTYPE=image/jpeg:https://downtownwpb.com/wp-content/uploads/SnapInsta.to_587716212_18493048243073259_6299892885515044316_n.jpg
END:VEVENT
BEGIN:VEVENT
DTSTART;TZID=America/New_York:20251129T170000
DTEND;TZID=America/New_York:20251129T210000
DTSTAMP:20260420T220414
CREATED:20251127T021103Z
LAST-MODIFIED:20251127T021132Z
UID:10043521-1764435600-1764450000@downtownwpb.com
SUMMARY:Jingle & Mingle Holiday Bar
DESCRIPTION:Celebrate the season South Florida–style at Jingle & Mingle\, an outdoor holiday bar experience featuring cozy firepits\, sparkling lights\, and festive vibes for all ages. Enjoy cheerful cocktails\, relaxed gatherings\, and a merry atmosphere.
URL:https://hiltonwestpalmbeach.com/holiday/
LOCATION:Hilton West Palm Beach\, 600 Okeechobee Blvd\, West Palm Beach\, FL\, 33401\, United States
ATTACH;FMTTYPE=image/jpeg:https://downtownwpb.com/wp-content/uploads/SnapInsta.to_587716212_18493048243073259_6299892885515044316_n.jpg
END:VEVENT
BEGIN:VEVENT
DTSTART;TZID=America/New_York:20251128T170000
DTEND;TZID=America/New_York:20251128T210000
DTSTAMP:20260420T220414
CREATED:20251127T021103Z
LAST-MODIFIED:20251127T021132Z
UID:10043520-1764349200-1764363600@downtownwpb.com
SUMMARY:Jingle & Mingle Holiday Bar
DESCRIPTION:Celebrate the season South Florida–style at Jingle & Mingle\, an outdoor holiday bar experience featuring cozy firepits\, sparkling lights\, and festive vibes for all ages. Enjoy cheerful cocktails\, relaxed gatherings\, and a merry atmosphere.
URL:https://hiltonwestpalmbeach.com/holiday/
LOCATION:Hilton West Palm Beach\, 600 Okeechobee Blvd\, West Palm Beach\, FL\, 33401\, United States
ATTACH;FMTTYPE=image/jpeg:https://downtownwpb.com/wp-content/uploads/SnapInsta.to_587716212_18493048243073259_6299892885515044316_n.jpg
END:VEVENT
BEGIN:VEVENT
DTSTART;TZID=America/New_York:20250207T080000
DTEND;TZID=America/New_York:20250207T170000
DTSTAMP:20260420T220414
CREATED:20250116T184841Z
LAST-MODIFIED:20250116T184841Z
UID:10018646-1738915200-1738947600@downtownwpb.com
SUMMARY:2025 Safe Streets Summit
DESCRIPTION:Join the Palm Beach Transportation Planning Agency\, Broward Metropolitan Planning Organization\, and Miami-Dade Transportation Planning Organization for South Florida’s premier active transportation and mobility conference. Featuring national speakers\, public officials\, and community partners\, the Summit focuses on designing safe\, equitable transportation for all. \nThis year’s theme\, Mobility at the Heart of it All\, highlights how investing in mobility solutions boosts quality of life and drives economic development. Don’t miss this opportunity to shape the future of Complete Streets in South Florida!
URL:https://palmbeachtpa.org/sss2025/
LOCATION:Hilton West Palm Beach\, 600 Okeechobee Blvd\, West Palm Beach\, FL\, 33401\, United States
CATEGORIES:Indoors
ATTACH;FMTTYPE=image/jpeg:https://downtownwpb.com/wp-content/uploads/Safe-Streets-Summit-2025.jpg
END:VEVENT
BEGIN:VEVENT
DTSTART;TZID=America/New_York:20250206T133000
DTEND;TZID=America/New_York:20250206T160000
DTSTAMP:20260420T220414
CREATED:20250116T184841Z
LAST-MODIFIED:20250116T184841Z
UID:10018645-1738848600-1738857600@downtownwpb.com
SUMMARY:2025 Safe Streets Summit
DESCRIPTION:Join the Palm Beach Transportation Planning Agency\, Broward Metropolitan Planning Organization\, and Miami-Dade Transportation Planning Organization for South Florida’s premier active transportation and mobility conference. Featuring national speakers\, public officials\, and community partners\, the Summit focuses on designing safe\, equitable transportation for all. \nThis year’s theme\, Mobility at the Heart of it All\, highlights how investing in mobility solutions boosts quality of life and drives economic development. Don’t miss this opportunity to shape the future of Complete Streets in South Florida!
URL:https://palmbeachtpa.org/sss2025/
LOCATION:Hilton West Palm Beach\, 600 Okeechobee Blvd\, West Palm Beach\, FL\, 33401\, United States
CATEGORIES:Indoors
ATTACH;FMTTYPE=image/jpeg:https://downtownwpb.com/wp-content/uploads/Safe-Streets-Summit-2025.jpg
END:VEVENT
END:VCALENDAR