BEGIN:VCALENDAR
VERSION:2.0
PRODID:-//West Palm Beach - ECPv6.15.5//NONSGML v1.0//EN
CALSCALE:GREGORIAN
METHOD:PUBLISH
X-ORIGINAL-URL:https://downtownwpb.com
X-WR-CALDESC:Events for West Palm Beach
REFRESH-INTERVAL;VALUE=DURATION:PT1H
X-Robots-Tag:noindex
X-PUBLISHED-TTL:PT1H
BEGIN:VTIMEZONE
TZID:America/New_York
BEGIN:DAYLIGHT
TZOFFSETFROM:-0500
TZOFFSETTO:-0400
TZNAME:EDT
DTSTART:20230312T070000
END:DAYLIGHT
BEGIN:STANDARD
TZOFFSETFROM:-0400
TZOFFSETTO:-0500
TZNAME:EST
DTSTART:20231105T060000
END:STANDARD
END:VTIMEZONE
BEGIN:VEVENT
DTSTART;TZID=America/New_York:20231226T200000
DTEND;TZID=America/New_York:20231226T220000
DTSTAMP:20260421T161423
CREATED:20220901T000253Z
LAST-MODIFIED:20230130T145947Z
UID:10012598-1703620800-1703628000@downtownwpb.com
SUMMARY:Tuesday Pool Tournament
DESCRIPTION:Enjoy some friendly competition at Hideout Kava and Tea Clematis’ weekly pool tournaments! Held every Tuesday at 8 p.m.\, it’s free to play and winners can earn a $50 bar tab. \nVisit HideoutTea.com for more information or call (561)542-9446.
URL:https://downtownwpb.com/event/tuesday-pool-tournament/2023-12-26/
LOCATION:Hideout Kava & Tea Clematis\, 107 N. Olive Avenue\, West Palm Beach\, FL\, 33401\, United States
CATEGORIES:Indoors
ATTACH;FMTTYPE=image/jpeg:https://downtownwpb.com/wp-content/uploads/Pool-tournament-at-Hideout-Kava.jpg
END:VEVENT
BEGIN:VEVENT
DTSTART;TZID=America/New_York:20231219T200000
DTEND;TZID=America/New_York:20231219T220000
DTSTAMP:20260421T161423
CREATED:20220901T000253Z
LAST-MODIFIED:20230130T145947Z
UID:10012597-1703016000-1703023200@downtownwpb.com
SUMMARY:Tuesday Pool Tournament
DESCRIPTION:Enjoy some friendly competition at Hideout Kava and Tea Clematis’ weekly pool tournaments! Held every Tuesday at 8 p.m.\, it’s free to play and winners can earn a $50 bar tab. \nVisit HideoutTea.com for more information or call (561)542-9446.
URL:https://downtownwpb.com/event/tuesday-pool-tournament/2023-12-19/
LOCATION:Hideout Kava & Tea Clematis\, 107 N. Olive Avenue\, West Palm Beach\, FL\, 33401\, United States
CATEGORIES:Indoors
ATTACH;FMTTYPE=image/jpeg:https://downtownwpb.com/wp-content/uploads/Pool-tournament-at-Hideout-Kava.jpg
END:VEVENT
BEGIN:VEVENT
DTSTART;TZID=America/New_York:20231212T200000
DTEND;TZID=America/New_York:20231212T220000
DTSTAMP:20260421T161423
CREATED:20220901T000253Z
LAST-MODIFIED:20230130T145947Z
UID:10012596-1702411200-1702418400@downtownwpb.com
SUMMARY:Tuesday Pool Tournament
DESCRIPTION:Enjoy some friendly competition at Hideout Kava and Tea Clematis’ weekly pool tournaments! Held every Tuesday at 8 p.m.\, it’s free to play and winners can earn a $50 bar tab. \nVisit HideoutTea.com for more information or call (561)542-9446.
URL:https://downtownwpb.com/event/tuesday-pool-tournament/2023-12-12/
LOCATION:Hideout Kava & Tea Clematis\, 107 N. Olive Avenue\, West Palm Beach\, FL\, 33401\, United States
CATEGORIES:Indoors
ATTACH;FMTTYPE=image/jpeg:https://downtownwpb.com/wp-content/uploads/Pool-tournament-at-Hideout-Kava.jpg
END:VEVENT
BEGIN:VEVENT
DTSTART;TZID=America/New_York:20231205T200000
DTEND;TZID=America/New_York:20231205T220000
DTSTAMP:20260421T161423
CREATED:20220901T000253Z
LAST-MODIFIED:20230130T145947Z
UID:10012595-1701806400-1701813600@downtownwpb.com
SUMMARY:Tuesday Pool Tournament
DESCRIPTION:Enjoy some friendly competition at Hideout Kava and Tea Clematis’ weekly pool tournaments! Held every Tuesday at 8 p.m.\, it’s free to play and winners can earn a $50 bar tab. \nVisit HideoutTea.com for more information or call (561)542-9446.
URL:https://downtownwpb.com/event/tuesday-pool-tournament/2023-12-05/
LOCATION:Hideout Kava & Tea Clematis\, 107 N. Olive Avenue\, West Palm Beach\, FL\, 33401\, United States
CATEGORIES:Indoors
ATTACH;FMTTYPE=image/jpeg:https://downtownwpb.com/wp-content/uploads/Pool-tournament-at-Hideout-Kava.jpg
END:VEVENT
BEGIN:VEVENT
DTSTART;TZID=America/New_York:20231128T200000
DTEND;TZID=America/New_York:20231128T220000
DTSTAMP:20260421T161423
CREATED:20220901T000253Z
LAST-MODIFIED:20230130T145947Z
UID:10012594-1701201600-1701208800@downtownwpb.com
SUMMARY:Tuesday Pool Tournament
DESCRIPTION:Enjoy some friendly competition at Hideout Kava and Tea Clematis’ weekly pool tournaments! Held every Tuesday at 8 p.m.\, it’s free to play and winners can earn a $50 bar tab. \nVisit HideoutTea.com for more information or call (561)542-9446.
URL:https://downtownwpb.com/event/tuesday-pool-tournament/2023-11-28/
LOCATION:Hideout Kava & Tea Clematis\, 107 N. Olive Avenue\, West Palm Beach\, FL\, 33401\, United States
CATEGORIES:Indoors
ATTACH;FMTTYPE=image/jpeg:https://downtownwpb.com/wp-content/uploads/Pool-tournament-at-Hideout-Kava.jpg
END:VEVENT
BEGIN:VEVENT
DTSTART;TZID=America/New_York:20231121T200000
DTEND;TZID=America/New_York:20231121T220000
DTSTAMP:20260421T161423
CREATED:20220901T000253Z
LAST-MODIFIED:20230130T145947Z
UID:10012593-1700596800-1700604000@downtownwpb.com
SUMMARY:Tuesday Pool Tournament
DESCRIPTION:Enjoy some friendly competition at Hideout Kava and Tea Clematis’ weekly pool tournaments! Held every Tuesday at 8 p.m.\, it’s free to play and winners can earn a $50 bar tab. \nVisit HideoutTea.com for more information or call (561)542-9446.
URL:https://downtownwpb.com/event/tuesday-pool-tournament/2023-11-21/
LOCATION:Hideout Kava & Tea Clematis\, 107 N. Olive Avenue\, West Palm Beach\, FL\, 33401\, United States
CATEGORIES:Indoors
ATTACH;FMTTYPE=image/jpeg:https://downtownwpb.com/wp-content/uploads/Pool-tournament-at-Hideout-Kava.jpg
END:VEVENT
BEGIN:VEVENT
DTSTART;TZID=America/New_York:20231114T200000
DTEND;TZID=America/New_York:20231114T220000
DTSTAMP:20260421T161423
CREATED:20220901T000253Z
LAST-MODIFIED:20230130T145947Z
UID:10012592-1699992000-1699999200@downtownwpb.com
SUMMARY:Tuesday Pool Tournament
DESCRIPTION:Enjoy some friendly competition at Hideout Kava and Tea Clematis’ weekly pool tournaments! Held every Tuesday at 8 p.m.\, it’s free to play and winners can earn a $50 bar tab. \nVisit HideoutTea.com for more information or call (561)542-9446.
URL:https://downtownwpb.com/event/tuesday-pool-tournament/2023-11-14/
LOCATION:Hideout Kava & Tea Clematis\, 107 N. Olive Avenue\, West Palm Beach\, FL\, 33401\, United States
CATEGORIES:Indoors
ATTACH;FMTTYPE=image/jpeg:https://downtownwpb.com/wp-content/uploads/Pool-tournament-at-Hideout-Kava.jpg
END:VEVENT
BEGIN:VEVENT
DTSTART;TZID=America/New_York:20231107T200000
DTEND;TZID=America/New_York:20231107T220000
DTSTAMP:20260421T161423
CREATED:20220901T000253Z
LAST-MODIFIED:20230130T145947Z
UID:10012591-1699387200-1699394400@downtownwpb.com
SUMMARY:Tuesday Pool Tournament
DESCRIPTION:Enjoy some friendly competition at Hideout Kava and Tea Clematis’ weekly pool tournaments! Held every Tuesday at 8 p.m.\, it’s free to play and winners can earn a $50 bar tab. \nVisit HideoutTea.com for more information or call (561)542-9446.
URL:https://downtownwpb.com/event/tuesday-pool-tournament/2023-11-07/
LOCATION:Hideout Kava & Tea Clematis\, 107 N. Olive Avenue\, West Palm Beach\, FL\, 33401\, United States
CATEGORIES:Indoors
ATTACH;FMTTYPE=image/jpeg:https://downtownwpb.com/wp-content/uploads/Pool-tournament-at-Hideout-Kava.jpg
END:VEVENT
BEGIN:VEVENT
DTSTART;TZID=America/New_York:20231031T200000
DTEND;TZID=America/New_York:20231031T220000
DTSTAMP:20260421T161423
CREATED:20220901T000253Z
LAST-MODIFIED:20230130T145947Z
UID:10012590-1698782400-1698789600@downtownwpb.com
SUMMARY:Tuesday Pool Tournament
DESCRIPTION:Enjoy some friendly competition at Hideout Kava and Tea Clematis’ weekly pool tournaments! Held every Tuesday at 8 p.m.\, it’s free to play and winners can earn a $50 bar tab. \nVisit HideoutTea.com for more information or call (561)542-9446.
URL:https://downtownwpb.com/event/tuesday-pool-tournament/2023-10-31/
LOCATION:Hideout Kava & Tea Clematis\, 107 N. Olive Avenue\, West Palm Beach\, FL\, 33401\, United States
CATEGORIES:Indoors
ATTACH;FMTTYPE=image/jpeg:https://downtownwpb.com/wp-content/uploads/Pool-tournament-at-Hideout-Kava.jpg
END:VEVENT
BEGIN:VEVENT
DTSTART;TZID=America/New_York:20231024T200000
DTEND;TZID=America/New_York:20231024T220000
DTSTAMP:20260421T161423
CREATED:20220901T000253Z
LAST-MODIFIED:20230130T145947Z
UID:10012589-1698177600-1698184800@downtownwpb.com
SUMMARY:Tuesday Pool Tournament
DESCRIPTION:Enjoy some friendly competition at Hideout Kava and Tea Clematis’ weekly pool tournaments! Held every Tuesday at 8 p.m.\, it’s free to play and winners can earn a $50 bar tab. \nVisit HideoutTea.com for more information or call (561)542-9446.
URL:https://downtownwpb.com/event/tuesday-pool-tournament/2023-10-24/
LOCATION:Hideout Kava & Tea Clematis\, 107 N. Olive Avenue\, West Palm Beach\, FL\, 33401\, United States
CATEGORIES:Indoors
ATTACH;FMTTYPE=image/jpeg:https://downtownwpb.com/wp-content/uploads/Pool-tournament-at-Hideout-Kava.jpg
END:VEVENT
BEGIN:VEVENT
DTSTART;TZID=America/New_York:20231017T200000
DTEND;TZID=America/New_York:20231017T220000
DTSTAMP:20260421T161423
CREATED:20220901T000253Z
LAST-MODIFIED:20230130T145947Z
UID:10012588-1697572800-1697580000@downtownwpb.com
SUMMARY:Tuesday Pool Tournament
DESCRIPTION:Enjoy some friendly competition at Hideout Kava and Tea Clematis’ weekly pool tournaments! Held every Tuesday at 8 p.m.\, it’s free to play and winners can earn a $50 bar tab. \nVisit HideoutTea.com for more information or call (561)542-9446.
URL:https://downtownwpb.com/event/tuesday-pool-tournament/2023-10-17/
LOCATION:Hideout Kava & Tea Clematis\, 107 N. Olive Avenue\, West Palm Beach\, FL\, 33401\, United States
CATEGORIES:Indoors
ATTACH;FMTTYPE=image/jpeg:https://downtownwpb.com/wp-content/uploads/Pool-tournament-at-Hideout-Kava.jpg
END:VEVENT
BEGIN:VEVENT
DTSTART;TZID=America/New_York:20231010T200000
DTEND;TZID=America/New_York:20231010T220000
DTSTAMP:20260421T161423
CREATED:20220901T000253Z
LAST-MODIFIED:20230130T145947Z
UID:10012587-1696968000-1696975200@downtownwpb.com
SUMMARY:Tuesday Pool Tournament
DESCRIPTION:Enjoy some friendly competition at Hideout Kava and Tea Clematis’ weekly pool tournaments! Held every Tuesday at 8 p.m.\, it’s free to play and winners can earn a $50 bar tab. \nVisit HideoutTea.com for more information or call (561)542-9446.
URL:https://downtownwpb.com/event/tuesday-pool-tournament/2023-10-10/
LOCATION:Hideout Kava & Tea Clematis\, 107 N. Olive Avenue\, West Palm Beach\, FL\, 33401\, United States
CATEGORIES:Indoors
ATTACH;FMTTYPE=image/jpeg:https://downtownwpb.com/wp-content/uploads/Pool-tournament-at-Hideout-Kava.jpg
END:VEVENT
BEGIN:VEVENT
DTSTART;TZID=America/New_York:20231003T200000
DTEND;TZID=America/New_York:20231003T220000
DTSTAMP:20260421T161423
CREATED:20220901T000253Z
LAST-MODIFIED:20230130T145947Z
UID:10012586-1696363200-1696370400@downtownwpb.com
SUMMARY:Tuesday Pool Tournament
DESCRIPTION:Enjoy some friendly competition at Hideout Kava and Tea Clematis’ weekly pool tournaments! Held every Tuesday at 8 p.m.\, it’s free to play and winners can earn a $50 bar tab. \nVisit HideoutTea.com for more information or call (561)542-9446.
URL:https://downtownwpb.com/event/tuesday-pool-tournament/2023-10-03/
LOCATION:Hideout Kava & Tea Clematis\, 107 N. Olive Avenue\, West Palm Beach\, FL\, 33401\, United States
CATEGORIES:Indoors
ATTACH;FMTTYPE=image/jpeg:https://downtownwpb.com/wp-content/uploads/Pool-tournament-at-Hideout-Kava.jpg
END:VEVENT
BEGIN:VEVENT
DTSTART;TZID=America/New_York:20230926T200000
DTEND;TZID=America/New_York:20230926T220000
DTSTAMP:20260421T161423
CREATED:20220901T000253Z
LAST-MODIFIED:20230130T145947Z
UID:10012585-1695758400-1695765600@downtownwpb.com
SUMMARY:Tuesday Pool Tournament
DESCRIPTION:Enjoy some friendly competition at Hideout Kava and Tea Clematis’ weekly pool tournaments! Held every Tuesday at 8 p.m.\, it’s free to play and winners can earn a $50 bar tab. \nVisit HideoutTea.com for more information or call (561)542-9446.
URL:https://downtownwpb.com/event/tuesday-pool-tournament/2023-09-26/
LOCATION:Hideout Kava & Tea Clematis\, 107 N. Olive Avenue\, West Palm Beach\, FL\, 33401\, United States
CATEGORIES:Indoors
ATTACH;FMTTYPE=image/jpeg:https://downtownwpb.com/wp-content/uploads/Pool-tournament-at-Hideout-Kava.jpg
END:VEVENT
BEGIN:VEVENT
DTSTART;TZID=America/New_York:20230919T200000
DTEND;TZID=America/New_York:20230919T220000
DTSTAMP:20260421T161423
CREATED:20220901T000253Z
LAST-MODIFIED:20230130T145947Z
UID:10012584-1695153600-1695160800@downtownwpb.com
SUMMARY:Tuesday Pool Tournament
DESCRIPTION:Enjoy some friendly competition at Hideout Kava and Tea Clematis’ weekly pool tournaments! Held every Tuesday at 8 p.m.\, it’s free to play and winners can earn a $50 bar tab. \nVisit HideoutTea.com for more information or call (561)542-9446.
URL:https://downtownwpb.com/event/tuesday-pool-tournament/2023-09-19/
LOCATION:Hideout Kava & Tea Clematis\, 107 N. Olive Avenue\, West Palm Beach\, FL\, 33401\, United States
CATEGORIES:Indoors
ATTACH;FMTTYPE=image/jpeg:https://downtownwpb.com/wp-content/uploads/Pool-tournament-at-Hideout-Kava.jpg
END:VEVENT
BEGIN:VEVENT
DTSTART;TZID=America/New_York:20230912T200000
DTEND;TZID=America/New_York:20230912T220000
DTSTAMP:20260421T161423
CREATED:20220901T000253Z
LAST-MODIFIED:20230130T145947Z
UID:10012583-1694548800-1694556000@downtownwpb.com
SUMMARY:Tuesday Pool Tournament
DESCRIPTION:Enjoy some friendly competition at Hideout Kava and Tea Clematis’ weekly pool tournaments! Held every Tuesday at 8 p.m.\, it’s free to play and winners can earn a $50 bar tab. \nVisit HideoutTea.com for more information or call (561)542-9446.
URL:https://downtownwpb.com/event/tuesday-pool-tournament/2023-09-12/
LOCATION:Hideout Kava & Tea Clematis\, 107 N. Olive Avenue\, West Palm Beach\, FL\, 33401\, United States
CATEGORIES:Indoors
ATTACH;FMTTYPE=image/jpeg:https://downtownwpb.com/wp-content/uploads/Pool-tournament-at-Hideout-Kava.jpg
END:VEVENT
BEGIN:VEVENT
DTSTART;TZID=America/New_York:20230905T200000
DTEND;TZID=America/New_York:20230905T220000
DTSTAMP:20260421T161423
CREATED:20220901T000253Z
LAST-MODIFIED:20230130T145947Z
UID:10012582-1693944000-1693951200@downtownwpb.com
SUMMARY:Tuesday Pool Tournament
DESCRIPTION:Enjoy some friendly competition at Hideout Kava and Tea Clematis’ weekly pool tournaments! Held every Tuesday at 8 p.m.\, it’s free to play and winners can earn a $50 bar tab. \nVisit HideoutTea.com for more information or call (561)542-9446.
URL:https://downtownwpb.com/event/tuesday-pool-tournament/2023-09-05/
LOCATION:Hideout Kava & Tea Clematis\, 107 N. Olive Avenue\, West Palm Beach\, FL\, 33401\, United States
CATEGORIES:Indoors
ATTACH;FMTTYPE=image/jpeg:https://downtownwpb.com/wp-content/uploads/Pool-tournament-at-Hideout-Kava.jpg
END:VEVENT
BEGIN:VEVENT
DTSTART;TZID=America/New_York:20230829T200000
DTEND;TZID=America/New_York:20230829T220000
DTSTAMP:20260421T161423
CREATED:20220901T000253Z
LAST-MODIFIED:20230130T145947Z
UID:10012581-1693339200-1693346400@downtownwpb.com
SUMMARY:Tuesday Pool Tournament
DESCRIPTION:Enjoy some friendly competition at Hideout Kava and Tea Clematis’ weekly pool tournaments! Held every Tuesday at 8 p.m.\, it’s free to play and winners can earn a $50 bar tab. \nVisit HideoutTea.com for more information or call (561)542-9446.
URL:https://downtownwpb.com/event/tuesday-pool-tournament/2023-08-29/
LOCATION:Hideout Kava & Tea Clematis\, 107 N. Olive Avenue\, West Palm Beach\, FL\, 33401\, United States
CATEGORIES:Indoors
ATTACH;FMTTYPE=image/jpeg:https://downtownwpb.com/wp-content/uploads/Pool-tournament-at-Hideout-Kava.jpg
END:VEVENT
BEGIN:VEVENT
DTSTART;TZID=America/New_York:20230822T200000
DTEND;TZID=America/New_York:20230822T220000
DTSTAMP:20260421T161423
CREATED:20220901T000253Z
LAST-MODIFIED:20230130T145947Z
UID:10012580-1692734400-1692741600@downtownwpb.com
SUMMARY:Tuesday Pool Tournament
DESCRIPTION:Enjoy some friendly competition at Hideout Kava and Tea Clematis’ weekly pool tournaments! Held every Tuesday at 8 p.m.\, it’s free to play and winners can earn a $50 bar tab. \nVisit HideoutTea.com for more information or call (561)542-9446.
URL:https://downtownwpb.com/event/tuesday-pool-tournament/2023-08-22/
LOCATION:Hideout Kava & Tea Clematis\, 107 N. Olive Avenue\, West Palm Beach\, FL\, 33401\, United States
CATEGORIES:Indoors
ATTACH;FMTTYPE=image/jpeg:https://downtownwpb.com/wp-content/uploads/Pool-tournament-at-Hideout-Kava.jpg
END:VEVENT
BEGIN:VEVENT
DTSTART;TZID=America/New_York:20230815T200000
DTEND;TZID=America/New_York:20230815T220000
DTSTAMP:20260421T161423
CREATED:20220901T000253Z
LAST-MODIFIED:20230130T145947Z
UID:10012579-1692129600-1692136800@downtownwpb.com
SUMMARY:Tuesday Pool Tournament
DESCRIPTION:Enjoy some friendly competition at Hideout Kava and Tea Clematis’ weekly pool tournaments! Held every Tuesday at 8 p.m.\, it’s free to play and winners can earn a $50 bar tab. \nVisit HideoutTea.com for more information or call (561)542-9446.
URL:https://downtownwpb.com/event/tuesday-pool-tournament/2023-08-15/
LOCATION:Hideout Kava & Tea Clematis\, 107 N. Olive Avenue\, West Palm Beach\, FL\, 33401\, United States
CATEGORIES:Indoors
ATTACH;FMTTYPE=image/jpeg:https://downtownwpb.com/wp-content/uploads/Pool-tournament-at-Hideout-Kava.jpg
END:VEVENT
BEGIN:VEVENT
DTSTART;TZID=America/New_York:20230808T200000
DTEND;TZID=America/New_York:20230808T220000
DTSTAMP:20260421T161423
CREATED:20220901T000253Z
LAST-MODIFIED:20230130T145947Z
UID:10012578-1691524800-1691532000@downtownwpb.com
SUMMARY:Tuesday Pool Tournament
DESCRIPTION:Enjoy some friendly competition at Hideout Kava and Tea Clematis’ weekly pool tournaments! Held every Tuesday at 8 p.m.\, it’s free to play and winners can earn a $50 bar tab. \nVisit HideoutTea.com for more information or call (561)542-9446.
URL:https://downtownwpb.com/event/tuesday-pool-tournament/2023-08-08/
LOCATION:Hideout Kava & Tea Clematis\, 107 N. Olive Avenue\, West Palm Beach\, FL\, 33401\, United States
CATEGORIES:Indoors
ATTACH;FMTTYPE=image/jpeg:https://downtownwpb.com/wp-content/uploads/Pool-tournament-at-Hideout-Kava.jpg
END:VEVENT
BEGIN:VEVENT
DTSTART;TZID=America/New_York:20230801T200000
DTEND;TZID=America/New_York:20230801T220000
DTSTAMP:20260421T161423
CREATED:20220901T000253Z
LAST-MODIFIED:20230130T145947Z
UID:10012577-1690920000-1690927200@downtownwpb.com
SUMMARY:Tuesday Pool Tournament
DESCRIPTION:Enjoy some friendly competition at Hideout Kava and Tea Clematis’ weekly pool tournaments! Held every Tuesday at 8 p.m.\, it’s free to play and winners can earn a $50 bar tab. \nVisit HideoutTea.com for more information or call (561)542-9446.
URL:https://downtownwpb.com/event/tuesday-pool-tournament/2023-08-01/
LOCATION:Hideout Kava & Tea Clematis\, 107 N. Olive Avenue\, West Palm Beach\, FL\, 33401\, United States
CATEGORIES:Indoors
ATTACH;FMTTYPE=image/jpeg:https://downtownwpb.com/wp-content/uploads/Pool-tournament-at-Hideout-Kava.jpg
END:VEVENT
BEGIN:VEVENT
DTSTART;TZID=America/New_York:20230725T200000
DTEND;TZID=America/New_York:20230725T220000
DTSTAMP:20260421T161423
CREATED:20220901T000253Z
LAST-MODIFIED:20230130T145947Z
UID:10012576-1690315200-1690322400@downtownwpb.com
SUMMARY:Tuesday Pool Tournament
DESCRIPTION:Enjoy some friendly competition at Hideout Kava and Tea Clematis’ weekly pool tournaments! Held every Tuesday at 8 p.m.\, it’s free to play and winners can earn a $50 bar tab. \nVisit HideoutTea.com for more information or call (561)542-9446.
URL:https://downtownwpb.com/event/tuesday-pool-tournament/2023-07-25/
LOCATION:Hideout Kava & Tea Clematis\, 107 N. Olive Avenue\, West Palm Beach\, FL\, 33401\, United States
CATEGORIES:Indoors
ATTACH;FMTTYPE=image/jpeg:https://downtownwpb.com/wp-content/uploads/Pool-tournament-at-Hideout-Kava.jpg
END:VEVENT
BEGIN:VEVENT
DTSTART;TZID=America/New_York:20230718T200000
DTEND;TZID=America/New_York:20230718T220000
DTSTAMP:20260421T161423
CREATED:20220901T000253Z
LAST-MODIFIED:20230130T145947Z
UID:10012575-1689710400-1689717600@downtownwpb.com
SUMMARY:Tuesday Pool Tournament
DESCRIPTION:Enjoy some friendly competition at Hideout Kava and Tea Clematis’ weekly pool tournaments! Held every Tuesday at 8 p.m.\, it’s free to play and winners can earn a $50 bar tab. \nVisit HideoutTea.com for more information or call (561)542-9446.
URL:https://downtownwpb.com/event/tuesday-pool-tournament/2023-07-18/
LOCATION:Hideout Kava & Tea Clematis\, 107 N. Olive Avenue\, West Palm Beach\, FL\, 33401\, United States
CATEGORIES:Indoors
ATTACH;FMTTYPE=image/jpeg:https://downtownwpb.com/wp-content/uploads/Pool-tournament-at-Hideout-Kava.jpg
END:VEVENT
BEGIN:VEVENT
DTSTART;TZID=America/New_York:20230711T200000
DTEND;TZID=America/New_York:20230711T220000
DTSTAMP:20260421T161423
CREATED:20220901T000253Z
LAST-MODIFIED:20230130T145947Z
UID:10012574-1689105600-1689112800@downtownwpb.com
SUMMARY:Tuesday Pool Tournament
DESCRIPTION:Enjoy some friendly competition at Hideout Kava and Tea Clematis’ weekly pool tournaments! Held every Tuesday at 8 p.m.\, it’s free to play and winners can earn a $50 bar tab. \nVisit HideoutTea.com for more information or call (561)542-9446.
URL:https://downtownwpb.com/event/tuesday-pool-tournament/2023-07-11/
LOCATION:Hideout Kava & Tea Clematis\, 107 N. Olive Avenue\, West Palm Beach\, FL\, 33401\, United States
CATEGORIES:Indoors
ATTACH;FMTTYPE=image/jpeg:https://downtownwpb.com/wp-content/uploads/Pool-tournament-at-Hideout-Kava.jpg
END:VEVENT
BEGIN:VEVENT
DTSTART;TZID=America/New_York:20230704T200000
DTEND;TZID=America/New_York:20230704T220000
DTSTAMP:20260421T161423
CREATED:20220901T000253Z
LAST-MODIFIED:20230130T145947Z
UID:10012573-1688500800-1688508000@downtownwpb.com
SUMMARY:Tuesday Pool Tournament
DESCRIPTION:Enjoy some friendly competition at Hideout Kava and Tea Clematis’ weekly pool tournaments! Held every Tuesday at 8 p.m.\, it’s free to play and winners can earn a $50 bar tab. \nVisit HideoutTea.com for more information or call (561)542-9446.
URL:https://downtownwpb.com/event/tuesday-pool-tournament/2023-07-04/
LOCATION:Hideout Kava & Tea Clematis\, 107 N. Olive Avenue\, West Palm Beach\, FL\, 33401\, United States
CATEGORIES:Indoors
ATTACH;FMTTYPE=image/jpeg:https://downtownwpb.com/wp-content/uploads/Pool-tournament-at-Hideout-Kava.jpg
END:VEVENT
BEGIN:VEVENT
DTSTART;TZID=America/New_York:20230627T200000
DTEND;TZID=America/New_York:20230627T220000
DTSTAMP:20260421T161423
CREATED:20220901T000253Z
LAST-MODIFIED:20230130T145947Z
UID:10012572-1687896000-1687903200@downtownwpb.com
SUMMARY:Tuesday Pool Tournament
DESCRIPTION:Enjoy some friendly competition at Hideout Kava and Tea Clematis’ weekly pool tournaments! Held every Tuesday at 8 p.m.\, it’s free to play and winners can earn a $50 bar tab. \nVisit HideoutTea.com for more information or call (561)542-9446.
URL:https://downtownwpb.com/event/tuesday-pool-tournament/2023-06-27/
LOCATION:Hideout Kava & Tea Clematis\, 107 N. Olive Avenue\, West Palm Beach\, FL\, 33401\, United States
CATEGORIES:Indoors
ATTACH;FMTTYPE=image/jpeg:https://downtownwpb.com/wp-content/uploads/Pool-tournament-at-Hideout-Kava.jpg
END:VEVENT
BEGIN:VEVENT
DTSTART;TZID=America/New_York:20230620T200000
DTEND;TZID=America/New_York:20230620T220000
DTSTAMP:20260421T161423
CREATED:20220901T000253Z
LAST-MODIFIED:20230130T145947Z
UID:10012571-1687291200-1687298400@downtownwpb.com
SUMMARY:Tuesday Pool Tournament
DESCRIPTION:Enjoy some friendly competition at Hideout Kava and Tea Clematis’ weekly pool tournaments! Held every Tuesday at 8 p.m.\, it’s free to play and winners can earn a $50 bar tab. \nVisit HideoutTea.com for more information or call (561)542-9446.
URL:https://downtownwpb.com/event/tuesday-pool-tournament/2023-06-20/
LOCATION:Hideout Kava & Tea Clematis\, 107 N. Olive Avenue\, West Palm Beach\, FL\, 33401\, United States
CATEGORIES:Indoors
ATTACH;FMTTYPE=image/jpeg:https://downtownwpb.com/wp-content/uploads/Pool-tournament-at-Hideout-Kava.jpg
END:VEVENT
BEGIN:VEVENT
DTSTART;TZID=America/New_York:20230613T200000
DTEND;TZID=America/New_York:20230613T220000
DTSTAMP:20260421T161423
CREATED:20220901T000253Z
LAST-MODIFIED:20230130T145947Z
UID:10012570-1686686400-1686693600@downtownwpb.com
SUMMARY:Tuesday Pool Tournament
DESCRIPTION:Enjoy some friendly competition at Hideout Kava and Tea Clematis’ weekly pool tournaments! Held every Tuesday at 8 p.m.\, it’s free to play and winners can earn a $50 bar tab. \nVisit HideoutTea.com for more information or call (561)542-9446.
URL:https://downtownwpb.com/event/tuesday-pool-tournament/2023-06-13/
LOCATION:Hideout Kava & Tea Clematis\, 107 N. Olive Avenue\, West Palm Beach\, FL\, 33401\, United States
CATEGORIES:Indoors
ATTACH;FMTTYPE=image/jpeg:https://downtownwpb.com/wp-content/uploads/Pool-tournament-at-Hideout-Kava.jpg
END:VEVENT
BEGIN:VEVENT
DTSTART;TZID=America/New_York:20230606T200000
DTEND;TZID=America/New_York:20230606T220000
DTSTAMP:20260421T161423
CREATED:20220901T000253Z
LAST-MODIFIED:20230130T145947Z
UID:10012569-1686081600-1686088800@downtownwpb.com
SUMMARY:Tuesday Pool Tournament
DESCRIPTION:Enjoy some friendly competition at Hideout Kava and Tea Clematis’ weekly pool tournaments! Held every Tuesday at 8 p.m.\, it’s free to play and winners can earn a $50 bar tab. \nVisit HideoutTea.com for more information or call (561)542-9446.
URL:https://downtownwpb.com/event/tuesday-pool-tournament/2023-06-06/
LOCATION:Hideout Kava & Tea Clematis\, 107 N. Olive Avenue\, West Palm Beach\, FL\, 33401\, United States
CATEGORIES:Indoors
ATTACH;FMTTYPE=image/jpeg:https://downtownwpb.com/wp-content/uploads/Pool-tournament-at-Hideout-Kava.jpg
END:VEVENT
END:VCALENDAR