BEGIN:VCALENDAR
VERSION:2.0
PRODID:-//West Palm Beach - ECPv6.15.5//NONSGML v1.0//EN
CALSCALE:GREGORIAN
METHOD:PUBLISH
X-WR-CALNAME:West Palm Beach
X-ORIGINAL-URL:https://downtownwpb.com
X-WR-CALDESC:Events for West Palm Beach
REFRESH-INTERVAL;VALUE=DURATION:PT1H
X-Robots-Tag:noindex
X-PUBLISHED-TTL:PT1H
BEGIN:VTIMEZONE
TZID:America/New_York
BEGIN:DAYLIGHT
TZOFFSETFROM:-0500
TZOFFSETTO:-0400
TZNAME:EDT
DTSTART:20220313T070000
END:DAYLIGHT
BEGIN:STANDARD
TZOFFSETFROM:-0400
TZOFFSETTO:-0500
TZNAME:EST
DTSTART:20221106T060000
END:STANDARD
END:VTIMEZONE
BEGIN:VEVENT
DTSTART;TZID=America/New_York:20221013T150000
DTEND;TZID=America/New_York:20221013T170000
DTSTAMP:20260424T200231
CREATED:20220927T225401Z
LAST-MODIFIED:20220928T181328Z
UID:10013196-1665673200-1665680400@downtownwpb.com
SUMMARY:Two Michelin Star Tasting Menu Experience
DESCRIPTION:Enjoy a uniquely immersive and explorative 10-14 course tasting menu experience by two Michelin Star Chef Jacob Bickelhaupt and sommelier Nadia Bickelhaupt of Konro\, at the intimate four-seat chef’s counter every Wednesday and Thursday at Fern Street Wine Bar & Kitchen! \nReserve your spot by visiting FernStreetWPB.com and clicking “Reservations” to see all upcoming dates! For more information\, call (561) 328-9745.
URL:https://downtownwpb.com/event/two-michelin-star-tasting-menu-experience/2022-10-13/
LOCATION:Fern Street Wine Bar & Kitchen\, 501 Fern Street\, Suite 104\, West Palm Beach\, FL\, 33401\, United States
CATEGORIES:Indoors
ATTACH;FMTTYPE=image/png:https://downtownwpb.com/wp-content/uploads/Fern-Street-Michelin-Star-Experience-1.png
END:VEVENT
BEGIN:VEVENT
DTSTART;TZID=America/New_York:20221012T150000
DTEND;TZID=America/New_York:20221012T170000
DTSTAMP:20260424T200231
CREATED:20220927T225401Z
LAST-MODIFIED:20220928T181328Z
UID:10013195-1665586800-1665594000@downtownwpb.com
SUMMARY:Two Michelin Star Tasting Menu Experience
DESCRIPTION:Enjoy a uniquely immersive and explorative 10-14 course tasting menu experience by two Michelin Star Chef Jacob Bickelhaupt and sommelier Nadia Bickelhaupt of Konro\, at the intimate four-seat chef’s counter every Wednesday and Thursday at Fern Street Wine Bar & Kitchen! \nReserve your spot by visiting FernStreetWPB.com and clicking “Reservations” to see all upcoming dates! For more information\, call (561) 328-9745.
URL:https://downtownwpb.com/event/two-michelin-star-tasting-menu-experience/2022-10-12/
LOCATION:Fern Street Wine Bar & Kitchen\, 501 Fern Street\, Suite 104\, West Palm Beach\, FL\, 33401\, United States
CATEGORIES:Indoors
ATTACH;FMTTYPE=image/png:https://downtownwpb.com/wp-content/uploads/Fern-Street-Michelin-Star-Experience-1.png
END:VEVENT
BEGIN:VEVENT
DTSTART;TZID=America/New_York:20221006T150000
DTEND;TZID=America/New_York:20221006T170000
DTSTAMP:20260424T200231
CREATED:20220927T225401Z
LAST-MODIFIED:20220928T181328Z
UID:10013194-1665068400-1665075600@downtownwpb.com
SUMMARY:Two Michelin Star Tasting Menu Experience
DESCRIPTION:Enjoy a uniquely immersive and explorative 10-14 course tasting menu experience by two Michelin Star Chef Jacob Bickelhaupt and sommelier Nadia Bickelhaupt of Konro\, at the intimate four-seat chef’s counter every Wednesday and Thursday at Fern Street Wine Bar & Kitchen! \nReserve your spot by visiting FernStreetWPB.com and clicking “Reservations” to see all upcoming dates! For more information\, call (561) 328-9745.
URL:https://downtownwpb.com/event/two-michelin-star-tasting-menu-experience/2022-10-06/
LOCATION:Fern Street Wine Bar & Kitchen\, 501 Fern Street\, Suite 104\, West Palm Beach\, FL\, 33401\, United States
CATEGORIES:Indoors
ATTACH;FMTTYPE=image/png:https://downtownwpb.com/wp-content/uploads/Fern-Street-Michelin-Star-Experience-1.png
END:VEVENT
BEGIN:VEVENT
DTSTART;TZID=America/New_York:20221005T150000
DTEND;TZID=America/New_York:20221005T170000
DTSTAMP:20260424T200231
CREATED:20220927T225401Z
LAST-MODIFIED:20220928T181328Z
UID:10013193-1664982000-1664989200@downtownwpb.com
SUMMARY:Two Michelin Star Tasting Menu Experience
DESCRIPTION:Enjoy a uniquely immersive and explorative 10-14 course tasting menu experience by two Michelin Star Chef Jacob Bickelhaupt and sommelier Nadia Bickelhaupt of Konro\, at the intimate four-seat chef’s counter every Wednesday and Thursday at Fern Street Wine Bar & Kitchen! \nReserve your spot by visiting FernStreetWPB.com and clicking “Reservations” to see all upcoming dates! For more information\, call (561) 328-9745.
URL:https://downtownwpb.com/event/two-michelin-star-tasting-menu-experience/2022-10-05/
LOCATION:Fern Street Wine Bar & Kitchen\, 501 Fern Street\, Suite 104\, West Palm Beach\, FL\, 33401\, United States
CATEGORIES:Indoors
ATTACH;FMTTYPE=image/png:https://downtownwpb.com/wp-content/uploads/Fern-Street-Michelin-Star-Experience-1.png
END:VEVENT
BEGIN:VEVENT
DTSTART;TZID=America/New_York:20220929T150000
DTEND;TZID=America/New_York:20220929T170000
DTSTAMP:20260424T200231
CREATED:20220927T225401Z
LAST-MODIFIED:20220928T181328Z
UID:10013192-1664463600-1664470800@downtownwpb.com
SUMMARY:Two Michelin Star Tasting Menu Experience
DESCRIPTION:Enjoy a uniquely immersive and explorative 10-14 course tasting menu experience by two Michelin Star Chef Jacob Bickelhaupt and sommelier Nadia Bickelhaupt of Konro\, at the intimate four-seat chef’s counter every Wednesday and Thursday at Fern Street Wine Bar & Kitchen! \nReserve your spot by visiting FernStreetWPB.com and clicking “Reservations” to see all upcoming dates! For more information\, call (561) 328-9745.
URL:https://downtownwpb.com/event/two-michelin-star-tasting-menu-experience/2022-09-29/
LOCATION:Fern Street Wine Bar & Kitchen\, 501 Fern Street\, Suite 104\, West Palm Beach\, FL\, 33401\, United States
CATEGORIES:Indoors
ATTACH;FMTTYPE=image/png:https://downtownwpb.com/wp-content/uploads/Fern-Street-Michelin-Star-Experience-1.png
END:VEVENT
BEGIN:VEVENT
DTSTART;TZID=America/New_York:20220928T150000
DTEND;TZID=America/New_York:20220928T170000
DTSTAMP:20260424T200231
CREATED:20220927T225401Z
LAST-MODIFIED:20220928T181328Z
UID:10013191-1664377200-1664384400@downtownwpb.com
SUMMARY:Two Michelin Star Tasting Menu Experience
DESCRIPTION:Enjoy a uniquely immersive and explorative 10-14 course tasting menu experience by two Michelin Star Chef Jacob Bickelhaupt and sommelier Nadia Bickelhaupt of Konro\, at the intimate four-seat chef’s counter every Wednesday and Thursday at Fern Street Wine Bar & Kitchen! \nReserve your spot by visiting FernStreetWPB.com and clicking “Reservations” to see all upcoming dates! For more information\, call (561) 328-9745.
URL:https://downtownwpb.com/event/two-michelin-star-tasting-menu-experience/2022-09-28/
LOCATION:Fern Street Wine Bar & Kitchen\, 501 Fern Street\, Suite 104\, West Palm Beach\, FL\, 33401\, United States
CATEGORIES:Indoors
ATTACH;FMTTYPE=image/png:https://downtownwpb.com/wp-content/uploads/Fern-Street-Michelin-Star-Experience-1.png
END:VEVENT
END:VCALENDAR