BEGIN:VCALENDAR
VERSION:2.0
PRODID:-//West Palm Beach - ECPv6.15.5//NONSGML v1.0//EN
CALSCALE:GREGORIAN
METHOD:PUBLISH
X-ORIGINAL-URL:https://downtownwpb.com
X-WR-CALDESC:Events for West Palm Beach
REFRESH-INTERVAL;VALUE=DURATION:PT1H
X-Robots-Tag:noindex
X-PUBLISHED-TTL:PT1H
BEGIN:VTIMEZONE
TZID:America/New_York
BEGIN:DAYLIGHT
TZOFFSETFROM:-0500
TZOFFSETTO:-0400
TZNAME:EDT
DTSTART:20230312T070000
END:DAYLIGHT
BEGIN:STANDARD
TZOFFSETFROM:-0400
TZOFFSETTO:-0500
TZNAME:EST
DTSTART:20231105T060000
END:STANDARD
END:VTIMEZONE
BEGIN:VEVENT
DTSTART;TZID=America/New_York:20230223T170000
DTEND;TZID=America/New_York:20230223T190000
DTSTAMP:20260424T064353
CREATED:20230215T204607Z
LAST-MODIFIED:20230215T204607Z
UID:10013877-1677171600-1677178800@downtownwpb.com
SUMMARY:D Is For Design Ribbon Cutting
DESCRIPTION:Join us for the official ribbon cutting at D is for Design on Thursday\, February 23! \nFrom 5-7 p.m.\, enjoy light snacks and refreshments. The event is free to attend open to the public. \nNo pre-registration is required.
URL:https://downtownwpb.com/event/d-is-for-design-ribbon-cutting/
LOCATION:D Is For Design\, 312 S. Dixie Highway\, West Palm Beach\, FL\, 33401\, United States
CATEGORIES:Indoors,Outdoors
ATTACH;FMTTYPE=image/png:https://downtownwpb.com/wp-content/uploads/D-is-for-design.png
END:VEVENT
END:VCALENDAR