BEGIN:VCALENDAR
VERSION:2.0
PRODID:-//West Palm Beach - ECPv6.15.5//NONSGML v1.0//EN
CALSCALE:GREGORIAN
METHOD:PUBLISH
X-WR-CALNAME:West Palm Beach
X-ORIGINAL-URL:https://downtownwpb.com
X-WR-CALDESC:Events for West Palm Beach
REFRESH-INTERVAL;VALUE=DURATION:PT1H
X-Robots-Tag:noindex
X-PUBLISHED-TTL:PT1H
BEGIN:VTIMEZONE
TZID:America/New_York
BEGIN:DAYLIGHT
TZOFFSETFROM:-0500
TZOFFSETTO:-0400
TZNAME:EDT
DTSTART:20220313T070000
END:DAYLIGHT
BEGIN:STANDARD
TZOFFSETFROM:-0400
TZOFFSETTO:-0500
TZNAME:EST
DTSTART:20221106T060000
END:STANDARD
END:VTIMEZONE
BEGIN:VEVENT
DTSTART;TZID=America/New_York:20221228T123000
DTEND;TZID=America/New_York:20221228T160000
DTSTAMP:20260420T050507
CREATED:20220901T232825Z
LAST-MODIFIED:20220929T174634Z
UID:10012605-1672230600-1672243200@downtownwpb.com
SUMMARY:The Therapy Sessions
DESCRIPTION:Head to Alchemy Juice Co. & Market for The Therapy Sessions: Open Mic Comedy Night for an evening of jokes\, laughter and community. \nStrong language and adult content will be plentiful\, so please use your discretion when bringing the kiddos. \nThis event is free to attend and held every last Wednesday of the month. Sign-up is at 5:30 p.m.\, then the show starts at 6 p.m.
URL:https://downtownwpb.com/event/the-therapy-sessions/2022-12-28/
LOCATION:Alchemy Juice Co. & Market\, 527 Clematis Street\, West Palm Beach\, FL\, 33401\, United States
CATEGORIES:Indoors
ATTACH;FMTTYPE=image/jpeg:https://downtownwpb.com/wp-content/uploads/Therapy-Sessions.jpg
END:VEVENT
BEGIN:VEVENT
DTSTART;TZID=America/New_York:20221227T140000
DTEND;TZID=America/New_York:20221227T160000
DTSTAMP:20260420T050507
CREATED:20221012T004512Z
LAST-MODIFIED:20221012T004512Z
UID:10012500-1672149600-1672156800@downtownwpb.com
SUMMARY:Tribe of Men Palm Beach
DESCRIPTION:Join us for Tribe of Men Palm Beach to discuss topics of mutual interest\, personal issues confronting us and share the passing of our lives. \nSuch groups create deep friendships that are often missing in today’s world of impersonal interactions. If you enjoy discussing spiritual\, philosophic\, social and at time even political topics\, then you may want to consider joining. \nTribe of Men Palm Beach meets once a month at Alchemy Juice Co. & Market. It is FREE to attend but registration is required. \nClick Here to register. \n 
URL:https://downtownwpb.com/event/tribe-of-men-palm-beach/2022-12-27/
LOCATION:Alchemy Juice Co. & Market\, 527 Clematis Street\, West Palm Beach\, FL\, 33401\, United States
CATEGORIES:Indoors
ATTACH;FMTTYPE=image/png:https://downtownwpb.com/wp-content/uploads/Tribe-of-Men.png
END:VEVENT
BEGIN:VEVENT
DTSTART;TZID=America/New_York:20221221T123000
DTEND;TZID=America/New_York:20221221T140000
DTSTAMP:20260420T050507
CREATED:20221012T002737Z
LAST-MODIFIED:20221012T002737Z
UID:10012496-1671625800-1671631200@downtownwpb.com
SUMMARY:Bourbon Sprawl
DESCRIPTION:Bourbon Sprawl is a monthly meetup hosted by ConnectWPB\, created to gather urban enthusiasts\, community advocates\, and creative placemakers! \nJoin us every third Wednesday of the month at Alchemy Juice Co. & Market from 5:30-7 p.m. to discuss urban topics while sipping bourbon. Tickets are priced at $15 to help support ConnectWPB. \nClick Here for more information and to purchase tickets.
URL:https://downtownwpb.com/event/bourbon-sprawl/2022-12-21/
LOCATION:Alchemy Juice Co. & Market\, 527 Clematis Street\, West Palm Beach\, FL\, 33401\, United States
ATTACH;FMTTYPE=image/png:https://downtownwpb.com/wp-content/uploads/Bourbon-Sprawl.png
END:VEVENT
BEGIN:VEVENT
DTSTART;TZID=America/New_York:20221214T133000
DTEND;TZID=America/New_York:20221214T150000
DTSTAMP:20260420T050507
CREATED:20221212T192815Z
LAST-MODIFIED:20221212T192815Z
UID:10013635-1671024600-1671030000@downtownwpb.com
SUMMARY:Holiday Charcuterie Workshop
DESCRIPTION:Get ready to WOW your friends and family this holiday season with your newly found charcuterie board skills! \nThe adorable and talented Cinthya from Touch of Taste Charcuterie Boards will guide guests through each step in arranging stunning boards\, like how to create roses\, achieve height and add those special touches! \nTickets are $75 and include everything you need to create a beautiful charcuterie board\, including select meats and cheeses\, fresh and dried fruits\, nuts\, honey\, crackers and a glass of wine\, of course! \nClick Here for more information and to purchase tickets.
URL:https://downtownwpb.com/event/holiday-charcuterie-workshop/
LOCATION:Alchemy Juice Co. & Market\, 527 Clematis Street\, West Palm Beach\, FL\, 33401\, United States
CATEGORIES:Indoors
ATTACH;FMTTYPE=image/jpeg:https://downtownwpb.com/wp-content/uploads/Holiday-Charcuterie-Class-at-Alchemy.jpg
END:VEVENT
BEGIN:VEVENT
DTSTART;TZID=America/New_York:20221130T123000
DTEND;TZID=America/New_York:20221130T160000
DTSTAMP:20260420T050507
CREATED:20220901T232825Z
LAST-MODIFIED:20220929T174634Z
UID:10012604-1669811400-1669824000@downtownwpb.com
SUMMARY:The Therapy Sessions
DESCRIPTION:Head to Alchemy Juice Co. & Market for The Therapy Sessions: Open Mic Comedy Night for an evening of jokes\, laughter and community. \nStrong language and adult content will be plentiful\, so please use your discretion when bringing the kiddos. \nThis event is free to attend and held every last Wednesday of the month. Sign-up is at 5:30 p.m.\, then the show starts at 6 p.m.
URL:https://downtownwpb.com/event/the-therapy-sessions/2022-11-30/
LOCATION:Alchemy Juice Co. & Market\, 527 Clematis Street\, West Palm Beach\, FL\, 33401\, United States
CATEGORIES:Indoors
ATTACH;FMTTYPE=image/jpeg:https://downtownwpb.com/wp-content/uploads/Therapy-Sessions.jpg
END:VEVENT
BEGIN:VEVENT
DTSTART;TZID=America/New_York:20221122T140000
DTEND;TZID=America/New_York:20221122T160000
DTSTAMP:20260420T050507
CREATED:20221012T004512Z
LAST-MODIFIED:20221012T004512Z
UID:10012499-1669125600-1669132800@downtownwpb.com
SUMMARY:Tribe of Men Palm Beach
DESCRIPTION:Join us for Tribe of Men Palm Beach to discuss topics of mutual interest\, personal issues confronting us and share the passing of our lives. \nSuch groups create deep friendships that are often missing in today’s world of impersonal interactions. If you enjoy discussing spiritual\, philosophic\, social and at time even political topics\, then you may want to consider joining. \nTribe of Men Palm Beach meets once a month at Alchemy Juice Co. & Market. It is FREE to attend but registration is required. \nClick Here to register. \n 
URL:https://downtownwpb.com/event/tribe-of-men-palm-beach/2022-11-22/
LOCATION:Alchemy Juice Co. & Market\, 527 Clematis Street\, West Palm Beach\, FL\, 33401\, United States
CATEGORIES:Indoors
ATTACH;FMTTYPE=image/png:https://downtownwpb.com/wp-content/uploads/Tribe-of-Men.png
END:VEVENT
BEGIN:VEVENT
DTSTART;TZID=America/New_York:20221116T123000
DTEND;TZID=America/New_York:20221116T140000
DTSTAMP:20260420T050507
CREATED:20221012T002737Z
LAST-MODIFIED:20221012T002737Z
UID:10012495-1668601800-1668607200@downtownwpb.com
SUMMARY:Bourbon Sprawl
DESCRIPTION:Bourbon Sprawl is a monthly meetup hosted by ConnectWPB\, created to gather urban enthusiasts\, community advocates\, and creative placemakers! \nJoin us every third Wednesday of the month at Alchemy Juice Co. & Market from 5:30-7 p.m. to discuss urban topics while sipping bourbon. Tickets are priced at $15 to help support ConnectWPB. \nClick Here for more information and to purchase tickets.
URL:https://downtownwpb.com/event/bourbon-sprawl/2022-11-16/
LOCATION:Alchemy Juice Co. & Market\, 527 Clematis Street\, West Palm Beach\, FL\, 33401\, United States
ATTACH;FMTTYPE=image/png:https://downtownwpb.com/wp-content/uploads/Bourbon-Sprawl.png
END:VEVENT
BEGIN:VEVENT
DTSTART;TZID=America/New_York:20221026T133000
DTEND;TZID=America/New_York:20221026T170000
DTSTAMP:20260420T050507
CREATED:20220901T232825Z
LAST-MODIFIED:20220929T174634Z
UID:10012603-1666791000-1666803600@downtownwpb.com
SUMMARY:The Therapy Sessions
DESCRIPTION:Head to Alchemy Juice Co. & Market for The Therapy Sessions: Open Mic Comedy Night for an evening of jokes\, laughter and community. \nStrong language and adult content will be plentiful\, so please use your discretion when bringing the kiddos. \nThis event is free to attend and held every last Wednesday of the month. Sign-up is at 5:30 p.m.\, then the show starts at 6 p.m.
URL:https://downtownwpb.com/event/the-therapy-sessions/2022-10-26/
LOCATION:Alchemy Juice Co. & Market\, 527 Clematis Street\, West Palm Beach\, FL\, 33401\, United States
CATEGORIES:Indoors
ATTACH;FMTTYPE=image/jpeg:https://downtownwpb.com/wp-content/uploads/Therapy-Sessions.jpg
END:VEVENT
BEGIN:VEVENT
DTSTART;TZID=America/New_York:20221025T150000
DTEND;TZID=America/New_York:20221025T170000
DTSTAMP:20260420T050507
CREATED:20221012T004512Z
LAST-MODIFIED:20221012T004512Z
UID:10012498-1666710000-1666717200@downtownwpb.com
SUMMARY:Tribe of Men Palm Beach
DESCRIPTION:Join us for Tribe of Men Palm Beach to discuss topics of mutual interest\, personal issues confronting us and share the passing of our lives. \nSuch groups create deep friendships that are often missing in today’s world of impersonal interactions. If you enjoy discussing spiritual\, philosophic\, social and at time even political topics\, then you may want to consider joining. \nTribe of Men Palm Beach meets once a month at Alchemy Juice Co. & Market. It is FREE to attend but registration is required. \nClick Here to register. \n 
URL:https://downtownwpb.com/event/tribe-of-men-palm-beach/2022-10-25/
LOCATION:Alchemy Juice Co. & Market\, 527 Clematis Street\, West Palm Beach\, FL\, 33401\, United States
CATEGORIES:Indoors
ATTACH;FMTTYPE=image/png:https://downtownwpb.com/wp-content/uploads/Tribe-of-Men.png
END:VEVENT
BEGIN:VEVENT
DTSTART;TZID=America/New_York:20221019T133000
DTEND;TZID=America/New_York:20221019T150000
DTSTAMP:20260420T050507
CREATED:20221012T002737Z
LAST-MODIFIED:20221012T002737Z
UID:10012494-1666186200-1666191600@downtownwpb.com
SUMMARY:Bourbon Sprawl
DESCRIPTION:Bourbon Sprawl is a monthly meetup hosted by ConnectWPB\, created to gather urban enthusiasts\, community advocates\, and creative placemakers! \nJoin us every third Wednesday of the month at Alchemy Juice Co. & Market from 5:30-7 p.m. to discuss urban topics while sipping bourbon. Tickets are priced at $15 to help support ConnectWPB. \nClick Here for more information and to purchase tickets.
URL:https://downtownwpb.com/event/bourbon-sprawl/2022-10-19/
LOCATION:Alchemy Juice Co. & Market\, 527 Clematis Street\, West Palm Beach\, FL\, 33401\, United States
ATTACH;FMTTYPE=image/png:https://downtownwpb.com/wp-content/uploads/Bourbon-Sprawl.png
END:VEVENT
BEGIN:VEVENT
DTSTART;TZID=America/New_York:20221012T140000
DTEND;TZID=America/New_York:20221012T160000
DTSTAMP:20260420T050507
CREATED:20220927T223622Z
LAST-MODIFIED:20220927T223622Z
UID:10013188-1665583200-1665590400@downtownwpb.com
SUMMARY:Creepy Cocktail & Spooky Charcuterie Workshop
DESCRIPTION:Eat\, drink and be scary! \nJoin us at Alchemy Juice Co. & Market to create (+ sip!) your own cocktail with mixologist maven Jules Aron then learn how to build a Halloween-themed Jarcuterie The Babes’ way. \nTickets are $75 per person and include the following: \n\nCocktail instruction and education\nMixologist’s choice of liquor\, elixirs\, fresh fruit + herb garnishes\, Halloween décor and vessel\nCharcuterie instruction\, education and pairing\nChef’s choice of artisan cheeses\, cured meats\, fresh + dried fruit\, seasonal jam\, nuts\, crackers\, Halloween sweets\, snacks and décor as well as your choice of a ghoulish goblet\n\nClick Here for more information and to purchase tickets.
URL:https://downtownwpb.com/event/creepy-cocktail-spooky-charcuterie-workshop/
LOCATION:Alchemy Juice Co. & Market\, 527 Clematis Street\, West Palm Beach\, FL\, 33401\, United States
CATEGORIES:Indoors
ATTACH;FMTTYPE=image/png:https://downtownwpb.com/wp-content/uploads/Spooky-charcuterie-workshop.png
END:VEVENT
BEGIN:VEVENT
DTSTART;TZID=America/New_York:20220928T133000
DTEND;TZID=America/New_York:20220928T170000
DTSTAMP:20260420T050507
CREATED:20220901T232825Z
LAST-MODIFIED:20220929T174634Z
UID:10012602-1664371800-1664384400@downtownwpb.com
SUMMARY:The Therapy Sessions
DESCRIPTION:Head to Alchemy Juice Co. & Market for The Therapy Sessions: Open Mic Comedy Night for an evening of jokes\, laughter and community. \nStrong language and adult content will be plentiful\, so please use your discretion when bringing the kiddos. \nThis event is free to attend and held every last Wednesday of the month. Sign-up is at 5:30 p.m.\, then the show starts at 6 p.m.
URL:https://downtownwpb.com/event/the-therapy-sessions/2022-09-28/
LOCATION:Alchemy Juice Co. & Market\, 527 Clematis Street\, West Palm Beach\, FL\, 33401\, United States
CATEGORIES:Indoors
ATTACH;FMTTYPE=image/jpeg:https://downtownwpb.com/wp-content/uploads/Therapy-Sessions.jpg
END:VEVENT
BEGIN:VEVENT
DTSTART;TZID=America/New_York:20220909T143000
DTEND;TZID=America/New_York:20220909T153000
DTSTAMP:20260420T050507
CREATED:20220901T231741Z
LAST-MODIFIED:20220901T231741Z
UID:10012601-1662733800-1662737400@downtownwpb.com
SUMMARY:Full Moon Tea Ritual
DESCRIPTION:Enjoy an evening of sound\, meditation and soul regeneration during the monthly Full Moon Tea Ritual at Alchemy Juice Co. & Market. \nThe ritual is an intimate community gathering where the moon’s energy\, the healing elements of tea\, sound\, meditation and guided conversation are integrated to curate a unique experience rooted in presence\, awareness and connection. \nTickets cost $15. Click Here for more information and to purchase tickets.
URL:https://downtownwpb.com/event/full-moon-tea-ritual/
LOCATION:Alchemy Juice Co. & Market\, 527 Clematis Street\, West Palm Beach\, FL\, 33401\, United States
CATEGORIES:Indoors
ATTACH;FMTTYPE=image/jpeg:https://downtownwpb.com/wp-content/uploads/closeup-shot-moon-isolated-black-background-great-articles-about-space-1.jpg
END:VEVENT
END:VCALENDAR