BEGIN:VCALENDAR
VERSION:2.0
PRODID:-//West Palm Beach - ECPv6.15.5//NONSGML v1.0//EN
CALSCALE:GREGORIAN
METHOD:PUBLISH
X-WR-CALNAME:West Palm Beach
X-ORIGINAL-URL:https://downtownwpb.com
X-WR-CALDESC:Events for West Palm Beach
REFRESH-INTERVAL;VALUE=DURATION:PT1H
X-Robots-Tag:noindex
X-PUBLISHED-TTL:PT1H
BEGIN:VTIMEZONE
TZID:America/New_York
BEGIN:DAYLIGHT
TZOFFSETFROM:-0500
TZOFFSETTO:-0400
TZNAME:EDT
DTSTART:20300310T070000
END:DAYLIGHT
BEGIN:STANDARD
TZOFFSETFROM:-0400
TZOFFSETTO:-0500
TZNAME:EST
DTSTART:20301103T060000
END:STANDARD
END:VTIMEZONE
BEGIN:VEVENT
DTSTART;TZID=America/New_York:20300319T083000
DTEND;TZID=America/New_York:20300319T103000
DTSTAMP:20260425T070408
CREATED:20250710T191520Z
LAST-MODIFIED:20251001T132014Z
UID:10040779-1900139400-1900146600@downtownwpb.com
SUMMARY:DDA Board Meeting
DESCRIPTION:DDA Board Meetings are held on the 3rd Tuesday of each month at 8:30 a.m. \nMeeting agendas and materials are posted prior to each meeting.
URL:https://downtownwpb.com/event/dda-board-meeting-3/2030-03-19/
LOCATION:West Palm Beach Downtown Development Authority\, 107 S. Olive Avenue #200\, West Palm Beach\, FL\, 33401\, United States
CATEGORIES:Indoors
ATTACH;FMTTYPE=image/jpeg:https://downtownwpb.com/wp-content/uploads/DDA-1.jpg
ORGANIZER;CN="West Palm Beach Downtown Development Authority":MAILTO:tjames@downtownwpb.com
END:VEVENT
BEGIN:VEVENT
DTSTART;TZID=America/New_York:20300416T083000
DTEND;TZID=America/New_York:20300416T103000
DTSTAMP:20260425T070408
CREATED:20250710T191520Z
LAST-MODIFIED:20251001T132014Z
UID:10040780-1902558600-1902565800@downtownwpb.com
SUMMARY:DDA Board Meeting
DESCRIPTION:DDA Board Meetings are held on the 3rd Tuesday of each month at 8:30 a.m. \nMeeting agendas and materials are posted prior to each meeting.
URL:https://downtownwpb.com/event/dda-board-meeting-3/2030-04-16/
LOCATION:West Palm Beach Downtown Development Authority\, 107 S. Olive Avenue #200\, West Palm Beach\, FL\, 33401\, United States
CATEGORIES:Indoors
ATTACH;FMTTYPE=image/jpeg:https://downtownwpb.com/wp-content/uploads/DDA-1.jpg
ORGANIZER;CN="West Palm Beach Downtown Development Authority":MAILTO:tjames@downtownwpb.com
END:VEVENT
BEGIN:VEVENT
DTSTART;TZID=America/New_York:20300521T083000
DTEND;TZID=America/New_York:20300521T103000
DTSTAMP:20260425T070408
CREATED:20250710T191520Z
LAST-MODIFIED:20251001T132014Z
UID:10040781-1905582600-1905589800@downtownwpb.com
SUMMARY:DDA Board Meeting
DESCRIPTION:DDA Board Meetings are held on the 3rd Tuesday of each month at 8:30 a.m. \nMeeting agendas and materials are posted prior to each meeting.
URL:https://downtownwpb.com/event/dda-board-meeting-3/2030-05-21/
LOCATION:West Palm Beach Downtown Development Authority\, 107 S. Olive Avenue #200\, West Palm Beach\, FL\, 33401\, United States
CATEGORIES:Indoors
ATTACH;FMTTYPE=image/jpeg:https://downtownwpb.com/wp-content/uploads/DDA-1.jpg
ORGANIZER;CN="West Palm Beach Downtown Development Authority":MAILTO:tjames@downtownwpb.com
END:VEVENT
BEGIN:VEVENT
DTSTART;TZID=America/New_York:20300618T083000
DTEND;TZID=America/New_York:20300618T103000
DTSTAMP:20260425T070408
CREATED:20250710T191520Z
LAST-MODIFIED:20251001T132014Z
UID:10040782-1908001800-1908009000@downtownwpb.com
SUMMARY:DDA Board Meeting
DESCRIPTION:DDA Board Meetings are held on the 3rd Tuesday of each month at 8:30 a.m. \nMeeting agendas and materials are posted prior to each meeting.
URL:https://downtownwpb.com/event/dda-board-meeting-3/2030-06-18/
LOCATION:West Palm Beach Downtown Development Authority\, 107 S. Olive Avenue #200\, West Palm Beach\, FL\, 33401\, United States
CATEGORIES:Indoors
ATTACH;FMTTYPE=image/jpeg:https://downtownwpb.com/wp-content/uploads/DDA-1.jpg
ORGANIZER;CN="West Palm Beach Downtown Development Authority":MAILTO:tjames@downtownwpb.com
END:VEVENT
BEGIN:VEVENT
DTSTART;TZID=America/New_York:20300716T083000
DTEND;TZID=America/New_York:20300716T103000
DTSTAMP:20260425T070408
CREATED:20250710T191520Z
LAST-MODIFIED:20251001T132014Z
UID:10042987-1910421000-1910428200@downtownwpb.com
SUMMARY:DDA Board Meeting
DESCRIPTION:DDA Board Meetings are held on the 3rd Tuesday of each month at 8:30 a.m. \nMeeting agendas and materials are posted prior to each meeting.
URL:https://downtownwpb.com/event/dda-board-meeting-3/2030-07-16/
LOCATION:West Palm Beach Downtown Development Authority\, 107 S. Olive Avenue #200\, West Palm Beach\, FL\, 33401\, United States
CATEGORIES:Indoors
ATTACH;FMTTYPE=image/jpeg:https://downtownwpb.com/wp-content/uploads/DDA-1.jpg
ORGANIZER;CN="West Palm Beach Downtown Development Authority":MAILTO:tjames@downtownwpb.com
END:VEVENT
BEGIN:VEVENT
DTSTART;TZID=America/New_York:20300820T083000
DTEND;TZID=America/New_York:20300820T103000
DTSTAMP:20260425T070408
CREATED:20250710T191520Z
LAST-MODIFIED:20251001T132014Z
UID:10042988-1913445000-1913452200@downtownwpb.com
SUMMARY:DDA Board Meeting
DESCRIPTION:DDA Board Meetings are held on the 3rd Tuesday of each month at 8:30 a.m. \nMeeting agendas and materials are posted prior to each meeting.
URL:https://downtownwpb.com/event/dda-board-meeting-3/2030-08-20/
LOCATION:West Palm Beach Downtown Development Authority\, 107 S. Olive Avenue #200\, West Palm Beach\, FL\, 33401\, United States
CATEGORIES:Indoors
ATTACH;FMTTYPE=image/jpeg:https://downtownwpb.com/wp-content/uploads/DDA-1.jpg
ORGANIZER;CN="West Palm Beach Downtown Development Authority":MAILTO:tjames@downtownwpb.com
END:VEVENT
BEGIN:VEVENT
DTSTART;TZID=America/New_York:20300917T083000
DTEND;TZID=America/New_York:20300917T103000
DTSTAMP:20260425T070408
CREATED:20250710T191520Z
LAST-MODIFIED:20251001T132014Z
UID:10042989-1915864200-1915871400@downtownwpb.com
SUMMARY:DDA Board Meeting
DESCRIPTION:DDA Board Meetings are held on the 3rd Tuesday of each month at 8:30 a.m. \nMeeting agendas and materials are posted prior to each meeting.
URL:https://downtownwpb.com/event/dda-board-meeting-3/2030-09-17/
LOCATION:West Palm Beach Downtown Development Authority\, 107 S. Olive Avenue #200\, West Palm Beach\, FL\, 33401\, United States
CATEGORIES:Indoors
ATTACH;FMTTYPE=image/jpeg:https://downtownwpb.com/wp-content/uploads/DDA-1.jpg
ORGANIZER;CN="West Palm Beach Downtown Development Authority":MAILTO:tjames@downtownwpb.com
END:VEVENT
BEGIN:VEVENT
DTSTART;TZID=America/New_York:20301015T083000
DTEND;TZID=America/New_York:20301015T103000
DTSTAMP:20260425T070408
CREATED:20250710T191520Z
LAST-MODIFIED:20251001T132014Z
UID:10043464-1918283400-1918290600@downtownwpb.com
SUMMARY:DDA Board Meeting
DESCRIPTION:DDA Board Meetings are held on the 3rd Tuesday of each month at 8:30 a.m. \nMeeting agendas and materials are posted prior to each meeting.
URL:https://downtownwpb.com/event/dda-board-meeting-3/2030-10-15/
LOCATION:West Palm Beach Downtown Development Authority\, 107 S. Olive Avenue #200\, West Palm Beach\, FL\, 33401\, United States
CATEGORIES:Indoors
ATTACH;FMTTYPE=image/jpeg:https://downtownwpb.com/wp-content/uploads/DDA-1.jpg
ORGANIZER;CN="West Palm Beach Downtown Development Authority":MAILTO:tjames@downtownwpb.com
END:VEVENT
END:VCALENDAR