BEGIN:VCALENDAR
VERSION:2.0
PRODID:-//West Palm Beach - ECPv6.15.5//NONSGML v1.0//EN
CALSCALE:GREGORIAN
METHOD:PUBLISH
X-WR-CALNAME:West Palm Beach
X-ORIGINAL-URL:https://downtownwpb.com
X-WR-CALDESC:Events for West Palm Beach
REFRESH-INTERVAL;VALUE=DURATION:PT1H
X-Robots-Tag:noindex
X-PUBLISHED-TTL:PT1H
BEGIN:VTIMEZONE
TZID:America/New_York
BEGIN:DAYLIGHT
TZOFFSETFROM:-0500
TZOFFSETTO:-0400
TZNAME:EDT
DTSTART:20240310T070000
END:DAYLIGHT
BEGIN:STANDARD
TZOFFSETFROM:-0400
TZOFFSETTO:-0500
TZNAME:EST
DTSTART:20241103T060000
END:STANDARD
END:VTIMEZONE
BEGIN:VEVENT
DTSTART;TZID=America/New_York:20240917T083000
DTEND;TZID=America/New_York:20240917T103000
DTSTAMP:20260420T182928
CREATED:20240130T144900Z
LAST-MODIFIED:20241018T013317Z
UID:10016202-1726561800-1726569000@downtownwpb.com
SUMMARY:DDA Board Meeting
DESCRIPTION:DDA Board Meetings are held on the 3rd Tuesday of each month at 8:30 a.m. \nMeeting agendas and materials are posted prior to each meeting.
URL:https://downtownwpb.com/dda/board-meetings/
LOCATION:The Ben Autograph Collection Hotel\, 251 N. Narcissus Avenue\, West Palm Beach\, FL\, 33410\, United States
CATEGORIES:Indoors
ATTACH;FMTTYPE=image/jpeg:https://downtownwpb.com/wp-content/uploads/DDA-1.jpg
ORGANIZER;CN="West Palm Beach Downtown Development Authority":MAILTO:tjames@downtownwpb.com
END:VEVENT
BEGIN:VEVENT
DTSTART;TZID=America/New_York:20240917T140000
DTEND;TZID=America/New_York:20240917T170000
DTSTAMP:20260420T182928
CREATED:20231031T203239Z
LAST-MODIFIED:20240126T201450Z
UID:10015523-1726581600-1726592400@downtownwpb.com
SUMMARY:Proper Grit Tea Service
DESCRIPTION:Enjoy your afternoon with Proper Grit’s Daily Tea Service. \nSip on a variety of exquisite teas including Proper Grit’s very own blend. Bring your clients\, your friends\, and your family! Reservations are required so book now at ProperGrit.com! You don’t want to miss this unique experience at The Ben!
URL:https://downtownwpb.com/event/proper-grit-tea-service/2024-09-17/
LOCATION:Proper Grit\, 251 N. Narcissus Avenue\, West Palm Beach\, FL\, 33401\, United States
CATEGORIES:Indoors
ATTACH;FMTTYPE=image/jpeg:https://downtownwpb.com/wp-content/uploads/Tea-Service-at-the-Ben.jpg
END:VEVENT
BEGIN:VEVENT
DTSTART;TZID=America/New_York:20240918T100000
DTEND;TZID=America/New_York:20240918T160000
DTSTAMP:20260420T182928
CREATED:20240916T233725Z
LAST-MODIFIED:20240916T233725Z
UID:10016753-1726653600-1726675200@downtownwpb.com
SUMMARY:Visual & Natural Exhibit Celebrating Hispanic Heritage
DESCRIPTION:Immerse yourself in the rich diversity of Hispanic heritage through the eyes of four incredible female artists at the “Visual & Natural” exhibit\, running through Tuesday\, October 15 at the Richard & Pat Johnson Palm Beach County History Museum. Curated by Gaby Viteri\, founder of First Female\, this exhibit highlights the unique influence of Hispanic culture on Palm Beach County while challenging stereotypes about Latin American art.
URL:https://pbchistory.org/celebrating-hispanic-heritage-visual-natural/
LOCATION:Historical Society of Palm Beach County\, 300 N. Dixie Highway\, West Palm Beach\, FL\, 33401\, United States
CATEGORIES:Indoors
ATTACH;FMTTYPE=image/jpeg:https://downtownwpb.com/wp-content/uploads/Hispanic-Heritage-Month-at-PBCHS.jpg
END:VEVENT
BEGIN:VEVENT
DTSTART;TZID=America/New_York:20240918T140000
DTEND;TZID=America/New_York:20240918T170000
DTSTAMP:20260420T182928
CREATED:20231031T203239Z
LAST-MODIFIED:20240126T201450Z
UID:10015524-1726668000-1726678800@downtownwpb.com
SUMMARY:Proper Grit Tea Service
DESCRIPTION:Enjoy your afternoon with Proper Grit’s Daily Tea Service. \nSip on a variety of exquisite teas including Proper Grit’s very own blend. Bring your clients\, your friends\, and your family! Reservations are required so book now at ProperGrit.com! You don’t want to miss this unique experience at The Ben!
URL:https://downtownwpb.com/event/proper-grit-tea-service/2024-09-18/
LOCATION:Proper Grit\, 251 N. Narcissus Avenue\, West Palm Beach\, FL\, 33401\, United States
CATEGORIES:Indoors
ATTACH;FMTTYPE=image/jpeg:https://downtownwpb.com/wp-content/uploads/Tea-Service-at-the-Ben.jpg
END:VEVENT
BEGIN:VEVENT
DTSTART;TZID=America/New_York:20240918T170000
DTEND;TZID=America/New_York:20240918T230000
DTSTAMP:20260420T182928
CREATED:20231031T203956Z
LAST-MODIFIED:20240102T194044Z
UID:10015218-1726678800-1726700400@downtownwpb.com
SUMMARY:Service Industry Night at The Ben Hotel
DESCRIPTION:Half Off Drinks & Any Food Item Under $30 \nTake a night away from the hustle and bustle and enjoy drink specials at Proper Grit for The Ben’s first Service Industry Night. You deserve the break! \nClick Here for more information and to RSVP.
URL:https://downtownwpb.com/event/service-industry-night-at-the-ben-hotel/2024-09-18/
LOCATION:The Ben Autograph Collection Hotel\, 251 N. Narcissus Avenue\, West Palm Beach\, FL\, 33410\, United States
CATEGORIES:Indoors
ATTACH;FMTTYPE=image/jpeg:https://downtownwpb.com/wp-content/uploads/Service-Industry-Night-at-the-Ben.jpg
END:VEVENT
BEGIN:VEVENT
DTSTART;TZID=America/New_York:20240918T190000
DTEND;TZID=America/New_York:20240918T203000
DTSTAMP:20260420T182928
CREATED:20240604T131418Z
LAST-MODIFIED:20240604T131418Z
UID:10016425-1726686000-1726691400@downtownwpb.com
SUMMARY:Supermoon Silent Disco
DESCRIPTION:Embrace enlightenment and spiritual growth under the supermoon! \nThis unique experience\, led by Be You Disco and Universal Empowerment Artist DJ JennAvni\, invites you to listen to your rhythm and release what no longer serves you\, all on the dance floor. Wether you’re seeking self awareness\, creativity\, self-love\, gratitude\, drive\, or abundance\, dancing together in a community ignites our collective intentions\, creating an environment of inspiration\, healing\, and magic.  \nJoin us on Wednesday\, September 18 from 7-8:30 p.m. at Palm Beach Post Park and let’s dance our way to a more connected\, vibrant community! 
URL:https://downtownwpb.com/supermoon/
LOCATION:Palm Beach Post Park\, 321 S. Flagler Drive\, West Palm Beach\, FL\, 33401\, United States
CATEGORIES:Outdoors
ATTACH;FMTTYPE=image/png:https://downtownwpb.com/wp-content/uploads/Supermoon-Silent-Disco-Digital-Assets_2160x1080.png
ORGANIZER;CN="West Palm Beach Downtown Development Authority":MAILTO:tjames@downtownwpb.com
END:VEVENT
BEGIN:VEVENT
DTSTART;TZID=America/New_York:20240918T190000
DTEND;TZID=America/New_York:20240918T210000
DTSTAMP:20260420T182928
CREATED:20240612T200308Z
LAST-MODIFIED:20240612T200308Z
UID:10016466-1726686000-1726693200@downtownwpb.com
SUMMARY:Soul In The City Jazz Experience
DESCRIPTION:Mark your calendars for an unforgettable evening of jazz every third Wednesday of the month!\nThe Soul in the City Jazz Experience features an electrifying lineup of top musicians from across the nation. Enjoy soothing rhythms and melodies as you overlook the incomparable West Palm Beach Waterfront! This event is available for a limited time only\, so don’t miss out!
URL:https://www.wpb.org/government/community-events/events/soul-in-the-city-jazz-experience
LOCATION:West Palm Beach Lake Pavilion\, 101 S Flagler Dr.\, West Palm Beach\, FL\, 33401\, United States
CATEGORIES:Indoors
ATTACH;FMTTYPE=image/jpeg:https://downtownwpb.com/wp-content/uploads/Soul-in-the-City-logo-1.jpg
ORGANIZER;CN="City of West Palm Beach":MAILTO:events@wpb.org
END:VEVENT
BEGIN:VEVENT
DTSTART;TZID=America/New_York:20240919T100000
DTEND;TZID=America/New_York:20240919T160000
DTSTAMP:20260420T182928
CREATED:20240916T233725Z
LAST-MODIFIED:20240916T233725Z
UID:10016754-1726740000-1726761600@downtownwpb.com
SUMMARY:Visual & Natural Exhibit Celebrating Hispanic Heritage
DESCRIPTION:Immerse yourself in the rich diversity of Hispanic heritage through the eyes of four incredible female artists at the “Visual & Natural” exhibit\, running through Tuesday\, October 15 at the Richard & Pat Johnson Palm Beach County History Museum. Curated by Gaby Viteri\, founder of First Female\, this exhibit highlights the unique influence of Hispanic culture on Palm Beach County while challenging stereotypes about Latin American art.
URL:https://pbchistory.org/celebrating-hispanic-heritage-visual-natural/
LOCATION:Historical Society of Palm Beach County\, 300 N. Dixie Highway\, West Palm Beach\, FL\, 33401\, United States
CATEGORIES:Indoors
ATTACH;FMTTYPE=image/jpeg:https://downtownwpb.com/wp-content/uploads/Hispanic-Heritage-Month-at-PBCHS.jpg
END:VEVENT
BEGIN:VEVENT
DTSTART;TZID=America/New_York:20240919T140000
DTEND;TZID=America/New_York:20240919T170000
DTSTAMP:20260420T182928
CREATED:20231031T203239Z
LAST-MODIFIED:20240126T201450Z
UID:10015525-1726754400-1726765200@downtownwpb.com
SUMMARY:Proper Grit Tea Service
DESCRIPTION:Enjoy your afternoon with Proper Grit’s Daily Tea Service. \nSip on a variety of exquisite teas including Proper Grit’s very own blend. Bring your clients\, your friends\, and your family! Reservations are required so book now at ProperGrit.com! You don’t want to miss this unique experience at The Ben!
URL:https://downtownwpb.com/event/proper-grit-tea-service/2024-09-19/
LOCATION:Proper Grit\, 251 N. Narcissus Avenue\, West Palm Beach\, FL\, 33401\, United States
CATEGORIES:Indoors
ATTACH;FMTTYPE=image/jpeg:https://downtownwpb.com/wp-content/uploads/Tea-Service-at-the-Ben.jpg
END:VEVENT
BEGIN:VEVENT
DTSTART;TZID=America/New_York:20240919T160000
DTEND;TZID=America/New_York:20240919T183000
DTSTAMP:20260420T182928
CREATED:20230425T140629Z
LAST-MODIFIED:20230425T140629Z
UID:10014016-1726761600-1726770600@downtownwpb.com
SUMMARY:Prohibition Dinner & Drinks Tour
DESCRIPTION:Your spirited local guide will share the lowdown on the DowntownWPB food and drink scene\, and you’ll be shaken\, not stirred\, by tales of our Prohibition past! \nLearn how South Florida played a big role in keeping Americans supplied with illegal booze in this era of rumrunners\, secret passageways\, rebellion and scandal. \nClick Here for more information and to reserve your spot!
URL:https://downtownwpb.com/event/prohibition-dinner-drinks-tour/2024-09-19/
LOCATION:FL
CATEGORIES:Outdoors
ATTACH;FMTTYPE=image/jpeg:https://downtownwpb.com/wp-content/uploads/handsome-bartender-making-drinking-cocktails-counter-scaled.jpg
END:VEVENT
BEGIN:VEVENT
DTSTART;TZID=America/New_York:20240919T183000
DTEND;TZID=America/New_York:20240919T193000
DTSTAMP:20260420T182928
CREATED:20230825T172025Z
LAST-MODIFIED:20230825T172025Z
UID:10014890-1726770600-1726774200@downtownwpb.com
SUMMARY:Sunset Yoga at Treehouse
DESCRIPTION:Sunset Yoga at 6:30 pm every Thursday. \nCenter yourself Thursday afternoon on the 6th floor. After your refreshing workout\, stay for lunch for a rejuvenating start to your weekend. \nNote: Mat and equipment will not be provided. \nClick Here for more information and to register.
URL:https://downtownwpb.com/event/sunset-yoga-at-treehouse/2024-09-19/
LOCATION:Treehouse Rooftop Bar\, 380 Trinity Place\, West Palm Beach\, FL\, 33410\, United States
CATEGORIES:Outdoors
ATTACH;FMTTYPE=image/jpeg:https://downtownwpb.com/wp-content/uploads/Sunset-Yoga-Treehouse.jpg
END:VEVENT
BEGIN:VEVENT
DTSTART;TZID=America/New_York:20240919T190000
DTEND;TZID=America/New_York:20240919T210000
DTSTAMP:20260420T182928
CREATED:20230605T153544Z
LAST-MODIFIED:20230804T172448Z
UID:10013403-1726772400-1726779600@downtownwpb.com
SUMMARY:Trivia Thursdays at Garden District Taproom
DESCRIPTION:Test your knowledge as you compete for top prizes and bragging rights with a fun filled night of beer and Trivia at Garden District Taproom! \nGrab your besties and head to Garden District Taproom for TRIVIA NIGHT! Put your knowledge to the test\, drink some beer & have tons of fun! \nThere will be prizes for the 1st\, 2nd\, and 3rd place teams. The fun starts at 7 p.m. every Thursday. \nClick Here for more information.
URL:https://downtownwpb.com/event/trivia-thursdays-at-garden-district-taproom/2024-09-19/
LOCATION:Garden District Taproom\, 410 Evernia Street\, Suite 119\, West Palm Beach\, FL\, 33401\, United States
CATEGORIES:Indoors,Outdoors
ATTACH;FMTTYPE=image/jpeg:https://downtownwpb.com/wp-content/uploads/Trivia-Night-at-Garden-District-Taproom.jpg
END:VEVENT
BEGIN:VEVENT
DTSTART;TZID=America/New_York:20240920T100000
DTEND;TZID=America/New_York:20240920T160000
DTSTAMP:20260420T182928
CREATED:20240916T233725Z
LAST-MODIFIED:20240916T233725Z
UID:10016755-1726826400-1726848000@downtownwpb.com
SUMMARY:Visual & Natural Exhibit Celebrating Hispanic Heritage
DESCRIPTION:Immerse yourself in the rich diversity of Hispanic heritage through the eyes of four incredible female artists at the “Visual & Natural” exhibit\, running through Tuesday\, October 15 at the Richard & Pat Johnson Palm Beach County History Museum. Curated by Gaby Viteri\, founder of First Female\, this exhibit highlights the unique influence of Hispanic culture on Palm Beach County while challenging stereotypes about Latin American art.
URL:https://pbchistory.org/celebrating-hispanic-heritage-visual-natural/
LOCATION:Historical Society of Palm Beach County\, 300 N. Dixie Highway\, West Palm Beach\, FL\, 33401\, United States
CATEGORIES:Indoors
ATTACH;FMTTYPE=image/jpeg:https://downtownwpb.com/wp-content/uploads/Hispanic-Heritage-Month-at-PBCHS.jpg
END:VEVENT
BEGIN:VEVENT
DTSTART;TZID=America/New_York:20240920T140000
DTEND;TZID=America/New_York:20240920T170000
DTSTAMP:20260420T182928
CREATED:20231031T203239Z
LAST-MODIFIED:20240126T201450Z
UID:10015526-1726840800-1726851600@downtownwpb.com
SUMMARY:Proper Grit Tea Service
DESCRIPTION:Enjoy your afternoon with Proper Grit’s Daily Tea Service. \nSip on a variety of exquisite teas including Proper Grit’s very own blend. Bring your clients\, your friends\, and your family! Reservations are required so book now at ProperGrit.com! You don’t want to miss this unique experience at The Ben!
URL:https://downtownwpb.com/event/proper-grit-tea-service/2024-09-20/
LOCATION:Proper Grit\, 251 N. Narcissus Avenue\, West Palm Beach\, FL\, 33401\, United States
CATEGORIES:Indoors
ATTACH;FMTTYPE=image/jpeg:https://downtownwpb.com/wp-content/uploads/Tea-Service-at-the-Ben.jpg
END:VEVENT
BEGIN:VEVENT
DTSTART;TZID=America/New_York:20240920T190000
DTEND;TZID=America/New_York:20240920T210000
DTSTAMP:20260420T182928
CREATED:20240611T192352Z
LAST-MODIFIED:20240611T192352Z
UID:10016457-1726858800-1726866000@downtownwpb.com
SUMMARY:Kravis Center & Outback Presents "Ali Siddiq: I Got A Story To Tell"
DESCRIPTION:Ali Siddiq is stand-up comedian and public speaker out of Houston\, TX whose unique style of stand-up began behind the walls of incarceration\, an incubator for interesting experiences and good stories. People received their first taste of Ali Siddiq when he appeared on HBO’s DEF COMEDY JAM and LIVE FROM GOTHAM\, and in 2013 he was named Comedy Central’s “#1 Comic to Watch”.
URL:https://www.kravis.org/events/kravis-center-outback-presents-ali-siddiq-i-got-a-story-to-tell/
LOCATION:Kravis Center For Performing Arts\, 701 Okeechobee Boulevard\, West Palm Beach\, FL\, 33401\, United States
CATEGORIES:Indoors
ATTACH;FMTTYPE=image/jpeg:https://downtownwpb.com/wp-content/uploads/Ali-Siddiq-Kravis-Center.jpg
END:VEVENT
BEGIN:VEVENT
DTSTART;TZID=America/New_York:20240921T100000
DTEND;TZID=America/New_York:20240921T160000
DTSTAMP:20260420T182928
CREATED:20240916T233725Z
LAST-MODIFIED:20240916T233725Z
UID:10016756-1726912800-1726934400@downtownwpb.com
SUMMARY:Visual & Natural Exhibit Celebrating Hispanic Heritage
DESCRIPTION:Immerse yourself in the rich diversity of Hispanic heritage through the eyes of four incredible female artists at the “Visual & Natural” exhibit\, running through Tuesday\, October 15 at the Richard & Pat Johnson Palm Beach County History Museum. Curated by Gaby Viteri\, founder of First Female\, this exhibit highlights the unique influence of Hispanic culture on Palm Beach County while challenging stereotypes about Latin American art.
URL:https://pbchistory.org/celebrating-hispanic-heritage-visual-natural/
LOCATION:Historical Society of Palm Beach County\, 300 N. Dixie Highway\, West Palm Beach\, FL\, 33401\, United States
CATEGORIES:Indoors
ATTACH;FMTTYPE=image/jpeg:https://downtownwpb.com/wp-content/uploads/Hispanic-Heritage-Month-at-PBCHS.jpg
END:VEVENT
BEGIN:VEVENT
DTSTART;TZID=America/New_York:20240921T120000
DTEND;TZID=America/New_York:20240921T200000
DTSTAMP:20260420T182928
CREATED:20240815T174336Z
LAST-MODIFIED:20240815T174344Z
UID:10016725-1726920000-1726948800@downtownwpb.com
SUMMARY:RAINBOWpalooza 2024
DESCRIPTION:Head to the Meyer Amphitheatre on Saturday\, September 21 for the RAINBOWpalooza Family Festival of Kindness! \nFrom 12-8 p.m.\, enjoy a fun family festival featuring live music\, interactive workshops\, games\, and plently of fun! \nThis event is FREE to attend. Click Here to register.
URL:https://rhythmandhues.com/new-events/2024/9/21/rainbowpalooza-2024
LOCATION:Meyer Amphitheatre\, 104 Datura Street\, West Palm Beach\, FL\, 33401\, United States
CATEGORIES:Outdoors
ATTACH;FMTTYPE=image/jpeg:https://downtownwpb.com/wp-content/uploads/RAINBOWpalooza-2024-event-banner.jpg
END:VEVENT
BEGIN:VEVENT
DTSTART;TZID=America/New_York:20240921T150000
DTEND;TZID=America/New_York:20240921T170000
DTSTAMP:20260420T182928
CREATED:20240221T215614Z
LAST-MODIFIED:20240221T215614Z
UID:10015990-1726930800-1726938000@downtownwpb.com
SUMMARY:Proper Grit Tea Service
DESCRIPTION:Enjoy your afternoon with Proper Grit’s Daily Tea Service. \nSip on a variety of exquisite teas including Proper Grit’s very own blend. Bring your clients\, your friends\, and your family! Reservations are required so book now at ProperGrit.com! You don’t want to miss this unique experience at The Ben!
URL:https://downtownwpb.com/event/proper-grit-tea-service/2024-09-21/
LOCATION:Proper Grit\, 251 N. Narcissus Avenue\, West Palm Beach\, FL\, 33401\, United States
CATEGORIES:Indoors
ATTACH;FMTTYPE=image/jpeg:https://downtownwpb.com/wp-content/uploads/Tea-Service-at-the-Ben.jpg
END:VEVENT
BEGIN:VEVENT
DTSTART;TZID=America/New_York:20240922T093000
DTEND;TZID=America/New_York:20240922T103000
DTSTAMP:20260420T182928
CREATED:20231031T174454Z
LAST-MODIFIED:20231031T174454Z
UID:10015096-1726997400-1727001000@downtownwpb.com
SUMMARY:Sunday Yoga
DESCRIPTION:Visit Temanatu Kava Bar every Sunday at 9:30 a.m. for Power Vinyasa Flow Yoga! \nIt costs $15 to participate and the price includes one shell\, one tea or a bottle of water.
URL:https://downtownwpb.com/event/sunday-yoga-2/2024-09-22/
LOCATION:Temanatu A Nakamal Tea Room\, 330 Clematis Street Unit 102\, West Palm Beach\, FL\, 33401\, United States
ATTACH;FMTTYPE=image/jpeg:https://downtownwpb.com/wp-content/uploads/Temanatu-Sunday-Yoga.jpg
END:VEVENT
BEGIN:VEVENT
DTSTART;TZID=America/New_York:20240922T150000
DTEND;TZID=America/New_York:20240922T170000
DTSTAMP:20260420T182928
CREATED:20240221T215614Z
LAST-MODIFIED:20240221T215614Z
UID:10015991-1727017200-1727024400@downtownwpb.com
SUMMARY:Proper Grit Tea Service
DESCRIPTION:Enjoy your afternoon with Proper Grit’s Daily Tea Service. \nSip on a variety of exquisite teas including Proper Grit’s very own blend. Bring your clients\, your friends\, and your family! Reservations are required so book now at ProperGrit.com! You don’t want to miss this unique experience at The Ben!
URL:https://downtownwpb.com/event/proper-grit-tea-service/2024-09-22/
LOCATION:Proper Grit\, 251 N. Narcissus Avenue\, West Palm Beach\, FL\, 33401\, United States
CATEGORIES:Indoors
ATTACH;FMTTYPE=image/jpeg:https://downtownwpb.com/wp-content/uploads/Tea-Service-at-the-Ben.jpg
END:VEVENT
BEGIN:VEVENT
DTSTART;TZID=America/New_York:20240923T100000
DTEND;TZID=America/New_York:20240923T160000
DTSTAMP:20260420T182928
CREATED:20240916T233725Z
LAST-MODIFIED:20240916T233725Z
UID:10016757-1727085600-1727107200@downtownwpb.com
SUMMARY:Visual & Natural Exhibit Celebrating Hispanic Heritage
DESCRIPTION:Immerse yourself in the rich diversity of Hispanic heritage through the eyes of four incredible female artists at the “Visual & Natural” exhibit\, running through Tuesday\, October 15 at the Richard & Pat Johnson Palm Beach County History Museum. Curated by Gaby Viteri\, founder of First Female\, this exhibit highlights the unique influence of Hispanic culture on Palm Beach County while challenging stereotypes about Latin American art.
URL:https://pbchistory.org/celebrating-hispanic-heritage-visual-natural/
LOCATION:Historical Society of Palm Beach County\, 300 N. Dixie Highway\, West Palm Beach\, FL\, 33401\, United States
CATEGORIES:Indoors
ATTACH;FMTTYPE=image/jpeg:https://downtownwpb.com/wp-content/uploads/Hispanic-Heritage-Month-at-PBCHS.jpg
END:VEVENT
BEGIN:VEVENT
DTSTART;TZID=America/New_York:20240923T140000
DTEND;TZID=America/New_York:20240923T170000
DTSTAMP:20260420T182928
CREATED:20231031T203239Z
LAST-MODIFIED:20240126T201450Z
UID:10015527-1727100000-1727110800@downtownwpb.com
SUMMARY:Proper Grit Tea Service
DESCRIPTION:Enjoy your afternoon with Proper Grit’s Daily Tea Service. \nSip on a variety of exquisite teas including Proper Grit’s very own blend. Bring your clients\, your friends\, and your family! Reservations are required so book now at ProperGrit.com! You don’t want to miss this unique experience at The Ben!
URL:https://downtownwpb.com/event/proper-grit-tea-service/2024-09-23/
LOCATION:Proper Grit\, 251 N. Narcissus Avenue\, West Palm Beach\, FL\, 33401\, United States
CATEGORIES:Indoors
ATTACH;FMTTYPE=image/jpeg:https://downtownwpb.com/wp-content/uploads/Tea-Service-at-the-Ben.jpg
END:VEVENT
BEGIN:VEVENT
DTSTART;TZID=America/New_York:20240924T100000
DTEND;TZID=America/New_York:20240924T160000
DTSTAMP:20260420T182928
CREATED:20240916T233725Z
LAST-MODIFIED:20240916T233725Z
UID:10016758-1727172000-1727193600@downtownwpb.com
SUMMARY:Visual & Natural Exhibit Celebrating Hispanic Heritage
DESCRIPTION:Immerse yourself in the rich diversity of Hispanic heritage through the eyes of four incredible female artists at the “Visual & Natural” exhibit\, running through Tuesday\, October 15 at the Richard & Pat Johnson Palm Beach County History Museum. Curated by Gaby Viteri\, founder of First Female\, this exhibit highlights the unique influence of Hispanic culture on Palm Beach County while challenging stereotypes about Latin American art.
URL:https://pbchistory.org/celebrating-hispanic-heritage-visual-natural/
LOCATION:Historical Society of Palm Beach County\, 300 N. Dixie Highway\, West Palm Beach\, FL\, 33401\, United States
CATEGORIES:Indoors
ATTACH;FMTTYPE=image/jpeg:https://downtownwpb.com/wp-content/uploads/Hispanic-Heritage-Month-at-PBCHS.jpg
END:VEVENT
BEGIN:VEVENT
DTSTART;TZID=America/New_York:20240924T140000
DTEND;TZID=America/New_York:20240924T170000
DTSTAMP:20260420T182928
CREATED:20231031T203239Z
LAST-MODIFIED:20240126T201450Z
UID:10015528-1727186400-1727197200@downtownwpb.com
SUMMARY:Proper Grit Tea Service
DESCRIPTION:Enjoy your afternoon with Proper Grit’s Daily Tea Service. \nSip on a variety of exquisite teas including Proper Grit’s very own blend. Bring your clients\, your friends\, and your family! Reservations are required so book now at ProperGrit.com! You don’t want to miss this unique experience at The Ben!
URL:https://downtownwpb.com/event/proper-grit-tea-service/2024-09-24/
LOCATION:Proper Grit\, 251 N. Narcissus Avenue\, West Palm Beach\, FL\, 33401\, United States
CATEGORIES:Indoors
ATTACH;FMTTYPE=image/jpeg:https://downtownwpb.com/wp-content/uploads/Tea-Service-at-the-Ben.jpg
END:VEVENT
BEGIN:VEVENT
DTSTART;TZID=America/New_York:20240925T083000
DTEND;TZID=America/New_York:20240925T090000
DTSTAMP:20260420T182928
CREATED:20241022T185505Z
LAST-MODIFIED:20260205T024140Z
UID:10016884-1727253000-1727254800@downtownwpb.com
SUMMARY:Wake Up West Palm
DESCRIPTION:Rise and shine with us as we bring you the pulse of Downtown West Palm Beach! Our vibrant morning show is your ticket to the latest buzz and exclusive insights into the thriving business community that defines our beloved downtown.  \nTune into the DowntownWPB Facebook page every second and fourth Wednesday morning at 8:30 a.m. as we shine the spotlight on the local businesses and organizations that make Downtown West Palm Beach extraordinary! 
URL:https://downtownwpb.com/wakeupwestpalm/
LOCATION:FL
CATEGORIES:Virtual
ATTACH;FMTTYPE=image/png:https://downtownwpb.com/wp-content/uploads/DDA-Wake-Up-West-Assets-_640x360.png
ORGANIZER;CN="West Palm Beach Downtown Development Authority":MAILTO:tjames@downtownwpb.com
END:VEVENT
BEGIN:VEVENT
DTSTART;TZID=America/New_York:20240925T100000
DTEND;TZID=America/New_York:20240925T160000
DTSTAMP:20260420T182928
CREATED:20240916T233725Z
LAST-MODIFIED:20240916T233725Z
UID:10016759-1727258400-1727280000@downtownwpb.com
SUMMARY:Visual & Natural Exhibit Celebrating Hispanic Heritage
DESCRIPTION:Immerse yourself in the rich diversity of Hispanic heritage through the eyes of four incredible female artists at the “Visual & Natural” exhibit\, running through Tuesday\, October 15 at the Richard & Pat Johnson Palm Beach County History Museum. Curated by Gaby Viteri\, founder of First Female\, this exhibit highlights the unique influence of Hispanic culture on Palm Beach County while challenging stereotypes about Latin American art.
URL:https://pbchistory.org/celebrating-hispanic-heritage-visual-natural/
LOCATION:Historical Society of Palm Beach County\, 300 N. Dixie Highway\, West Palm Beach\, FL\, 33401\, United States
CATEGORIES:Indoors
ATTACH;FMTTYPE=image/jpeg:https://downtownwpb.com/wp-content/uploads/Hispanic-Heritage-Month-at-PBCHS.jpg
END:VEVENT
BEGIN:VEVENT
DTSTART;TZID=America/New_York:20240925T140000
DTEND;TZID=America/New_York:20240925T170000
DTSTAMP:20260420T182928
CREATED:20231031T203239Z
LAST-MODIFIED:20240126T201450Z
UID:10015529-1727272800-1727283600@downtownwpb.com
SUMMARY:Proper Grit Tea Service
DESCRIPTION:Enjoy your afternoon with Proper Grit’s Daily Tea Service. \nSip on a variety of exquisite teas including Proper Grit’s very own blend. Bring your clients\, your friends\, and your family! Reservations are required so book now at ProperGrit.com! You don’t want to miss this unique experience at The Ben!
URL:https://downtownwpb.com/event/proper-grit-tea-service/2024-09-25/
LOCATION:Proper Grit\, 251 N. Narcissus Avenue\, West Palm Beach\, FL\, 33401\, United States
CATEGORIES:Indoors
ATTACH;FMTTYPE=image/jpeg:https://downtownwpb.com/wp-content/uploads/Tea-Service-at-the-Ben.jpg
END:VEVENT
BEGIN:VEVENT
DTSTART;TZID=America/New_York:20240925T170000
DTEND;TZID=America/New_York:20240925T230000
DTSTAMP:20260420T182928
CREATED:20231031T203956Z
LAST-MODIFIED:20240102T194044Z
UID:10015219-1727283600-1727305200@downtownwpb.com
SUMMARY:Service Industry Night at The Ben Hotel
DESCRIPTION:Half Off Drinks & Any Food Item Under $30 \nTake a night away from the hustle and bustle and enjoy drink specials at Proper Grit for The Ben’s first Service Industry Night. You deserve the break! \nClick Here for more information and to RSVP.
URL:https://downtownwpb.com/event/service-industry-night-at-the-ben-hotel/2024-09-25/
LOCATION:The Ben Autograph Collection Hotel\, 251 N. Narcissus Avenue\, West Palm Beach\, FL\, 33410\, United States
CATEGORIES:Indoors
ATTACH;FMTTYPE=image/jpeg:https://downtownwpb.com/wp-content/uploads/Service-Industry-Night-at-the-Ben.jpg
END:VEVENT
BEGIN:VEVENT
DTSTART;TZID=America/New_York:20240926T100000
DTEND;TZID=America/New_York:20240926T160000
DTSTAMP:20260420T182928
CREATED:20240916T233725Z
LAST-MODIFIED:20240916T233725Z
UID:10016760-1727344800-1727366400@downtownwpb.com
SUMMARY:Visual & Natural Exhibit Celebrating Hispanic Heritage
DESCRIPTION:Immerse yourself in the rich diversity of Hispanic heritage through the eyes of four incredible female artists at the “Visual & Natural” exhibit\, running through Tuesday\, October 15 at the Richard & Pat Johnson Palm Beach County History Museum. Curated by Gaby Viteri\, founder of First Female\, this exhibit highlights the unique influence of Hispanic culture on Palm Beach County while challenging stereotypes about Latin American art.
URL:https://pbchistory.org/celebrating-hispanic-heritage-visual-natural/
LOCATION:Historical Society of Palm Beach County\, 300 N. Dixie Highway\, West Palm Beach\, FL\, 33401\, United States
CATEGORIES:Indoors
ATTACH;FMTTYPE=image/jpeg:https://downtownwpb.com/wp-content/uploads/Hispanic-Heritage-Month-at-PBCHS.jpg
END:VEVENT
BEGIN:VEVENT
DTSTART;TZID=America/New_York:20240926T140000
DTEND;TZID=America/New_York:20240926T170000
DTSTAMP:20260420T182928
CREATED:20231031T203239Z
LAST-MODIFIED:20240126T201450Z
UID:10015530-1727359200-1727370000@downtownwpb.com
SUMMARY:Proper Grit Tea Service
DESCRIPTION:Enjoy your afternoon with Proper Grit’s Daily Tea Service. \nSip on a variety of exquisite teas including Proper Grit’s very own blend. Bring your clients\, your friends\, and your family! Reservations are required so book now at ProperGrit.com! You don’t want to miss this unique experience at The Ben!
URL:https://downtownwpb.com/event/proper-grit-tea-service/2024-09-26/
LOCATION:Proper Grit\, 251 N. Narcissus Avenue\, West Palm Beach\, FL\, 33401\, United States
CATEGORIES:Indoors
ATTACH;FMTTYPE=image/jpeg:https://downtownwpb.com/wp-content/uploads/Tea-Service-at-the-Ben.jpg
END:VEVENT
END:VCALENDAR