BEGIN:VCALENDAR
VERSION:2.0
PRODID:-//West Palm Beach - ECPv6.15.5//NONSGML v1.0//EN
CALSCALE:GREGORIAN
METHOD:PUBLISH
X-WR-CALNAME:West Palm Beach
X-ORIGINAL-URL:https://downtownwpb.com
X-WR-CALDESC:Events for West Palm Beach
REFRESH-INTERVAL;VALUE=DURATION:PT1H
X-Robots-Tag:noindex
X-PUBLISHED-TTL:PT1H
BEGIN:VTIMEZONE
TZID:America/New_York
BEGIN:DAYLIGHT
TZOFFSETFROM:-0500
TZOFFSETTO:-0400
TZNAME:EDT
DTSTART:20220313T070000
END:DAYLIGHT
BEGIN:STANDARD
TZOFFSETFROM:-0400
TZOFFSETTO:-0500
TZNAME:EST
DTSTART:20221106T060000
END:STANDARD
END:VTIMEZONE
BEGIN:VEVENT
DTSTART;TZID=America/New_York:20221209T130000
DTEND;TZID=America/New_York:20221209T170000
DTSTAMP:20260420T100650
CREATED:20221129T231855Z
LAST-MODIFIED:20221129T231855Z
UID:10012780-1670590800-1670605200@downtownwpb.com
SUMMARY:Ferris The Ferris Wheel Rides
DESCRIPTION:The 65-foot Ferris wheel features gondola seating and its own light show. Tickets are $5 per rider for a single ride or $20 per rider for unlimited rides for one night (plus sales tax and processing fees). Tickets are required for guests aged three and older\, and patrons are encouraged to purchase their tickets in advance: Click Here. An adult must accompany anyone under 42″ in height. Additional restrictions apply.
URL:https://downtownwpb.com/event/ferris-the-ferris-wheel-rides/2022-12-09/
LOCATION:Waterfront Commons\, 101 N. Clematis Street\, West Palm Beach\, FL\, 33410\, United States
CATEGORIES:Outdoors
ATTACH;FMTTYPE=image/jpeg:https://downtownwpb.com/wp-content/uploads/HIP-22_WEB_BigDealBigWheel_862x487-1.jpg
ORGANIZER;CN="City of West Palm Beach":MAILTO:events@wpb.org
END:VEVENT
BEGIN:VEVENT
DTSTART;TZID=America/New_York:20221209T130000
DTEND;TZID=America/New_York:20221209T170000
DTSTAMP:20260420T100650
CREATED:20221129T214741Z
LAST-MODIFIED:20221129T214741Z
UID:10012749-1670590800-1670605200@downtownwpb.com
SUMMARY:Sandi Tree Light Shows
DESCRIPTION:Sandi and her tribe come to life and illuminate Downtown West Palm Beach  nightly with lights and bling. Guests can enjoy a magical music and light show every 15 minutes each night that will enchant kids of all ages. 
URL:https://downtownwpb.com/event/sandi-tree-light-shows/2022-12-09/
LOCATION:DowntownWPB Waterfront\, 141 S. Flagler Drive\, West Palm Beach\, FL\, 33401\, United States
CATEGORIES:Outdoors
ATTACH;FMTTYPE=image/jpeg:https://downtownwpb.com/wp-content/uploads/0056-Sandi-Land-VMA-ALurie_122216-r1-scaled.jpg
ORGANIZER;CN="City of West Palm Beach":MAILTO:events@wpb.org
END:VEVENT
BEGIN:VEVENT
DTSTART;TZID=America/New_York:20221209T063000
DTEND;TZID=America/New_York:20221209T073000
DTSTAMP:20260420T100650
CREATED:20220912T223941Z
LAST-MODIFIED:20230112T174505Z
UID:10012632-1670567400-1670571000@downtownwpb.com
SUMMARY:Rooftop Yoga At The Ben
DESCRIPTION:Join us on the rooftop of The Ben\, Autograph Collection every Friday and Sunday at 6:30 a.m. for a magical sunrise vinyasa flow. \nThe class is FREE to hotel guests and open to the public for a suggested $15 donation to your instructor. Walk-ins are welcome. \nFor more information\, call (561) 655-4001.
URL:https://downtownwpb.com/event/rooftop-yoga-at-the-ben/2022-12-09/
LOCATION:The Ben Autograph Collection Hotel\, 251 N. Narcissus Avenue\, West Palm Beach\, FL\, 33410\, United States
CATEGORIES:Outdoors
ATTACH;FMTTYPE=image/jpeg:https://downtownwpb.com/wp-content/uploads/Screenshot_20211110-165701_Instagram.jpg
END:VEVENT
BEGIN:VEVENT
DTSTART;TZID=America/New_York:20221209T050000
DTEND;TZID=America/New_York:20221209T110000
DTSTAMP:20260420T100650
CREATED:20220926T234234Z
LAST-MODIFIED:20221004T222046Z
UID:10013162-1670562000-1670583600@downtownwpb.com
SUMMARY:"Going Places" Exhibit
DESCRIPTION:Celebrate Hispanic Heritage Month by learning about the inspiring lives of members of the local Hispanic and Latino community at the “Going Places” Exhibit at the Historical Society of Palm Beach County! \nThe exhibit will be on display from Monday\, September 12 through Friday\, December 30. Admission is FREE. \nVisit PBCHistory.com for more information.
URL:https://downtownwpb.com/event/going-places-exhibit/2022-12-09/
LOCATION:Historical Society of Palm Beach County\, 300 N. Dixie Highway\, West Palm Beach\, FL\, 33401\, United States
CATEGORIES:Indoors
ATTACH;FMTTYPE=image/jpeg:https://downtownwpb.com/wp-content/uploads/PBC-Historical-Society-Hispanic-Heritage-Month-IG-1.jpg
END:VEVENT
BEGIN:VEVENT
DTSTART;TZID=America/New_York:20221209T013000
DTEND;TZID=America/New_York:20221209T023000
DTSTAMP:20260420T100650
CREATED:20220817T225604Z
LAST-MODIFIED:20220817T225604Z
UID:10012313-1670549400-1670553000@downtownwpb.com
SUMMARY:Sunrise Yoga At The Ben
DESCRIPTION:Start your day with a magical vinyasa flow on the rooftop every Friday and Sunday at 6:30 a.m. \nClass is complimentary to hotel guests and open to the public for a suggested donation of $10 to the instructor. Street parking\, garage parking and valet are available. \nFor more information\, call (561)-655-4001. \n 
URL:https://downtownwpb.com/event/sunrise-yoga-at-the-ben/2022-12-09/
LOCATION:The Ben Autograph Collection Hotel\, 251 N. Narcissus Avenue\, West Palm Beach\, FL\, 33410\, United States
CATEGORIES:Outdoors
ATTACH;FMTTYPE=image/jpeg:https://downtownwpb.com/wp-content/uploads/Sunrise-Yoga-At-The-Ben.jpg
END:VEVENT
BEGIN:VEVENT
DTSTART;TZID=America/New_York:20221208T143000
DTEND;TZID=America/New_York:20221208T163000
DTSTAMP:20260420T100650
CREATED:20220921T172306Z
LAST-MODIFIED:20220921T172306Z
UID:10012202-1670509800-1670517000@downtownwpb.com
SUMMARY:Twelve Angry Men At Palm Beach Dramaworks
DESCRIPTION:In this timely\, timeless\, and taut classic\, 12 jurors deliberate the fate of a teenager accused of killing his father. Only Juror #8 is uncertain of the young man’s guilt. As he compels the others to carefully examine the evidence\, the prejudices and social attitudes of each man are revealed – as are the strengths and flaws of the American justice system. \nVisit PalmBeachDramaworks.org for a complete list of showtimes and to purchase tickets.
URL:https://downtownwpb.com/event/twelve-angry-men-at-palm-beach-dramaworks/2022-12-08/
LOCATION:Palm Beach Dramaworks\, 201 Clematis Street\, West Palm Beach\, FL\, 33401\, United States
CATEGORIES:Indoors
ATTACH;FMTTYPE=image/jpeg:https://downtownwpb.com/wp-content/uploads/Twelve-Angry-Men.jpg
END:VEVENT
BEGIN:VEVENT
DTSTART;TZID=America/New_York:20221208T130000
DTEND;TZID=America/New_York:20221208T170000
DTSTAMP:20260420T100650
CREATED:20221129T231855Z
LAST-MODIFIED:20221129T231855Z
UID:10012779-1670504400-1670518800@downtownwpb.com
SUMMARY:Ferris The Ferris Wheel Rides
DESCRIPTION:The 65-foot Ferris wheel features gondola seating and its own light show. Tickets are $5 per rider for a single ride or $20 per rider for unlimited rides for one night (plus sales tax and processing fees). Tickets are required for guests aged three and older\, and patrons are encouraged to purchase their tickets in advance: Click Here. An adult must accompany anyone under 42″ in height. Additional restrictions apply.
URL:https://downtownwpb.com/event/ferris-the-ferris-wheel-rides/2022-12-08/
LOCATION:Waterfront Commons\, 101 N. Clematis Street\, West Palm Beach\, FL\, 33410\, United States
CATEGORIES:Outdoors
ATTACH;FMTTYPE=image/jpeg:https://downtownwpb.com/wp-content/uploads/HIP-22_WEB_BigDealBigWheel_862x487-1.jpg
ORGANIZER;CN="City of West Palm Beach":MAILTO:events@wpb.org
END:VEVENT
BEGIN:VEVENT
DTSTART;TZID=America/New_York:20221208T130000
DTEND;TZID=America/New_York:20221208T170000
DTSTAMP:20260420T100650
CREATED:20221129T214741Z
LAST-MODIFIED:20221129T214741Z
UID:10012748-1670504400-1670518800@downtownwpb.com
SUMMARY:Sandi Tree Light Shows
DESCRIPTION:Sandi and her tribe come to life and illuminate Downtown West Palm Beach  nightly with lights and bling. Guests can enjoy a magical music and light show every 15 minutes each night that will enchant kids of all ages. 
URL:https://downtownwpb.com/event/sandi-tree-light-shows/2022-12-08/
LOCATION:DowntownWPB Waterfront\, 141 S. Flagler Drive\, West Palm Beach\, FL\, 33401\, United States
CATEGORIES:Outdoors
ATTACH;FMTTYPE=image/jpeg:https://downtownwpb.com/wp-content/uploads/0056-Sandi-Land-VMA-ALurie_122216-r1-scaled.jpg
ORGANIZER;CN="City of West Palm Beach":MAILTO:events@wpb.org
END:VEVENT
BEGIN:VEVENT
DTSTART;TZID=America/New_York:20221208T130000
DTEND;TZID=America/New_York:20221208T160000
DTSTAMP:20260420T100650
CREATED:20221130T000213Z
LAST-MODIFIED:20221130T000213Z
UID:10012805-1670504400-1670515200@downtownwpb.com
SUMMARY:Clematis By Night: The Gin & Tonics
DESCRIPTION:The Gin & Tonics are South Florida based 80s and 90s Rock Experience. They take some of the best songs from the some of the best decades in music and make them their own. The band is comprised very seasoned and accomplished musicians all with the same goal and vision…the be the best live band they can collectively be!
URL:https://downtownwpb.com/event/clematis-by-night-the-gin-tonics/
LOCATION:DowntownWPB Waterfront\, 141 S. Flagler Drive\, West Palm Beach\, FL\, 33401\, United States
ATTACH;FMTTYPE=image/jpeg:https://downtownwpb.com/wp-content/uploads/Clematis-By-Night-Gin-Tonics.jpg
ORGANIZER;CN="City of West Palm Beach":MAILTO:events@wpb.org
END:VEVENT
BEGIN:VEVENT
DTSTART;TZID=America/New_York:20221208T050000
DTEND;TZID=America/New_York:20221208T110000
DTSTAMP:20260420T100650
CREATED:20220926T234234Z
LAST-MODIFIED:20221004T222046Z
UID:10013161-1670475600-1670497200@downtownwpb.com
SUMMARY:"Going Places" Exhibit
DESCRIPTION:Celebrate Hispanic Heritage Month by learning about the inspiring lives of members of the local Hispanic and Latino community at the “Going Places” Exhibit at the Historical Society of Palm Beach County! \nThe exhibit will be on display from Monday\, September 12 through Friday\, December 30. Admission is FREE. \nVisit PBCHistory.com for more information.
URL:https://downtownwpb.com/event/going-places-exhibit/2022-12-08/
LOCATION:Historical Society of Palm Beach County\, 300 N. Dixie Highway\, West Palm Beach\, FL\, 33401\, United States
CATEGORIES:Indoors
ATTACH;FMTTYPE=image/jpeg:https://downtownwpb.com/wp-content/uploads/PBC-Historical-Society-Hispanic-Heritage-Month-IG-1.jpg
END:VEVENT
BEGIN:VEVENT
DTSTART;TZID=America/New_York:20221207T143000
DTEND;TZID=America/New_York:20221207T163000
DTSTAMP:20260420T100650
CREATED:20220921T172306Z
LAST-MODIFIED:20220921T172306Z
UID:10012201-1670423400-1670430600@downtownwpb.com
SUMMARY:Twelve Angry Men At Palm Beach Dramaworks
DESCRIPTION:In this timely\, timeless\, and taut classic\, 12 jurors deliberate the fate of a teenager accused of killing his father. Only Juror #8 is uncertain of the young man’s guilt. As he compels the others to carefully examine the evidence\, the prejudices and social attitudes of each man are revealed – as are the strengths and flaws of the American justice system. \nVisit PalmBeachDramaworks.org for a complete list of showtimes and to purchase tickets.
URL:https://downtownwpb.com/event/twelve-angry-men-at-palm-beach-dramaworks/2022-12-07/
LOCATION:Palm Beach Dramaworks\, 201 Clematis Street\, West Palm Beach\, FL\, 33401\, United States
CATEGORIES:Indoors
ATTACH;FMTTYPE=image/jpeg:https://downtownwpb.com/wp-content/uploads/Twelve-Angry-Men.jpg
END:VEVENT
BEGIN:VEVENT
DTSTART;TZID=America/New_York:20221207T130000
DTEND;TZID=America/New_York:20221207T170000
DTSTAMP:20260420T100650
CREATED:20221129T231855Z
LAST-MODIFIED:20221129T231855Z
UID:10012778-1670418000-1670432400@downtownwpb.com
SUMMARY:Ferris The Ferris Wheel Rides
DESCRIPTION:The 65-foot Ferris wheel features gondola seating and its own light show. Tickets are $5 per rider for a single ride or $20 per rider for unlimited rides for one night (plus sales tax and processing fees). Tickets are required for guests aged three and older\, and patrons are encouraged to purchase their tickets in advance: Click Here. An adult must accompany anyone under 42″ in height. Additional restrictions apply.
URL:https://downtownwpb.com/event/ferris-the-ferris-wheel-rides/2022-12-07/
LOCATION:Waterfront Commons\, 101 N. Clematis Street\, West Palm Beach\, FL\, 33410\, United States
CATEGORIES:Outdoors
ATTACH;FMTTYPE=image/jpeg:https://downtownwpb.com/wp-content/uploads/HIP-22_WEB_BigDealBigWheel_862x487-1.jpg
ORGANIZER;CN="City of West Palm Beach":MAILTO:events@wpb.org
END:VEVENT
BEGIN:VEVENT
DTSTART;TZID=America/New_York:20221207T130000
DTEND;TZID=America/New_York:20221207T170000
DTSTAMP:20260420T100650
CREATED:20221129T214741Z
LAST-MODIFIED:20221129T214741Z
UID:10012747-1670418000-1670432400@downtownwpb.com
SUMMARY:Sandi Tree Light Shows
DESCRIPTION:Sandi and her tribe come to life and illuminate Downtown West Palm Beach  nightly with lights and bling. Guests can enjoy a magical music and light show every 15 minutes each night that will enchant kids of all ages. 
URL:https://downtownwpb.com/event/sandi-tree-light-shows/2022-12-07/
LOCATION:DowntownWPB Waterfront\, 141 S. Flagler Drive\, West Palm Beach\, FL\, 33401\, United States
CATEGORIES:Outdoors
ATTACH;FMTTYPE=image/jpeg:https://downtownwpb.com/wp-content/uploads/0056-Sandi-Land-VMA-ALurie_122216-r1-scaled.jpg
ORGANIZER;CN="City of West Palm Beach":MAILTO:events@wpb.org
END:VEVENT
BEGIN:VEVENT
DTSTART;TZID=America/New_York:20221207T050000
DTEND;TZID=America/New_York:20221207T110000
DTSTAMP:20260420T100650
CREATED:20220926T234234Z
LAST-MODIFIED:20221004T222046Z
UID:10013160-1670389200-1670410800@downtownwpb.com
SUMMARY:"Going Places" Exhibit
DESCRIPTION:Celebrate Hispanic Heritage Month by learning about the inspiring lives of members of the local Hispanic and Latino community at the “Going Places” Exhibit at the Historical Society of Palm Beach County! \nThe exhibit will be on display from Monday\, September 12 through Friday\, December 30. Admission is FREE. \nVisit PBCHistory.com for more information.
URL:https://downtownwpb.com/event/going-places-exhibit/2022-12-07/
LOCATION:Historical Society of Palm Beach County\, 300 N. Dixie Highway\, West Palm Beach\, FL\, 33401\, United States
CATEGORIES:Indoors
ATTACH;FMTTYPE=image/jpeg:https://downtownwpb.com/wp-content/uploads/PBC-Historical-Society-Hispanic-Heritage-Month-IG-1.jpg
END:VEVENT
BEGIN:VEVENT
DTSTART;TZID=America/New_York:20221207T015000
DTEND;TZID=America/New_York:20221207T022000
DTSTAMP:20260420T100650
CREATED:20220922T190243Z
LAST-MODIFIED:20221011T221936Z
UID:10013010-1670377800-1670379600@downtownwpb.com
SUMMARY:Sunrise Run/Walk
DESCRIPTION:Come run and walk with us! \nJoin the newly formed Sunrise Runners and Walkers WPB group every Monday and Wednesday morning from 6:50-7:20 a.m. at the Flagler waterfront near the Okeechobee bridge\, then run bridge to bridge and back. \n \nPeople with all abilities are welcome and the group is FREE to join. Follow the group on Instagram to get updates.
URL:https://downtownwpb.com/event/sunrise-run-walk/2022-12-07/
LOCATION:FL
CATEGORIES:Outdoors
ATTACH;FMTTYPE=image/png:https://downtownwpb.com/wp-content/uploads/SunriseRunnersandWalkers-Logo-Main.png
END:VEVENT
BEGIN:VEVENT
DTSTART;TZID=America/New_York:20221206T200000
DTEND;TZID=America/New_York:20221206T220000
DTSTAMP:20260420T100650
CREATED:20220901T000253Z
LAST-MODIFIED:20230130T145947Z
UID:10012543-1670356800-1670364000@downtownwpb.com
SUMMARY:Tuesday Pool Tournament
DESCRIPTION:Enjoy some friendly competition at Hideout Kava and Tea Clematis’ weekly pool tournaments! Held every Tuesday at 8 p.m.\, it’s free to play and winners can earn a $50 bar tab. \nVisit HideoutTea.com for more information or call (561)542-9446.
URL:https://downtownwpb.com/event/tuesday-pool-tournament/2022-12-06/
LOCATION:Hideout Kava & Tea Clematis\, 107 N. Olive Avenue\, West Palm Beach\, FL\, 33401\, United States
CATEGORIES:Indoors
ATTACH;FMTTYPE=image/jpeg:https://downtownwpb.com/wp-content/uploads/Pool-tournament-at-Hideout-Kava.jpg
END:VEVENT
BEGIN:VEVENT
DTSTART;TZID=America/New_York:20221206T140000
DTEND;TZID=America/New_York:20221206T153000
DTSTAMP:20260420T100650
CREATED:20221028T232246Z
LAST-MODIFIED:20221028T232246Z
UID:10013499-1670335200-1670340600@downtownwpb.com
SUMMARY:Dreyfoos Music Department Presents Prism Concert
DESCRIPTION:The internationally renowned Alexander W. Dreyfoos School of the Arts Music Department offers an all-encompassing Holiday concert music extravaganza with special guest author James Patterson.
URL:https://downtownwpb.com/event/dreyfoos-music-department-presents-prism-concert/
LOCATION:Kravis Center For Performing Arts\, 701 Okeechobee Boulevard\, West Palm Beach\, FL\, 33401\, United States
CATEGORIES:Indoors
ATTACH;FMTTYPE=image/jpeg:https://downtownwpb.com/wp-content/uploads/Dreyfoos-Prism-Concert.jpg
END:VEVENT
BEGIN:VEVENT
DTSTART;TZID=America/New_York:20221206T130000
DTEND;TZID=America/New_York:20221206T170000
DTSTAMP:20260420T100650
CREATED:20221129T231855Z
LAST-MODIFIED:20221129T231855Z
UID:10012777-1670331600-1670346000@downtownwpb.com
SUMMARY:Ferris The Ferris Wheel Rides
DESCRIPTION:The 65-foot Ferris wheel features gondola seating and its own light show. Tickets are $5 per rider for a single ride or $20 per rider for unlimited rides for one night (plus sales tax and processing fees). Tickets are required for guests aged three and older\, and patrons are encouraged to purchase their tickets in advance: Click Here. An adult must accompany anyone under 42″ in height. Additional restrictions apply.
URL:https://downtownwpb.com/event/ferris-the-ferris-wheel-rides/2022-12-06/
LOCATION:Waterfront Commons\, 101 N. Clematis Street\, West Palm Beach\, FL\, 33410\, United States
CATEGORIES:Outdoors
ATTACH;FMTTYPE=image/jpeg:https://downtownwpb.com/wp-content/uploads/HIP-22_WEB_BigDealBigWheel_862x487-1.jpg
ORGANIZER;CN="City of West Palm Beach":MAILTO:events@wpb.org
END:VEVENT
BEGIN:VEVENT
DTSTART;TZID=America/New_York:20221206T130000
DTEND;TZID=America/New_York:20221206T170000
DTSTAMP:20260420T100650
CREATED:20221129T214741Z
LAST-MODIFIED:20221129T214741Z
UID:10012746-1670331600-1670346000@downtownwpb.com
SUMMARY:Sandi Tree Light Shows
DESCRIPTION:Sandi and her tribe come to life and illuminate Downtown West Palm Beach  nightly with lights and bling. Guests can enjoy a magical music and light show every 15 minutes each night that will enchant kids of all ages. 
URL:https://downtownwpb.com/event/sandi-tree-light-shows/2022-12-06/
LOCATION:DowntownWPB Waterfront\, 141 S. Flagler Drive\, West Palm Beach\, FL\, 33401\, United States
CATEGORIES:Outdoors
ATTACH;FMTTYPE=image/jpeg:https://downtownwpb.com/wp-content/uploads/0056-Sandi-Land-VMA-ALurie_122216-r1-scaled.jpg
ORGANIZER;CN="City of West Palm Beach":MAILTO:events@wpb.org
END:VEVENT
BEGIN:VEVENT
DTSTART;TZID=America/New_York:20221206T050000
DTEND;TZID=America/New_York:20221206T110000
DTSTAMP:20260420T100650
CREATED:20220926T234234Z
LAST-MODIFIED:20221004T222046Z
UID:10013159-1670302800-1670324400@downtownwpb.com
SUMMARY:"Going Places" Exhibit
DESCRIPTION:Celebrate Hispanic Heritage Month by learning about the inspiring lives of members of the local Hispanic and Latino community at the “Going Places” Exhibit at the Historical Society of Palm Beach County! \nThe exhibit will be on display from Monday\, September 12 through Friday\, December 30. Admission is FREE. \nVisit PBCHistory.com for more information.
URL:https://downtownwpb.com/event/going-places-exhibit/2022-12-06/
LOCATION:Historical Society of Palm Beach County\, 300 N. Dixie Highway\, West Palm Beach\, FL\, 33401\, United States
CATEGORIES:Indoors
ATTACH;FMTTYPE=image/jpeg:https://downtownwpb.com/wp-content/uploads/PBC-Historical-Society-Hispanic-Heritage-Month-IG-1.jpg
END:VEVENT
BEGIN:VEVENT
DTSTART;TZID=America/New_York:20221205T183000
DTEND;TZID=America/New_York:20221205T193000
DTSTAMP:20260420T100650
CREATED:20220922T214445Z
LAST-MODIFIED:20230127T163533Z
UID:10013019-1670265000-1670268600@downtownwpb.com
SUMMARY:Motivational Monday
DESCRIPTION:
URL:https://downtownwpb.com/wellness/
LOCATION:FL
ATTACH;FMTTYPE=image/jpeg:https://downtownwpb.com/wp-content/uploads/Motivational-Monday.jpg
ORGANIZER;CN="West Palm Beach Downtown Development Authority":MAILTO:tjames@downtownwpb.com
END:VEVENT
BEGIN:VEVENT
DTSTART;TZID=America/New_York:20221205T130000
DTEND;TZID=America/New_York:20221205T170000
DTSTAMP:20260420T100650
CREATED:20221129T231855Z
LAST-MODIFIED:20221129T231855Z
UID:10012776-1670245200-1670259600@downtownwpb.com
SUMMARY:Ferris The Ferris Wheel Rides
DESCRIPTION:The 65-foot Ferris wheel features gondola seating and its own light show. Tickets are $5 per rider for a single ride or $20 per rider for unlimited rides for one night (plus sales tax and processing fees). Tickets are required for guests aged three and older\, and patrons are encouraged to purchase their tickets in advance: Click Here. An adult must accompany anyone under 42″ in height. Additional restrictions apply.
URL:https://downtownwpb.com/event/ferris-the-ferris-wheel-rides/2022-12-05/
LOCATION:Waterfront Commons\, 101 N. Clematis Street\, West Palm Beach\, FL\, 33410\, United States
CATEGORIES:Outdoors
ATTACH;FMTTYPE=image/jpeg:https://downtownwpb.com/wp-content/uploads/HIP-22_WEB_BigDealBigWheel_862x487-1.jpg
ORGANIZER;CN="City of West Palm Beach":MAILTO:events@wpb.org
END:VEVENT
BEGIN:VEVENT
DTSTART;TZID=America/New_York:20221205T130000
DTEND;TZID=America/New_York:20221205T170000
DTSTAMP:20260420T100650
CREATED:20221129T214741Z
LAST-MODIFIED:20221129T214741Z
UID:10012745-1670245200-1670259600@downtownwpb.com
SUMMARY:Sandi Tree Light Shows
DESCRIPTION:Sandi and her tribe come to life and illuminate Downtown West Palm Beach  nightly with lights and bling. Guests can enjoy a magical music and light show every 15 minutes each night that will enchant kids of all ages. 
URL:https://downtownwpb.com/event/sandi-tree-light-shows/2022-12-05/
LOCATION:DowntownWPB Waterfront\, 141 S. Flagler Drive\, West Palm Beach\, FL\, 33401\, United States
CATEGORIES:Outdoors
ATTACH;FMTTYPE=image/jpeg:https://downtownwpb.com/wp-content/uploads/0056-Sandi-Land-VMA-ALurie_122216-r1-scaled.jpg
ORGANIZER;CN="City of West Palm Beach":MAILTO:events@wpb.org
END:VEVENT
BEGIN:VEVENT
DTSTART;TZID=America/New_York:20221205T050000
DTEND;TZID=America/New_York:20221205T110000
DTSTAMP:20260420T100650
CREATED:20220926T234234Z
LAST-MODIFIED:20221004T222046Z
UID:10013158-1670216400-1670238000@downtownwpb.com
SUMMARY:"Going Places" Exhibit
DESCRIPTION:Celebrate Hispanic Heritage Month by learning about the inspiring lives of members of the local Hispanic and Latino community at the “Going Places” Exhibit at the Historical Society of Palm Beach County! \nThe exhibit will be on display from Monday\, September 12 through Friday\, December 30. Admission is FREE. \nVisit PBCHistory.com for more information.
URL:https://downtownwpb.com/event/going-places-exhibit/2022-12-05/
LOCATION:Historical Society of Palm Beach County\, 300 N. Dixie Highway\, West Palm Beach\, FL\, 33401\, United States
CATEGORIES:Indoors
ATTACH;FMTTYPE=image/jpeg:https://downtownwpb.com/wp-content/uploads/PBC-Historical-Society-Hispanic-Heritage-Month-IG-1.jpg
END:VEVENT
BEGIN:VEVENT
DTSTART;TZID=America/New_York:20221205T015000
DTEND;TZID=America/New_York:20221205T022000
DTSTAMP:20260420T100650
CREATED:20220922T190243Z
LAST-MODIFIED:20221011T221936Z
UID:10013009-1670205000-1670206800@downtownwpb.com
SUMMARY:Sunrise Run/Walk
DESCRIPTION:Come run and walk with us! \nJoin the newly formed Sunrise Runners and Walkers WPB group every Monday and Wednesday morning from 6:50-7:20 a.m. at the Flagler waterfront near the Okeechobee bridge\, then run bridge to bridge and back. \n \nPeople with all abilities are welcome and the group is FREE to join. Follow the group on Instagram to get updates.
URL:https://downtownwpb.com/event/sunrise-run-walk/2022-12-05/
LOCATION:FL
CATEGORIES:Outdoors
ATTACH;FMTTYPE=image/png:https://downtownwpb.com/wp-content/uploads/SunriseRunnersandWalkers-Logo-Main.png
END:VEVENT
BEGIN:VEVENT
DTSTART;TZID=America/New_York:20221204T130000
DTEND;TZID=America/New_York:20221204T170000
DTSTAMP:20260420T100650
CREATED:20221129T231855Z
LAST-MODIFIED:20221129T231855Z
UID:10012775-1670158800-1670173200@downtownwpb.com
SUMMARY:Ferris The Ferris Wheel Rides
DESCRIPTION:The 65-foot Ferris wheel features gondola seating and its own light show. Tickets are $5 per rider for a single ride or $20 per rider for unlimited rides for one night (plus sales tax and processing fees). Tickets are required for guests aged three and older\, and patrons are encouraged to purchase their tickets in advance: Click Here. An adult must accompany anyone under 42″ in height. Additional restrictions apply.
URL:https://downtownwpb.com/event/ferris-the-ferris-wheel-rides/2022-12-04/
LOCATION:Waterfront Commons\, 101 N. Clematis Street\, West Palm Beach\, FL\, 33410\, United States
CATEGORIES:Outdoors
ATTACH;FMTTYPE=image/jpeg:https://downtownwpb.com/wp-content/uploads/HIP-22_WEB_BigDealBigWheel_862x487-1.jpg
ORGANIZER;CN="City of West Palm Beach":MAILTO:events@wpb.org
END:VEVENT
BEGIN:VEVENT
DTSTART;TZID=America/New_York:20221204T130000
DTEND;TZID=America/New_York:20221204T170000
DTSTAMP:20260420T100650
CREATED:20221129T214741Z
LAST-MODIFIED:20221129T214741Z
UID:10012744-1670158800-1670173200@downtownwpb.com
SUMMARY:Sandi Tree Light Shows
DESCRIPTION:Sandi and her tribe come to life and illuminate Downtown West Palm Beach  nightly with lights and bling. Guests can enjoy a magical music and light show every 15 minutes each night that will enchant kids of all ages. 
URL:https://downtownwpb.com/event/sandi-tree-light-shows/2022-12-04/
LOCATION:DowntownWPB Waterfront\, 141 S. Flagler Drive\, West Palm Beach\, FL\, 33401\, United States
CATEGORIES:Outdoors
ATTACH;FMTTYPE=image/jpeg:https://downtownwpb.com/wp-content/uploads/0056-Sandi-Land-VMA-ALurie_122216-r1-scaled.jpg
ORGANIZER;CN="City of West Palm Beach":MAILTO:events@wpb.org
END:VEVENT
BEGIN:VEVENT
DTSTART;TZID=America/New_York:20221204T120000
DTEND;TZID=America/New_York:20221204T140000
DTSTAMP:20260420T100650
CREATED:20221110T232709Z
LAST-MODIFIED:20221110T232709Z
UID:10013546-1670155200-1670162400@downtownwpb.com
SUMMARY:Ballet Palm Beach Presents The Nutcracker
DESCRIPTION:A magical holiday tradition beloved by all returns to the Kravis Center stage. Featuring music by Tchaikovsky\, THE NUTCRACKER tells the story of Marie who\, when given an enchanted nutcracker doll as a Christmas gift\, has no idea of the adventure that awaits her! Toy soldier battles\, giant mice\, and a blustery snowstorm led by a majestic Snow Queen awaits families in this magical night of memories. \nClick Here for more information and to purchase tickets.
URL:https://downtownwpb.com/event/ballet-palm-beach-presents-the-nutcracker/2022-12-04/2/
LOCATION:Kravis Center For Performing Arts\, 701 Okeechobee Boulevard\, West Palm Beach\, FL\, 33401\, United States
CATEGORIES:Indoors
ATTACH;FMTTYPE=image/jpeg:https://downtownwpb.com/wp-content/uploads/The-Nutcracker-Ballet-Palm-Beach.jpg
END:VEVENT
BEGIN:VEVENT
DTSTART;TZID=America/New_York:20221204T080000
DTEND;TZID=America/New_York:20221204T100000
DTSTAMP:20260420T100650
CREATED:20221110T232709Z
LAST-MODIFIED:20221110T232709Z
UID:10013545-1670140800-1670148000@downtownwpb.com
SUMMARY:Ballet Palm Beach Presents The Nutcracker
DESCRIPTION:A magical holiday tradition beloved by all returns to the Kravis Center stage. Featuring music by Tchaikovsky\, THE NUTCRACKER tells the story of Marie who\, when given an enchanted nutcracker doll as a Christmas gift\, has no idea of the adventure that awaits her! Toy soldier battles\, giant mice\, and a blustery snowstorm led by a majestic Snow Queen awaits families in this magical night of memories. \nClick Here for more information and to purchase tickets.
URL:https://downtownwpb.com/event/ballet-palm-beach-presents-the-nutcracker/2022-12-04/1/
LOCATION:Kravis Center For Performing Arts\, 701 Okeechobee Boulevard\, West Palm Beach\, FL\, 33401\, United States
CATEGORIES:Indoors
ATTACH;FMTTYPE=image/jpeg:https://downtownwpb.com/wp-content/uploads/The-Nutcracker-Ballet-Palm-Beach.jpg
END:VEVENT
BEGIN:VEVENT
DTSTART;TZID=America/New_York:20221204T063000
DTEND;TZID=America/New_York:20221204T073000
DTSTAMP:20260420T100650
CREATED:20220912T223941Z
LAST-MODIFIED:20230112T174505Z
UID:10012631-1670135400-1670139000@downtownwpb.com
SUMMARY:Rooftop Yoga At The Ben
DESCRIPTION:Join us on the rooftop of The Ben\, Autograph Collection every Friday and Sunday at 6:30 a.m. for a magical sunrise vinyasa flow. \nThe class is FREE to hotel guests and open to the public for a suggested $15 donation to your instructor. Walk-ins are welcome. \nFor more information\, call (561) 655-4001.
URL:https://downtownwpb.com/event/rooftop-yoga-at-the-ben/2022-12-04/
LOCATION:The Ben Autograph Collection Hotel\, 251 N. Narcissus Avenue\, West Palm Beach\, FL\, 33410\, United States
CATEGORIES:Outdoors
ATTACH;FMTTYPE=image/jpeg:https://downtownwpb.com/wp-content/uploads/Screenshot_20211110-165701_Instagram.jpg
END:VEVENT
END:VCALENDAR