BEGIN:VCALENDAR
VERSION:2.0
PRODID:-//West Palm Beach - ECPv6.15.5//NONSGML v1.0//EN
CALSCALE:GREGORIAN
METHOD:PUBLISH
X-ORIGINAL-URL:https://downtownwpb.com
X-WR-CALDESC:Events for West Palm Beach
REFRESH-INTERVAL;VALUE=DURATION:PT1H
X-Robots-Tag:noindex
X-PUBLISHED-TTL:PT1H
BEGIN:VTIMEZONE
TZID:America/New_York
BEGIN:DAYLIGHT
TZOFFSETFROM:-0500
TZOFFSETTO:-0400
TZNAME:EDT
DTSTART:20270314T070000
END:DAYLIGHT
BEGIN:STANDARD
TZOFFSETFROM:-0400
TZOFFSETTO:-0500
TZNAME:EST
DTSTART:20271107T060000
END:STANDARD
END:VTIMEZONE
BEGIN:VEVENT
DTSTART;TZID=America/New_York:20270109T183000
DTEND;TZID=America/New_York:20270109T203000
DTSTAMP:20260421T174054
CREATED:20250616T210709Z
LAST-MODIFIED:20250616T210709Z
UID:10022480-1799519400-1799526600@downtownwpb.com
SUMMARY:Sunset Catamaran Cruise
DESCRIPTION:Unwind and enjoy a scenic evening aboard the Hakuna Matata\, as you cruise along the stunning Downtown West Palm Beach skyline. Take in breathtaking views of the magnificent palatial mansions and mega yachts of Palm Beach Island\, all while relaxing on the water. Perfect for an unforgettable evening of relaxation and luxury! \nPlease note departure times can vary based on tides and currents. 
URL:https://www.visitpalmbeach.com/cruises-boat-tours/sunset-cruise/
LOCATION:Visit Palm Beach\, 138 South Flagler Drive\, West Palm Beach\, FL\, 33401\, United States
CATEGORIES:Outdoors
ATTACH;FMTTYPE=image/jpeg:https://downtownwpb.com/wp-content/uploads/Sunset-Catamaran-Cruise.jpg
END:VEVENT
BEGIN:VEVENT
DTSTART;TZID=America/New_York:20270110T180000
DTEND;TZID=America/New_York:20270110T200000
DTSTAMP:20260421T174054
CREATED:20250616T212242Z
LAST-MODIFIED:20250616T212310Z
UID:10026134-1799604000-1799611200@downtownwpb.com
SUMMARY:Motunui Sunset Sail
DESCRIPTION:Set sail into the stunning South Florida sunset aboard the brand-new\, luxuriously appointed catamaran Motunui. Enjoy a relaxing and unforgettable evening as you take in breathtaking views of the coastline\, all while sipping a refreshing drink and soaking in the beauty of the moment. Perfect for a serene escape! \nPlease note departure times can vary based on tides and currents. 
URL:https://www.visitpalmbeach.com/motunui-sunset-sail/
LOCATION:Visit Palm Beach\, 138 South Flagler Drive\, West Palm Beach\, FL\, 33401\, United States
CATEGORIES:Outdoors
ATTACH;FMTTYPE=image/jpeg:https://downtownwpb.com/wp-content/uploads/Motunui-Cruise.jpg
END:VEVENT
BEGIN:VEVENT
DTSTART;TZID=America/New_York:20270110T183000
DTEND;TZID=America/New_York:20270110T203000
DTSTAMP:20260421T174054
CREATED:20250616T210709Z
LAST-MODIFIED:20250616T210709Z
UID:10022481-1799605800-1799613000@downtownwpb.com
SUMMARY:Sunset Catamaran Cruise
DESCRIPTION:Unwind and enjoy a scenic evening aboard the Hakuna Matata\, as you cruise along the stunning Downtown West Palm Beach skyline. Take in breathtaking views of the magnificent palatial mansions and mega yachts of Palm Beach Island\, all while relaxing on the water. Perfect for an unforgettable evening of relaxation and luxury! \nPlease note departure times can vary based on tides and currents. 
URL:https://www.visitpalmbeach.com/cruises-boat-tours/sunset-cruise/
LOCATION:Visit Palm Beach\, 138 South Flagler Drive\, West Palm Beach\, FL\, 33401\, United States
CATEGORIES:Outdoors
ATTACH;FMTTYPE=image/jpeg:https://downtownwpb.com/wp-content/uploads/Sunset-Catamaran-Cruise.jpg
END:VEVENT
BEGIN:VEVENT
DTSTART;TZID=America/New_York:20270111T180000
DTEND;TZID=America/New_York:20270111T200000
DTSTAMP:20260421T174054
CREATED:20250616T212242Z
LAST-MODIFIED:20250616T212310Z
UID:10026135-1799690400-1799697600@downtownwpb.com
SUMMARY:Motunui Sunset Sail
DESCRIPTION:Set sail into the stunning South Florida sunset aboard the brand-new\, luxuriously appointed catamaran Motunui. Enjoy a relaxing and unforgettable evening as you take in breathtaking views of the coastline\, all while sipping a refreshing drink and soaking in the beauty of the moment. Perfect for a serene escape! \nPlease note departure times can vary based on tides and currents. 
URL:https://www.visitpalmbeach.com/motunui-sunset-sail/
LOCATION:Visit Palm Beach\, 138 South Flagler Drive\, West Palm Beach\, FL\, 33401\, United States
CATEGORIES:Outdoors
ATTACH;FMTTYPE=image/jpeg:https://downtownwpb.com/wp-content/uploads/Motunui-Cruise.jpg
END:VEVENT
BEGIN:VEVENT
DTSTART;TZID=America/New_York:20270111T183000
DTEND;TZID=America/New_York:20270111T203000
DTSTAMP:20260421T174054
CREATED:20250616T210709Z
LAST-MODIFIED:20250616T210709Z
UID:10022482-1799692200-1799699400@downtownwpb.com
SUMMARY:Sunset Catamaran Cruise
DESCRIPTION:Unwind and enjoy a scenic evening aboard the Hakuna Matata\, as you cruise along the stunning Downtown West Palm Beach skyline. Take in breathtaking views of the magnificent palatial mansions and mega yachts of Palm Beach Island\, all while relaxing on the water. Perfect for an unforgettable evening of relaxation and luxury! \nPlease note departure times can vary based on tides and currents. 
URL:https://www.visitpalmbeach.com/cruises-boat-tours/sunset-cruise/
LOCATION:Visit Palm Beach\, 138 South Flagler Drive\, West Palm Beach\, FL\, 33401\, United States
CATEGORIES:Outdoors
ATTACH;FMTTYPE=image/jpeg:https://downtownwpb.com/wp-content/uploads/Sunset-Catamaran-Cruise.jpg
END:VEVENT
BEGIN:VEVENT
DTSTART;TZID=America/New_York:20270112T180000
DTEND;TZID=America/New_York:20270112T200000
DTSTAMP:20260421T174054
CREATED:20250616T212242Z
LAST-MODIFIED:20250616T212310Z
UID:10026136-1799776800-1799784000@downtownwpb.com
SUMMARY:Motunui Sunset Sail
DESCRIPTION:Set sail into the stunning South Florida sunset aboard the brand-new\, luxuriously appointed catamaran Motunui. Enjoy a relaxing and unforgettable evening as you take in breathtaking views of the coastline\, all while sipping a refreshing drink and soaking in the beauty of the moment. Perfect for a serene escape! \nPlease note departure times can vary based on tides and currents. 
URL:https://www.visitpalmbeach.com/motunui-sunset-sail/
LOCATION:Visit Palm Beach\, 138 South Flagler Drive\, West Palm Beach\, FL\, 33401\, United States
CATEGORIES:Outdoors
ATTACH;FMTTYPE=image/jpeg:https://downtownwpb.com/wp-content/uploads/Motunui-Cruise.jpg
END:VEVENT
BEGIN:VEVENT
DTSTART;TZID=America/New_York:20270112T183000
DTEND;TZID=America/New_York:20270112T203000
DTSTAMP:20260421T174054
CREATED:20250616T210709Z
LAST-MODIFIED:20250616T210709Z
UID:10022483-1799778600-1799785800@downtownwpb.com
SUMMARY:Sunset Catamaran Cruise
DESCRIPTION:Unwind and enjoy a scenic evening aboard the Hakuna Matata\, as you cruise along the stunning Downtown West Palm Beach skyline. Take in breathtaking views of the magnificent palatial mansions and mega yachts of Palm Beach Island\, all while relaxing on the water. Perfect for an unforgettable evening of relaxation and luxury! \nPlease note departure times can vary based on tides and currents. 
URL:https://www.visitpalmbeach.com/cruises-boat-tours/sunset-cruise/
LOCATION:Visit Palm Beach\, 138 South Flagler Drive\, West Palm Beach\, FL\, 33401\, United States
CATEGORIES:Outdoors
ATTACH;FMTTYPE=image/jpeg:https://downtownwpb.com/wp-content/uploads/Sunset-Catamaran-Cruise.jpg
END:VEVENT
BEGIN:VEVENT
DTSTART;TZID=America/New_York:20270113T180000
DTEND;TZID=America/New_York:20270113T200000
DTSTAMP:20260421T174054
CREATED:20250616T212242Z
LAST-MODIFIED:20250616T212310Z
UID:10026137-1799863200-1799870400@downtownwpb.com
SUMMARY:Motunui Sunset Sail
DESCRIPTION:Set sail into the stunning South Florida sunset aboard the brand-new\, luxuriously appointed catamaran Motunui. Enjoy a relaxing and unforgettable evening as you take in breathtaking views of the coastline\, all while sipping a refreshing drink and soaking in the beauty of the moment. Perfect for a serene escape! \nPlease note departure times can vary based on tides and currents. 
URL:https://www.visitpalmbeach.com/motunui-sunset-sail/
LOCATION:Visit Palm Beach\, 138 South Flagler Drive\, West Palm Beach\, FL\, 33401\, United States
CATEGORIES:Outdoors
ATTACH;FMTTYPE=image/jpeg:https://downtownwpb.com/wp-content/uploads/Motunui-Cruise.jpg
END:VEVENT
BEGIN:VEVENT
DTSTART;TZID=America/New_York:20270113T180000
DTEND;TZID=America/New_York:20270113T200000
DTSTAMP:20260421T174054
CREATED:20251028T124438Z
LAST-MODIFIED:20260326T175109Z
UID:10046017-1799863200-1799870400@downtownwpb.com
SUMMARY:Celis Run Club
DESCRIPTION:Lace up and join the Celis Run Club at 6 p.m. for an invigorating 3-mile Flagler Run starting at Meyer Amphitheater at 104 Datura Street! All paces are welcome.\n\n\n\nVisit celisjuicebar.com/run-club for more information and the complete schedule. 
URL:https://celisjuicebar.com/run-club/
LOCATION:Meyer Amphitheatre\, 104 Datura Street\, West Palm Beach\, FL\, 33401\, United States
CATEGORIES:Outdoors
ATTACH;FMTTYPE=image/jpeg:https://downtownwpb.com/wp-content/uploads/Celis-Run-Club-meyer-4.jpg
END:VEVENT
BEGIN:VEVENT
DTSTART;TZID=America/New_York:20270113T183000
DTEND;TZID=America/New_York:20270113T203000
DTSTAMP:20260421T174054
CREATED:20250616T210709Z
LAST-MODIFIED:20250616T210709Z
UID:10022484-1799865000-1799872200@downtownwpb.com
SUMMARY:Sunset Catamaran Cruise
DESCRIPTION:Unwind and enjoy a scenic evening aboard the Hakuna Matata\, as you cruise along the stunning Downtown West Palm Beach skyline. Take in breathtaking views of the magnificent palatial mansions and mega yachts of Palm Beach Island\, all while relaxing on the water. Perfect for an unforgettable evening of relaxation and luxury! \nPlease note departure times can vary based on tides and currents. 
URL:https://www.visitpalmbeach.com/cruises-boat-tours/sunset-cruise/
LOCATION:Visit Palm Beach\, 138 South Flagler Drive\, West Palm Beach\, FL\, 33401\, United States
CATEGORIES:Outdoors
ATTACH;FMTTYPE=image/jpeg:https://downtownwpb.com/wp-content/uploads/Sunset-Catamaran-Cruise.jpg
END:VEVENT
BEGIN:VEVENT
DTSTART;TZID=America/New_York:20270114T180000
DTEND;TZID=America/New_York:20270114T200000
DTSTAMP:20260421T174054
CREATED:20250616T212242Z
LAST-MODIFIED:20250616T212310Z
UID:10026138-1799949600-1799956800@downtownwpb.com
SUMMARY:Motunui Sunset Sail
DESCRIPTION:Set sail into the stunning South Florida sunset aboard the brand-new\, luxuriously appointed catamaran Motunui. Enjoy a relaxing and unforgettable evening as you take in breathtaking views of the coastline\, all while sipping a refreshing drink and soaking in the beauty of the moment. Perfect for a serene escape! \nPlease note departure times can vary based on tides and currents. 
URL:https://www.visitpalmbeach.com/motunui-sunset-sail/
LOCATION:Visit Palm Beach\, 138 South Flagler Drive\, West Palm Beach\, FL\, 33401\, United States
CATEGORIES:Outdoors
ATTACH;FMTTYPE=image/jpeg:https://downtownwpb.com/wp-content/uploads/Motunui-Cruise.jpg
END:VEVENT
BEGIN:VEVENT
DTSTART;TZID=America/New_York:20270114T180000
DTEND;TZID=America/New_York:20270114T210000
DTSTAMP:20260421T174054
CREATED:20251025T211236Z
LAST-MODIFIED:20251025T211236Z
UID:10043193-1799949600-1799960400@downtownwpb.com
SUMMARY:Clematis By Night
DESCRIPTION:If you’re looking for live entertainment to add to your Thursday night itinerary\, look no further than Clematis by Night. Chilling out South Florida style at this highly popular\, award-winning weekly concert series has been a favorite West Palm Beach tradition for more than three decades. Grab your lawn chair or a blanket and head to one of the liveliest free Thursday nights in South Florida to check out our weekly lineup.
URL:https://www.wpb.org/Residents/Community-Events/Events/Clematis-by-Night
LOCATION:DowntownWPB Waterfront\, 141 S. Flagler Drive\, West Palm Beach\, FL\, 33401\, United States
CATEGORIES:Outdoors
ATTACH;FMTTYPE=image/jpeg:https://downtownwpb.com/wp-content/uploads/Clematis-By-Night-website.jpg
ORGANIZER;CN="City of West Palm Beach":MAILTO:events@wpb.org
END:VEVENT
BEGIN:VEVENT
DTSTART;TZID=America/New_York:20270114T183000
DTEND;TZID=America/New_York:20270114T203000
DTSTAMP:20260421T174054
CREATED:20250616T210709Z
LAST-MODIFIED:20250616T210709Z
UID:10022485-1799951400-1799958600@downtownwpb.com
SUMMARY:Sunset Catamaran Cruise
DESCRIPTION:Unwind and enjoy a scenic evening aboard the Hakuna Matata\, as you cruise along the stunning Downtown West Palm Beach skyline. Take in breathtaking views of the magnificent palatial mansions and mega yachts of Palm Beach Island\, all while relaxing on the water. Perfect for an unforgettable evening of relaxation and luxury! \nPlease note departure times can vary based on tides and currents. 
URL:https://www.visitpalmbeach.com/cruises-boat-tours/sunset-cruise/
LOCATION:Visit Palm Beach\, 138 South Flagler Drive\, West Palm Beach\, FL\, 33401\, United States
CATEGORIES:Outdoors
ATTACH;FMTTYPE=image/jpeg:https://downtownwpb.com/wp-content/uploads/Sunset-Catamaran-Cruise.jpg
END:VEVENT
BEGIN:VEVENT
DTSTART;TZID=America/New_York:20270115T180000
DTEND;TZID=America/New_York:20270115T200000
DTSTAMP:20260421T174054
CREATED:20250616T212242Z
LAST-MODIFIED:20250616T212310Z
UID:10026139-1800036000-1800043200@downtownwpb.com
SUMMARY:Motunui Sunset Sail
DESCRIPTION:Set sail into the stunning South Florida sunset aboard the brand-new\, luxuriously appointed catamaran Motunui. Enjoy a relaxing and unforgettable evening as you take in breathtaking views of the coastline\, all while sipping a refreshing drink and soaking in the beauty of the moment. Perfect for a serene escape! \nPlease note departure times can vary based on tides and currents. 
URL:https://www.visitpalmbeach.com/motunui-sunset-sail/
LOCATION:Visit Palm Beach\, 138 South Flagler Drive\, West Palm Beach\, FL\, 33401\, United States
CATEGORIES:Outdoors
ATTACH;FMTTYPE=image/jpeg:https://downtownwpb.com/wp-content/uploads/Motunui-Cruise.jpg
END:VEVENT
BEGIN:VEVENT
DTSTART;TZID=America/New_York:20270115T183000
DTEND;TZID=America/New_York:20270115T203000
DTSTAMP:20260421T174054
CREATED:20250616T210709Z
LAST-MODIFIED:20250616T210709Z
UID:10022486-1800037800-1800045000@downtownwpb.com
SUMMARY:Sunset Catamaran Cruise
DESCRIPTION:Unwind and enjoy a scenic evening aboard the Hakuna Matata\, as you cruise along the stunning Downtown West Palm Beach skyline. Take in breathtaking views of the magnificent palatial mansions and mega yachts of Palm Beach Island\, all while relaxing on the water. Perfect for an unforgettable evening of relaxation and luxury! \nPlease note departure times can vary based on tides and currents. 
URL:https://www.visitpalmbeach.com/cruises-boat-tours/sunset-cruise/
LOCATION:Visit Palm Beach\, 138 South Flagler Drive\, West Palm Beach\, FL\, 33401\, United States
CATEGORIES:Outdoors
ATTACH;FMTTYPE=image/jpeg:https://downtownwpb.com/wp-content/uploads/Sunset-Catamaran-Cruise.jpg
END:VEVENT
BEGIN:VEVENT
DTSTART;TZID=America/New_York:20270116T180000
DTEND;TZID=America/New_York:20270116T200000
DTSTAMP:20260421T174054
CREATED:20250616T212242Z
LAST-MODIFIED:20250616T212310Z
UID:10026140-1800122400-1800129600@downtownwpb.com
SUMMARY:Motunui Sunset Sail
DESCRIPTION:Set sail into the stunning South Florida sunset aboard the brand-new\, luxuriously appointed catamaran Motunui. Enjoy a relaxing and unforgettable evening as you take in breathtaking views of the coastline\, all while sipping a refreshing drink and soaking in the beauty of the moment. Perfect for a serene escape! \nPlease note departure times can vary based on tides and currents. 
URL:https://www.visitpalmbeach.com/motunui-sunset-sail/
LOCATION:Visit Palm Beach\, 138 South Flagler Drive\, West Palm Beach\, FL\, 33401\, United States
CATEGORIES:Outdoors
ATTACH;FMTTYPE=image/jpeg:https://downtownwpb.com/wp-content/uploads/Motunui-Cruise.jpg
END:VEVENT
BEGIN:VEVENT
DTSTART;TZID=America/New_York:20270116T183000
DTEND;TZID=America/New_York:20270116T203000
DTSTAMP:20260421T174054
CREATED:20250616T210709Z
LAST-MODIFIED:20250616T210709Z
UID:10022487-1800124200-1800131400@downtownwpb.com
SUMMARY:Sunset Catamaran Cruise
DESCRIPTION:Unwind and enjoy a scenic evening aboard the Hakuna Matata\, as you cruise along the stunning Downtown West Palm Beach skyline. Take in breathtaking views of the magnificent palatial mansions and mega yachts of Palm Beach Island\, all while relaxing on the water. Perfect for an unforgettable evening of relaxation and luxury! \nPlease note departure times can vary based on tides and currents. 
URL:https://www.visitpalmbeach.com/cruises-boat-tours/sunset-cruise/
LOCATION:Visit Palm Beach\, 138 South Flagler Drive\, West Palm Beach\, FL\, 33401\, United States
CATEGORIES:Outdoors
ATTACH;FMTTYPE=image/jpeg:https://downtownwpb.com/wp-content/uploads/Sunset-Catamaran-Cruise.jpg
END:VEVENT
BEGIN:VEVENT
DTSTART;TZID=America/New_York:20270117T180000
DTEND;TZID=America/New_York:20270117T200000
DTSTAMP:20260421T174054
CREATED:20250616T212242Z
LAST-MODIFIED:20250616T212310Z
UID:10026141-1800208800-1800216000@downtownwpb.com
SUMMARY:Motunui Sunset Sail
DESCRIPTION:Set sail into the stunning South Florida sunset aboard the brand-new\, luxuriously appointed catamaran Motunui. Enjoy a relaxing and unforgettable evening as you take in breathtaking views of the coastline\, all while sipping a refreshing drink and soaking in the beauty of the moment. Perfect for a serene escape! \nPlease note departure times can vary based on tides and currents. 
URL:https://www.visitpalmbeach.com/motunui-sunset-sail/
LOCATION:Visit Palm Beach\, 138 South Flagler Drive\, West Palm Beach\, FL\, 33401\, United States
CATEGORIES:Outdoors
ATTACH;FMTTYPE=image/jpeg:https://downtownwpb.com/wp-content/uploads/Motunui-Cruise.jpg
END:VEVENT
BEGIN:VEVENT
DTSTART;TZID=America/New_York:20270117T183000
DTEND;TZID=America/New_York:20270117T203000
DTSTAMP:20260421T174054
CREATED:20250616T210709Z
LAST-MODIFIED:20250616T210709Z
UID:10022488-1800210600-1800217800@downtownwpb.com
SUMMARY:Sunset Catamaran Cruise
DESCRIPTION:Unwind and enjoy a scenic evening aboard the Hakuna Matata\, as you cruise along the stunning Downtown West Palm Beach skyline. Take in breathtaking views of the magnificent palatial mansions and mega yachts of Palm Beach Island\, all while relaxing on the water. Perfect for an unforgettable evening of relaxation and luxury! \nPlease note departure times can vary based on tides and currents. 
URL:https://www.visitpalmbeach.com/cruises-boat-tours/sunset-cruise/
LOCATION:Visit Palm Beach\, 138 South Flagler Drive\, West Palm Beach\, FL\, 33401\, United States
CATEGORIES:Outdoors
ATTACH;FMTTYPE=image/jpeg:https://downtownwpb.com/wp-content/uploads/Sunset-Catamaran-Cruise.jpg
END:VEVENT
BEGIN:VEVENT
DTSTART;TZID=America/New_York:20270118T180000
DTEND;TZID=America/New_York:20270118T200000
DTSTAMP:20260421T174054
CREATED:20250616T212242Z
LAST-MODIFIED:20250616T212310Z
UID:10026142-1800295200-1800302400@downtownwpb.com
SUMMARY:Motunui Sunset Sail
DESCRIPTION:Set sail into the stunning South Florida sunset aboard the brand-new\, luxuriously appointed catamaran Motunui. Enjoy a relaxing and unforgettable evening as you take in breathtaking views of the coastline\, all while sipping a refreshing drink and soaking in the beauty of the moment. Perfect for a serene escape! \nPlease note departure times can vary based on tides and currents. 
URL:https://www.visitpalmbeach.com/motunui-sunset-sail/
LOCATION:Visit Palm Beach\, 138 South Flagler Drive\, West Palm Beach\, FL\, 33401\, United States
CATEGORIES:Outdoors
ATTACH;FMTTYPE=image/jpeg:https://downtownwpb.com/wp-content/uploads/Motunui-Cruise.jpg
END:VEVENT
BEGIN:VEVENT
DTSTART;TZID=America/New_York:20270118T183000
DTEND;TZID=America/New_York:20270118T203000
DTSTAMP:20260421T174054
CREATED:20250616T210709Z
LAST-MODIFIED:20250616T210709Z
UID:10022489-1800297000-1800304200@downtownwpb.com
SUMMARY:Sunset Catamaran Cruise
DESCRIPTION:Unwind and enjoy a scenic evening aboard the Hakuna Matata\, as you cruise along the stunning Downtown West Palm Beach skyline. Take in breathtaking views of the magnificent palatial mansions and mega yachts of Palm Beach Island\, all while relaxing on the water. Perfect for an unforgettable evening of relaxation and luxury! \nPlease note departure times can vary based on tides and currents. 
URL:https://www.visitpalmbeach.com/cruises-boat-tours/sunset-cruise/
LOCATION:Visit Palm Beach\, 138 South Flagler Drive\, West Palm Beach\, FL\, 33401\, United States
CATEGORIES:Outdoors
ATTACH;FMTTYPE=image/jpeg:https://downtownwpb.com/wp-content/uploads/Sunset-Catamaran-Cruise.jpg
END:VEVENT
BEGIN:VEVENT
DTSTART;TZID=America/New_York:20270119T180000
DTEND;TZID=America/New_York:20270119T200000
DTSTAMP:20260421T174054
CREATED:20250616T212242Z
LAST-MODIFIED:20250616T212310Z
UID:10026143-1800381600-1800388800@downtownwpb.com
SUMMARY:Motunui Sunset Sail
DESCRIPTION:Set sail into the stunning South Florida sunset aboard the brand-new\, luxuriously appointed catamaran Motunui. Enjoy a relaxing and unforgettable evening as you take in breathtaking views of the coastline\, all while sipping a refreshing drink and soaking in the beauty of the moment. Perfect for a serene escape! \nPlease note departure times can vary based on tides and currents. 
URL:https://www.visitpalmbeach.com/motunui-sunset-sail/
LOCATION:Visit Palm Beach\, 138 South Flagler Drive\, West Palm Beach\, FL\, 33401\, United States
CATEGORIES:Outdoors
ATTACH;FMTTYPE=image/jpeg:https://downtownwpb.com/wp-content/uploads/Motunui-Cruise.jpg
END:VEVENT
BEGIN:VEVENT
DTSTART;TZID=America/New_York:20270119T183000
DTEND;TZID=America/New_York:20270119T203000
DTSTAMP:20260421T174054
CREATED:20250616T210709Z
LAST-MODIFIED:20250616T210709Z
UID:10022490-1800383400-1800390600@downtownwpb.com
SUMMARY:Sunset Catamaran Cruise
DESCRIPTION:Unwind and enjoy a scenic evening aboard the Hakuna Matata\, as you cruise along the stunning Downtown West Palm Beach skyline. Take in breathtaking views of the magnificent palatial mansions and mega yachts of Palm Beach Island\, all while relaxing on the water. Perfect for an unforgettable evening of relaxation and luxury! \nPlease note departure times can vary based on tides and currents. 
URL:https://www.visitpalmbeach.com/cruises-boat-tours/sunset-cruise/
LOCATION:Visit Palm Beach\, 138 South Flagler Drive\, West Palm Beach\, FL\, 33401\, United States
CATEGORIES:Outdoors
ATTACH;FMTTYPE=image/jpeg:https://downtownwpb.com/wp-content/uploads/Sunset-Catamaran-Cruise.jpg
END:VEVENT
BEGIN:VEVENT
DTSTART;TZID=America/New_York:20270120T180000
DTEND;TZID=America/New_York:20270120T200000
DTSTAMP:20260421T174054
CREATED:20250616T212242Z
LAST-MODIFIED:20250616T212310Z
UID:10026144-1800468000-1800475200@downtownwpb.com
SUMMARY:Motunui Sunset Sail
DESCRIPTION:Set sail into the stunning South Florida sunset aboard the brand-new\, luxuriously appointed catamaran Motunui. Enjoy a relaxing and unforgettable evening as you take in breathtaking views of the coastline\, all while sipping a refreshing drink and soaking in the beauty of the moment. Perfect for a serene escape! \nPlease note departure times can vary based on tides and currents. 
URL:https://www.visitpalmbeach.com/motunui-sunset-sail/
LOCATION:Visit Palm Beach\, 138 South Flagler Drive\, West Palm Beach\, FL\, 33401\, United States
CATEGORIES:Outdoors
ATTACH;FMTTYPE=image/jpeg:https://downtownwpb.com/wp-content/uploads/Motunui-Cruise.jpg
END:VEVENT
BEGIN:VEVENT
DTSTART;TZID=America/New_York:20270120T180000
DTEND;TZID=America/New_York:20270120T200000
DTSTAMP:20260421T174054
CREATED:20251028T124438Z
LAST-MODIFIED:20260326T175109Z
UID:10046018-1800468000-1800475200@downtownwpb.com
SUMMARY:Celis Run Club
DESCRIPTION:Lace up and join the Celis Run Club at 6 p.m. for an invigorating 3-mile Flagler Run starting at Meyer Amphitheater at 104 Datura Street! All paces are welcome.\n\n\n\nVisit celisjuicebar.com/run-club for more information and the complete schedule. 
URL:https://celisjuicebar.com/run-club/
LOCATION:Meyer Amphitheatre\, 104 Datura Street\, West Palm Beach\, FL\, 33401\, United States
CATEGORIES:Outdoors
ATTACH;FMTTYPE=image/jpeg:https://downtownwpb.com/wp-content/uploads/Celis-Run-Club-meyer-4.jpg
END:VEVENT
BEGIN:VEVENT
DTSTART;TZID=America/New_York:20270120T183000
DTEND;TZID=America/New_York:20270120T203000
DTSTAMP:20260421T174054
CREATED:20250616T210709Z
LAST-MODIFIED:20250616T210709Z
UID:10022491-1800469800-1800477000@downtownwpb.com
SUMMARY:Sunset Catamaran Cruise
DESCRIPTION:Unwind and enjoy a scenic evening aboard the Hakuna Matata\, as you cruise along the stunning Downtown West Palm Beach skyline. Take in breathtaking views of the magnificent palatial mansions and mega yachts of Palm Beach Island\, all while relaxing on the water. Perfect for an unforgettable evening of relaxation and luxury! \nPlease note departure times can vary based on tides and currents. 
URL:https://www.visitpalmbeach.com/cruises-boat-tours/sunset-cruise/
LOCATION:Visit Palm Beach\, 138 South Flagler Drive\, West Palm Beach\, FL\, 33401\, United States
CATEGORIES:Outdoors
ATTACH;FMTTYPE=image/jpeg:https://downtownwpb.com/wp-content/uploads/Sunset-Catamaran-Cruise.jpg
END:VEVENT
BEGIN:VEVENT
DTSTART;TZID=America/New_York:20270121T180000
DTEND;TZID=America/New_York:20270121T200000
DTSTAMP:20260421T174054
CREATED:20250616T212242Z
LAST-MODIFIED:20250616T212310Z
UID:10026145-1800554400-1800561600@downtownwpb.com
SUMMARY:Motunui Sunset Sail
DESCRIPTION:Set sail into the stunning South Florida sunset aboard the brand-new\, luxuriously appointed catamaran Motunui. Enjoy a relaxing and unforgettable evening as you take in breathtaking views of the coastline\, all while sipping a refreshing drink and soaking in the beauty of the moment. Perfect for a serene escape! \nPlease note departure times can vary based on tides and currents. 
URL:https://www.visitpalmbeach.com/motunui-sunset-sail/
LOCATION:Visit Palm Beach\, 138 South Flagler Drive\, West Palm Beach\, FL\, 33401\, United States
CATEGORIES:Outdoors
ATTACH;FMTTYPE=image/jpeg:https://downtownwpb.com/wp-content/uploads/Motunui-Cruise.jpg
END:VEVENT
BEGIN:VEVENT
DTSTART;TZID=America/New_York:20270121T180000
DTEND;TZID=America/New_York:20270121T210000
DTSTAMP:20260421T174054
CREATED:20251025T211236Z
LAST-MODIFIED:20251025T211236Z
UID:10043194-1800554400-1800565200@downtownwpb.com
SUMMARY:Clematis By Night
DESCRIPTION:If you’re looking for live entertainment to add to your Thursday night itinerary\, look no further than Clematis by Night. Chilling out South Florida style at this highly popular\, award-winning weekly concert series has been a favorite West Palm Beach tradition for more than three decades. Grab your lawn chair or a blanket and head to one of the liveliest free Thursday nights in South Florida to check out our weekly lineup.
URL:https://www.wpb.org/Residents/Community-Events/Events/Clematis-by-Night
LOCATION:DowntownWPB Waterfront\, 141 S. Flagler Drive\, West Palm Beach\, FL\, 33401\, United States
CATEGORIES:Outdoors
ATTACH;FMTTYPE=image/jpeg:https://downtownwpb.com/wp-content/uploads/Clematis-By-Night-website.jpg
ORGANIZER;CN="City of West Palm Beach":MAILTO:events@wpb.org
END:VEVENT
BEGIN:VEVENT
DTSTART;TZID=America/New_York:20270121T183000
DTEND;TZID=America/New_York:20270121T203000
DTSTAMP:20260421T174054
CREATED:20250616T210709Z
LAST-MODIFIED:20250616T210709Z
UID:10022492-1800556200-1800563400@downtownwpb.com
SUMMARY:Sunset Catamaran Cruise
DESCRIPTION:Unwind and enjoy a scenic evening aboard the Hakuna Matata\, as you cruise along the stunning Downtown West Palm Beach skyline. Take in breathtaking views of the magnificent palatial mansions and mega yachts of Palm Beach Island\, all while relaxing on the water. Perfect for an unforgettable evening of relaxation and luxury! \nPlease note departure times can vary based on tides and currents. 
URL:https://www.visitpalmbeach.com/cruises-boat-tours/sunset-cruise/
LOCATION:Visit Palm Beach\, 138 South Flagler Drive\, West Palm Beach\, FL\, 33401\, United States
CATEGORIES:Outdoors
ATTACH;FMTTYPE=image/jpeg:https://downtownwpb.com/wp-content/uploads/Sunset-Catamaran-Cruise.jpg
END:VEVENT
BEGIN:VEVENT
DTSTART;TZID=America/New_York:20270122T180000
DTEND;TZID=America/New_York:20270122T200000
DTSTAMP:20260421T174054
CREATED:20250616T212242Z
LAST-MODIFIED:20250616T212310Z
UID:10026146-1800640800-1800648000@downtownwpb.com
SUMMARY:Motunui Sunset Sail
DESCRIPTION:Set sail into the stunning South Florida sunset aboard the brand-new\, luxuriously appointed catamaran Motunui. Enjoy a relaxing and unforgettable evening as you take in breathtaking views of the coastline\, all while sipping a refreshing drink and soaking in the beauty of the moment. Perfect for a serene escape! \nPlease note departure times can vary based on tides and currents. 
URL:https://www.visitpalmbeach.com/motunui-sunset-sail/
LOCATION:Visit Palm Beach\, 138 South Flagler Drive\, West Palm Beach\, FL\, 33401\, United States
CATEGORIES:Outdoors
ATTACH;FMTTYPE=image/jpeg:https://downtownwpb.com/wp-content/uploads/Motunui-Cruise.jpg
END:VEVENT
END:VCALENDAR