BEGIN:VCALENDAR
VERSION:2.0
PRODID:-//West Palm Beach - ECPv6.15.5//NONSGML v1.0//EN
CALSCALE:GREGORIAN
METHOD:PUBLISH
X-ORIGINAL-URL:https://downtownwpb.com
X-WR-CALDESC:Events for West Palm Beach
REFRESH-INTERVAL;VALUE=DURATION:PT1H
X-Robots-Tag:noindex
X-PUBLISHED-TTL:PT1H
BEGIN:VTIMEZONE
TZID:America/New_York
BEGIN:DAYLIGHT
TZOFFSETFROM:-0500
TZOFFSETTO:-0400
TZNAME:EDT
DTSTART:20260308T070000
END:DAYLIGHT
BEGIN:STANDARD
TZOFFSETFROM:-0400
TZOFFSETTO:-0500
TZNAME:EST
DTSTART:20261101T060000
END:STANDARD
BEGIN:DAYLIGHT
TZOFFSETFROM:-0500
TZOFFSETTO:-0400
TZNAME:EDT
DTSTART:20270314T070000
END:DAYLIGHT
BEGIN:STANDARD
TZOFFSETFROM:-0400
TZOFFSETTO:-0500
TZNAME:EST
DTSTART:20271107T060000
END:STANDARD
END:VTIMEZONE
BEGIN:VEVENT
DTSTART;TZID=America/New_York:20261226T180000
DTEND;TZID=America/New_York:20261226T200000
DTSTAMP:20260421T075415
CREATED:20250616T212242Z
LAST-MODIFIED:20250616T212310Z
UID:10026119-1798308000-1798315200@downtownwpb.com
SUMMARY:Motunui Sunset Sail
DESCRIPTION:Set sail into the stunning South Florida sunset aboard the brand-new\, luxuriously appointed catamaran Motunui. Enjoy a relaxing and unforgettable evening as you take in breathtaking views of the coastline\, all while sipping a refreshing drink and soaking in the beauty of the moment. Perfect for a serene escape! \nPlease note departure times can vary based on tides and currents. 
URL:https://www.visitpalmbeach.com/motunui-sunset-sail/
LOCATION:Visit Palm Beach\, 138 South Flagler Drive\, West Palm Beach\, FL\, 33401\, United States
CATEGORIES:Outdoors
ATTACH;FMTTYPE=image/jpeg:https://downtownwpb.com/wp-content/uploads/Motunui-Cruise.jpg
END:VEVENT
BEGIN:VEVENT
DTSTART;TZID=America/New_York:20261226T183000
DTEND;TZID=America/New_York:20261226T203000
DTSTAMP:20260421T075415
CREATED:20250616T210709Z
LAST-MODIFIED:20250616T210709Z
UID:10022466-1798309800-1798317000@downtownwpb.com
SUMMARY:Sunset Catamaran Cruise
DESCRIPTION:Unwind and enjoy a scenic evening aboard the Hakuna Matata\, as you cruise along the stunning Downtown West Palm Beach skyline. Take in breathtaking views of the magnificent palatial mansions and mega yachts of Palm Beach Island\, all while relaxing on the water. Perfect for an unforgettable evening of relaxation and luxury! \nPlease note departure times can vary based on tides and currents. 
URL:https://www.visitpalmbeach.com/cruises-boat-tours/sunset-cruise/
LOCATION:Visit Palm Beach\, 138 South Flagler Drive\, West Palm Beach\, FL\, 33401\, United States
CATEGORIES:Outdoors
ATTACH;FMTTYPE=image/jpeg:https://downtownwpb.com/wp-content/uploads/Sunset-Catamaran-Cruise.jpg
END:VEVENT
BEGIN:VEVENT
DTSTART;TZID=America/New_York:20261227T180000
DTEND;TZID=America/New_York:20261227T200000
DTSTAMP:20260421T075415
CREATED:20250616T212242Z
LAST-MODIFIED:20250616T212310Z
UID:10026120-1798394400-1798401600@downtownwpb.com
SUMMARY:Motunui Sunset Sail
DESCRIPTION:Set sail into the stunning South Florida sunset aboard the brand-new\, luxuriously appointed catamaran Motunui. Enjoy a relaxing and unforgettable evening as you take in breathtaking views of the coastline\, all while sipping a refreshing drink and soaking in the beauty of the moment. Perfect for a serene escape! \nPlease note departure times can vary based on tides and currents. 
URL:https://www.visitpalmbeach.com/motunui-sunset-sail/
LOCATION:Visit Palm Beach\, 138 South Flagler Drive\, West Palm Beach\, FL\, 33401\, United States
CATEGORIES:Outdoors
ATTACH;FMTTYPE=image/jpeg:https://downtownwpb.com/wp-content/uploads/Motunui-Cruise.jpg
END:VEVENT
BEGIN:VEVENT
DTSTART;TZID=America/New_York:20261227T183000
DTEND;TZID=America/New_York:20261227T203000
DTSTAMP:20260421T075415
CREATED:20250616T210709Z
LAST-MODIFIED:20250616T210709Z
UID:10022467-1798396200-1798403400@downtownwpb.com
SUMMARY:Sunset Catamaran Cruise
DESCRIPTION:Unwind and enjoy a scenic evening aboard the Hakuna Matata\, as you cruise along the stunning Downtown West Palm Beach skyline. Take in breathtaking views of the magnificent palatial mansions and mega yachts of Palm Beach Island\, all while relaxing on the water. Perfect for an unforgettable evening of relaxation and luxury! \nPlease note departure times can vary based on tides and currents. 
URL:https://www.visitpalmbeach.com/cruises-boat-tours/sunset-cruise/
LOCATION:Visit Palm Beach\, 138 South Flagler Drive\, West Palm Beach\, FL\, 33401\, United States
CATEGORIES:Outdoors
ATTACH;FMTTYPE=image/jpeg:https://downtownwpb.com/wp-content/uploads/Sunset-Catamaran-Cruise.jpg
END:VEVENT
BEGIN:VEVENT
DTSTART;TZID=America/New_York:20261228T180000
DTEND;TZID=America/New_York:20261228T200000
DTSTAMP:20260421T075415
CREATED:20250616T212242Z
LAST-MODIFIED:20250616T212310Z
UID:10026121-1798480800-1798488000@downtownwpb.com
SUMMARY:Motunui Sunset Sail
DESCRIPTION:Set sail into the stunning South Florida sunset aboard the brand-new\, luxuriously appointed catamaran Motunui. Enjoy a relaxing and unforgettable evening as you take in breathtaking views of the coastline\, all while sipping a refreshing drink and soaking in the beauty of the moment. Perfect for a serene escape! \nPlease note departure times can vary based on tides and currents. 
URL:https://www.visitpalmbeach.com/motunui-sunset-sail/
LOCATION:Visit Palm Beach\, 138 South Flagler Drive\, West Palm Beach\, FL\, 33401\, United States
CATEGORIES:Outdoors
ATTACH;FMTTYPE=image/jpeg:https://downtownwpb.com/wp-content/uploads/Motunui-Cruise.jpg
END:VEVENT
BEGIN:VEVENT
DTSTART;TZID=America/New_York:20261228T183000
DTEND;TZID=America/New_York:20261228T203000
DTSTAMP:20260421T075415
CREATED:20250616T210709Z
LAST-MODIFIED:20250616T210709Z
UID:10022468-1798482600-1798489800@downtownwpb.com
SUMMARY:Sunset Catamaran Cruise
DESCRIPTION:Unwind and enjoy a scenic evening aboard the Hakuna Matata\, as you cruise along the stunning Downtown West Palm Beach skyline. Take in breathtaking views of the magnificent palatial mansions and mega yachts of Palm Beach Island\, all while relaxing on the water. Perfect for an unforgettable evening of relaxation and luxury! \nPlease note departure times can vary based on tides and currents. 
URL:https://www.visitpalmbeach.com/cruises-boat-tours/sunset-cruise/
LOCATION:Visit Palm Beach\, 138 South Flagler Drive\, West Palm Beach\, FL\, 33401\, United States
CATEGORIES:Outdoors
ATTACH;FMTTYPE=image/jpeg:https://downtownwpb.com/wp-content/uploads/Sunset-Catamaran-Cruise.jpg
END:VEVENT
BEGIN:VEVENT
DTSTART;TZID=America/New_York:20261229T180000
DTEND;TZID=America/New_York:20261229T200000
DTSTAMP:20260421T075415
CREATED:20250616T212242Z
LAST-MODIFIED:20250616T212310Z
UID:10026122-1798567200-1798574400@downtownwpb.com
SUMMARY:Motunui Sunset Sail
DESCRIPTION:Set sail into the stunning South Florida sunset aboard the brand-new\, luxuriously appointed catamaran Motunui. Enjoy a relaxing and unforgettable evening as you take in breathtaking views of the coastline\, all while sipping a refreshing drink and soaking in the beauty of the moment. Perfect for a serene escape! \nPlease note departure times can vary based on tides and currents. 
URL:https://www.visitpalmbeach.com/motunui-sunset-sail/
LOCATION:Visit Palm Beach\, 138 South Flagler Drive\, West Palm Beach\, FL\, 33401\, United States
CATEGORIES:Outdoors
ATTACH;FMTTYPE=image/jpeg:https://downtownwpb.com/wp-content/uploads/Motunui-Cruise.jpg
END:VEVENT
BEGIN:VEVENT
DTSTART;TZID=America/New_York:20261229T183000
DTEND;TZID=America/New_York:20261229T203000
DTSTAMP:20260421T075415
CREATED:20250616T210709Z
LAST-MODIFIED:20250616T210709Z
UID:10022469-1798569000-1798576200@downtownwpb.com
SUMMARY:Sunset Catamaran Cruise
DESCRIPTION:Unwind and enjoy a scenic evening aboard the Hakuna Matata\, as you cruise along the stunning Downtown West Palm Beach skyline. Take in breathtaking views of the magnificent palatial mansions and mega yachts of Palm Beach Island\, all while relaxing on the water. Perfect for an unforgettable evening of relaxation and luxury! \nPlease note departure times can vary based on tides and currents. 
URL:https://www.visitpalmbeach.com/cruises-boat-tours/sunset-cruise/
LOCATION:Visit Palm Beach\, 138 South Flagler Drive\, West Palm Beach\, FL\, 33401\, United States
CATEGORIES:Outdoors
ATTACH;FMTTYPE=image/jpeg:https://downtownwpb.com/wp-content/uploads/Sunset-Catamaran-Cruise.jpg
END:VEVENT
BEGIN:VEVENT
DTSTART;TZID=America/New_York:20261230T180000
DTEND;TZID=America/New_York:20261230T200000
DTSTAMP:20260421T075415
CREATED:20250616T212242Z
LAST-MODIFIED:20250616T212310Z
UID:10026123-1798653600-1798660800@downtownwpb.com
SUMMARY:Motunui Sunset Sail
DESCRIPTION:Set sail into the stunning South Florida sunset aboard the brand-new\, luxuriously appointed catamaran Motunui. Enjoy a relaxing and unforgettable evening as you take in breathtaking views of the coastline\, all while sipping a refreshing drink and soaking in the beauty of the moment. Perfect for a serene escape! \nPlease note departure times can vary based on tides and currents. 
URL:https://www.visitpalmbeach.com/motunui-sunset-sail/
LOCATION:Visit Palm Beach\, 138 South Flagler Drive\, West Palm Beach\, FL\, 33401\, United States
CATEGORIES:Outdoors
ATTACH;FMTTYPE=image/jpeg:https://downtownwpb.com/wp-content/uploads/Motunui-Cruise.jpg
END:VEVENT
BEGIN:VEVENT
DTSTART;TZID=America/New_York:20261230T180000
DTEND;TZID=America/New_York:20261230T200000
DTSTAMP:20260421T075415
CREATED:20251028T124438Z
LAST-MODIFIED:20260326T175109Z
UID:10046015-1798653600-1798660800@downtownwpb.com
SUMMARY:Celis Run Club
DESCRIPTION:Lace up and join the Celis Run Club at 6 p.m. for an invigorating 3-mile Flagler Run starting at Meyer Amphitheater at 104 Datura Street! All paces are welcome.\n\n\n\nVisit celisjuicebar.com/run-club for more information and the complete schedule. 
URL:https://celisjuicebar.com/run-club/
LOCATION:Meyer Amphitheatre\, 104 Datura Street\, West Palm Beach\, FL\, 33401\, United States
CATEGORIES:Outdoors
ATTACH;FMTTYPE=image/jpeg:https://downtownwpb.com/wp-content/uploads/Celis-Run-Club-meyer-4.jpg
END:VEVENT
BEGIN:VEVENT
DTSTART;TZID=America/New_York:20261230T183000
DTEND;TZID=America/New_York:20261230T203000
DTSTAMP:20260421T075415
CREATED:20250616T210709Z
LAST-MODIFIED:20250616T210709Z
UID:10022470-1798655400-1798662600@downtownwpb.com
SUMMARY:Sunset Catamaran Cruise
DESCRIPTION:Unwind and enjoy a scenic evening aboard the Hakuna Matata\, as you cruise along the stunning Downtown West Palm Beach skyline. Take in breathtaking views of the magnificent palatial mansions and mega yachts of Palm Beach Island\, all while relaxing on the water. Perfect for an unforgettable evening of relaxation and luxury! \nPlease note departure times can vary based on tides and currents. 
URL:https://www.visitpalmbeach.com/cruises-boat-tours/sunset-cruise/
LOCATION:Visit Palm Beach\, 138 South Flagler Drive\, West Palm Beach\, FL\, 33401\, United States
CATEGORIES:Outdoors
ATTACH;FMTTYPE=image/jpeg:https://downtownwpb.com/wp-content/uploads/Sunset-Catamaran-Cruise.jpg
END:VEVENT
BEGIN:VEVENT
DTSTART;TZID=America/New_York:20261231T180000
DTEND;TZID=America/New_York:20261231T200000
DTSTAMP:20260421T075415
CREATED:20250616T212242Z
LAST-MODIFIED:20250616T212310Z
UID:10026124-1798740000-1798747200@downtownwpb.com
SUMMARY:Motunui Sunset Sail
DESCRIPTION:Set sail into the stunning South Florida sunset aboard the brand-new\, luxuriously appointed catamaran Motunui. Enjoy a relaxing and unforgettable evening as you take in breathtaking views of the coastline\, all while sipping a refreshing drink and soaking in the beauty of the moment. Perfect for a serene escape! \nPlease note departure times can vary based on tides and currents. 
URL:https://www.visitpalmbeach.com/motunui-sunset-sail/
LOCATION:Visit Palm Beach\, 138 South Flagler Drive\, West Palm Beach\, FL\, 33401\, United States
CATEGORIES:Outdoors
ATTACH;FMTTYPE=image/jpeg:https://downtownwpb.com/wp-content/uploads/Motunui-Cruise.jpg
END:VEVENT
BEGIN:VEVENT
DTSTART;TZID=America/New_York:20261231T180000
DTEND;TZID=America/New_York:20261231T210000
DTSTAMP:20260421T075415
CREATED:20251025T211236Z
LAST-MODIFIED:20251025T211236Z
UID:10043191-1798740000-1798750800@downtownwpb.com
SUMMARY:Clematis By Night
DESCRIPTION:If you’re looking for live entertainment to add to your Thursday night itinerary\, look no further than Clematis by Night. Chilling out South Florida style at this highly popular\, award-winning weekly concert series has been a favorite West Palm Beach tradition for more than three decades. Grab your lawn chair or a blanket and head to one of the liveliest free Thursday nights in South Florida to check out our weekly lineup.
URL:https://www.wpb.org/Residents/Community-Events/Events/Clematis-by-Night
LOCATION:DowntownWPB Waterfront\, 141 S. Flagler Drive\, West Palm Beach\, FL\, 33401\, United States
CATEGORIES:Outdoors
ATTACH;FMTTYPE=image/jpeg:https://downtownwpb.com/wp-content/uploads/Clematis-By-Night-website.jpg
ORGANIZER;CN="City of West Palm Beach":MAILTO:events@wpb.org
END:VEVENT
BEGIN:VEVENT
DTSTART;TZID=America/New_York:20261231T183000
DTEND;TZID=America/New_York:20261231T203000
DTSTAMP:20260421T075415
CREATED:20250616T210709Z
LAST-MODIFIED:20250616T210709Z
UID:10022471-1798741800-1798749000@downtownwpb.com
SUMMARY:Sunset Catamaran Cruise
DESCRIPTION:Unwind and enjoy a scenic evening aboard the Hakuna Matata\, as you cruise along the stunning Downtown West Palm Beach skyline. Take in breathtaking views of the magnificent palatial mansions and mega yachts of Palm Beach Island\, all while relaxing on the water. Perfect for an unforgettable evening of relaxation and luxury! \nPlease note departure times can vary based on tides and currents. 
URL:https://www.visitpalmbeach.com/cruises-boat-tours/sunset-cruise/
LOCATION:Visit Palm Beach\, 138 South Flagler Drive\, West Palm Beach\, FL\, 33401\, United States
CATEGORIES:Outdoors
ATTACH;FMTTYPE=image/jpeg:https://downtownwpb.com/wp-content/uploads/Sunset-Catamaran-Cruise.jpg
END:VEVENT
BEGIN:VEVENT
DTSTART;TZID=America/New_York:20270101T173000
DTEND;TZID=America/New_York:20270101T213000
DTSTAMP:20260421T075415
CREATED:20250909T131315Z
LAST-MODIFIED:20250909T131315Z
UID:10041101-1798824600-1798839000@downtownwpb.com
SUMMARY:Que Bacano
DESCRIPTION:Get ready to heat up your First Fridays with a vibrant celebration of Latin dance and culture right in the heart of Downtown West Palm Beach! Each month brings a brand-new dance style to learn! From sizzling salsa to energetic merengue to sultry bachata – making every event a fresh experience. Enjoy live music by the sensational La Vie and dance the night away! 
URL:https://downtownwpb.com/explore/things-to-do/quebacano/
LOCATION:City Hall Courtyard\, 401 Clematis Street\, West Palm Beach\, FL\, 33401\, United States
CATEGORIES:Outdoors
ATTACH;FMTTYPE=image/jpeg:https://downtownwpb.com/wp-content/uploads/1N1A9558-scaled.jpg
ORGANIZER;CN="West Palm Beach Downtown Development Authority":MAILTO:tjames@downtownwpb.com
END:VEVENT
BEGIN:VEVENT
DTSTART;TZID=America/New_York:20270101T180000
DTEND;TZID=America/New_York:20270101T200000
DTSTAMP:20260421T075415
CREATED:20250616T212242Z
LAST-MODIFIED:20250616T212310Z
UID:10026125-1798826400-1798833600@downtownwpb.com
SUMMARY:Motunui Sunset Sail
DESCRIPTION:Set sail into the stunning South Florida sunset aboard the brand-new\, luxuriously appointed catamaran Motunui. Enjoy a relaxing and unforgettable evening as you take in breathtaking views of the coastline\, all while sipping a refreshing drink and soaking in the beauty of the moment. Perfect for a serene escape! \nPlease note departure times can vary based on tides and currents. 
URL:https://www.visitpalmbeach.com/motunui-sunset-sail/
LOCATION:Visit Palm Beach\, 138 South Flagler Drive\, West Palm Beach\, FL\, 33401\, United States
CATEGORIES:Outdoors
ATTACH;FMTTYPE=image/jpeg:https://downtownwpb.com/wp-content/uploads/Motunui-Cruise.jpg
END:VEVENT
BEGIN:VEVENT
DTSTART;TZID=America/New_York:20270101T183000
DTEND;TZID=America/New_York:20270101T203000
DTSTAMP:20260421T075415
CREATED:20250616T210709Z
LAST-MODIFIED:20250616T210709Z
UID:10022472-1798828200-1798835400@downtownwpb.com
SUMMARY:Sunset Catamaran Cruise
DESCRIPTION:Unwind and enjoy a scenic evening aboard the Hakuna Matata\, as you cruise along the stunning Downtown West Palm Beach skyline. Take in breathtaking views of the magnificent palatial mansions and mega yachts of Palm Beach Island\, all while relaxing on the water. Perfect for an unforgettable evening of relaxation and luxury! \nPlease note departure times can vary based on tides and currents. 
URL:https://www.visitpalmbeach.com/cruises-boat-tours/sunset-cruise/
LOCATION:Visit Palm Beach\, 138 South Flagler Drive\, West Palm Beach\, FL\, 33401\, United States
CATEGORIES:Outdoors
ATTACH;FMTTYPE=image/jpeg:https://downtownwpb.com/wp-content/uploads/Sunset-Catamaran-Cruise.jpg
END:VEVENT
BEGIN:VEVENT
DTSTART;TZID=America/New_York:20270102T180000
DTEND;TZID=America/New_York:20270102T200000
DTSTAMP:20260421T075415
CREATED:20250616T212242Z
LAST-MODIFIED:20250616T212310Z
UID:10026126-1798912800-1798920000@downtownwpb.com
SUMMARY:Motunui Sunset Sail
DESCRIPTION:Set sail into the stunning South Florida sunset aboard the brand-new\, luxuriously appointed catamaran Motunui. Enjoy a relaxing and unforgettable evening as you take in breathtaking views of the coastline\, all while sipping a refreshing drink and soaking in the beauty of the moment. Perfect for a serene escape! \nPlease note departure times can vary based on tides and currents. 
URL:https://www.visitpalmbeach.com/motunui-sunset-sail/
LOCATION:Visit Palm Beach\, 138 South Flagler Drive\, West Palm Beach\, FL\, 33401\, United States
CATEGORIES:Outdoors
ATTACH;FMTTYPE=image/jpeg:https://downtownwpb.com/wp-content/uploads/Motunui-Cruise.jpg
END:VEVENT
BEGIN:VEVENT
DTSTART;TZID=America/New_York:20270102T183000
DTEND;TZID=America/New_York:20270102T203000
DTSTAMP:20260421T075415
CREATED:20250616T210709Z
LAST-MODIFIED:20250616T210709Z
UID:10022473-1798914600-1798921800@downtownwpb.com
SUMMARY:Sunset Catamaran Cruise
DESCRIPTION:Unwind and enjoy a scenic evening aboard the Hakuna Matata\, as you cruise along the stunning Downtown West Palm Beach skyline. Take in breathtaking views of the magnificent palatial mansions and mega yachts of Palm Beach Island\, all while relaxing on the water. Perfect for an unforgettable evening of relaxation and luxury! \nPlease note departure times can vary based on tides and currents. 
URL:https://www.visitpalmbeach.com/cruises-boat-tours/sunset-cruise/
LOCATION:Visit Palm Beach\, 138 South Flagler Drive\, West Palm Beach\, FL\, 33401\, United States
CATEGORIES:Outdoors
ATTACH;FMTTYPE=image/jpeg:https://downtownwpb.com/wp-content/uploads/Sunset-Catamaran-Cruise.jpg
END:VEVENT
BEGIN:VEVENT
DTSTART;TZID=America/New_York:20270103T180000
DTEND;TZID=America/New_York:20270103T200000
DTSTAMP:20260421T075415
CREATED:20250616T212242Z
LAST-MODIFIED:20250616T212310Z
UID:10026127-1798999200-1799006400@downtownwpb.com
SUMMARY:Motunui Sunset Sail
DESCRIPTION:Set sail into the stunning South Florida sunset aboard the brand-new\, luxuriously appointed catamaran Motunui. Enjoy a relaxing and unforgettable evening as you take in breathtaking views of the coastline\, all while sipping a refreshing drink and soaking in the beauty of the moment. Perfect for a serene escape! \nPlease note departure times can vary based on tides and currents. 
URL:https://www.visitpalmbeach.com/motunui-sunset-sail/
LOCATION:Visit Palm Beach\, 138 South Flagler Drive\, West Palm Beach\, FL\, 33401\, United States
CATEGORIES:Outdoors
ATTACH;FMTTYPE=image/jpeg:https://downtownwpb.com/wp-content/uploads/Motunui-Cruise.jpg
END:VEVENT
BEGIN:VEVENT
DTSTART;TZID=America/New_York:20270103T183000
DTEND;TZID=America/New_York:20270103T203000
DTSTAMP:20260421T075415
CREATED:20250616T210709Z
LAST-MODIFIED:20250616T210709Z
UID:10022474-1799001000-1799008200@downtownwpb.com
SUMMARY:Sunset Catamaran Cruise
DESCRIPTION:Unwind and enjoy a scenic evening aboard the Hakuna Matata\, as you cruise along the stunning Downtown West Palm Beach skyline. Take in breathtaking views of the magnificent palatial mansions and mega yachts of Palm Beach Island\, all while relaxing on the water. Perfect for an unforgettable evening of relaxation and luxury! \nPlease note departure times can vary based on tides and currents. 
URL:https://www.visitpalmbeach.com/cruises-boat-tours/sunset-cruise/
LOCATION:Visit Palm Beach\, 138 South Flagler Drive\, West Palm Beach\, FL\, 33401\, United States
CATEGORIES:Outdoors
ATTACH;FMTTYPE=image/jpeg:https://downtownwpb.com/wp-content/uploads/Sunset-Catamaran-Cruise.jpg
END:VEVENT
BEGIN:VEVENT
DTSTART;TZID=America/New_York:20270104T180000
DTEND;TZID=America/New_York:20270104T200000
DTSTAMP:20260421T075415
CREATED:20250616T212242Z
LAST-MODIFIED:20250616T212310Z
UID:10026128-1799085600-1799092800@downtownwpb.com
SUMMARY:Motunui Sunset Sail
DESCRIPTION:Set sail into the stunning South Florida sunset aboard the brand-new\, luxuriously appointed catamaran Motunui. Enjoy a relaxing and unforgettable evening as you take in breathtaking views of the coastline\, all while sipping a refreshing drink and soaking in the beauty of the moment. Perfect for a serene escape! \nPlease note departure times can vary based on tides and currents. 
URL:https://www.visitpalmbeach.com/motunui-sunset-sail/
LOCATION:Visit Palm Beach\, 138 South Flagler Drive\, West Palm Beach\, FL\, 33401\, United States
CATEGORIES:Outdoors
ATTACH;FMTTYPE=image/jpeg:https://downtownwpb.com/wp-content/uploads/Motunui-Cruise.jpg
END:VEVENT
BEGIN:VEVENT
DTSTART;TZID=America/New_York:20270104T183000
DTEND;TZID=America/New_York:20270104T203000
DTSTAMP:20260421T075415
CREATED:20250616T210709Z
LAST-MODIFIED:20250616T210709Z
UID:10022475-1799087400-1799094600@downtownwpb.com
SUMMARY:Sunset Catamaran Cruise
DESCRIPTION:Unwind and enjoy a scenic evening aboard the Hakuna Matata\, as you cruise along the stunning Downtown West Palm Beach skyline. Take in breathtaking views of the magnificent palatial mansions and mega yachts of Palm Beach Island\, all while relaxing on the water. Perfect for an unforgettable evening of relaxation and luxury! \nPlease note departure times can vary based on tides and currents. 
URL:https://www.visitpalmbeach.com/cruises-boat-tours/sunset-cruise/
LOCATION:Visit Palm Beach\, 138 South Flagler Drive\, West Palm Beach\, FL\, 33401\, United States
CATEGORIES:Outdoors
ATTACH;FMTTYPE=image/jpeg:https://downtownwpb.com/wp-content/uploads/Sunset-Catamaran-Cruise.jpg
END:VEVENT
BEGIN:VEVENT
DTSTART;TZID=America/New_York:20270105T180000
DTEND;TZID=America/New_York:20270105T200000
DTSTAMP:20260421T075415
CREATED:20250616T212242Z
LAST-MODIFIED:20250616T212310Z
UID:10026129-1799172000-1799179200@downtownwpb.com
SUMMARY:Motunui Sunset Sail
DESCRIPTION:Set sail into the stunning South Florida sunset aboard the brand-new\, luxuriously appointed catamaran Motunui. Enjoy a relaxing and unforgettable evening as you take in breathtaking views of the coastline\, all while sipping a refreshing drink and soaking in the beauty of the moment. Perfect for a serene escape! \nPlease note departure times can vary based on tides and currents. 
URL:https://www.visitpalmbeach.com/motunui-sunset-sail/
LOCATION:Visit Palm Beach\, 138 South Flagler Drive\, West Palm Beach\, FL\, 33401\, United States
CATEGORIES:Outdoors
ATTACH;FMTTYPE=image/jpeg:https://downtownwpb.com/wp-content/uploads/Motunui-Cruise.jpg
END:VEVENT
BEGIN:VEVENT
DTSTART;TZID=America/New_York:20270105T183000
DTEND;TZID=America/New_York:20270105T203000
DTSTAMP:20260421T075415
CREATED:20250616T210709Z
LAST-MODIFIED:20250616T210709Z
UID:10022476-1799173800-1799181000@downtownwpb.com
SUMMARY:Sunset Catamaran Cruise
DESCRIPTION:Unwind and enjoy a scenic evening aboard the Hakuna Matata\, as you cruise along the stunning Downtown West Palm Beach skyline. Take in breathtaking views of the magnificent palatial mansions and mega yachts of Palm Beach Island\, all while relaxing on the water. Perfect for an unforgettable evening of relaxation and luxury! \nPlease note departure times can vary based on tides and currents. 
URL:https://www.visitpalmbeach.com/cruises-boat-tours/sunset-cruise/
LOCATION:Visit Palm Beach\, 138 South Flagler Drive\, West Palm Beach\, FL\, 33401\, United States
CATEGORIES:Outdoors
ATTACH;FMTTYPE=image/jpeg:https://downtownwpb.com/wp-content/uploads/Sunset-Catamaran-Cruise.jpg
END:VEVENT
BEGIN:VEVENT
DTSTART;TZID=America/New_York:20270106T180000
DTEND;TZID=America/New_York:20270106T200000
DTSTAMP:20260421T075415
CREATED:20250616T212242Z
LAST-MODIFIED:20250616T212310Z
UID:10026130-1799258400-1799265600@downtownwpb.com
SUMMARY:Motunui Sunset Sail
DESCRIPTION:Set sail into the stunning South Florida sunset aboard the brand-new\, luxuriously appointed catamaran Motunui. Enjoy a relaxing and unforgettable evening as you take in breathtaking views of the coastline\, all while sipping a refreshing drink and soaking in the beauty of the moment. Perfect for a serene escape! \nPlease note departure times can vary based on tides and currents. 
URL:https://www.visitpalmbeach.com/motunui-sunset-sail/
LOCATION:Visit Palm Beach\, 138 South Flagler Drive\, West Palm Beach\, FL\, 33401\, United States
CATEGORIES:Outdoors
ATTACH;FMTTYPE=image/jpeg:https://downtownwpb.com/wp-content/uploads/Motunui-Cruise.jpg
END:VEVENT
BEGIN:VEVENT
DTSTART;TZID=America/New_York:20270106T180000
DTEND;TZID=America/New_York:20270106T200000
DTSTAMP:20260421T075415
CREATED:20251028T124438Z
LAST-MODIFIED:20260326T175109Z
UID:10046016-1799258400-1799265600@downtownwpb.com
SUMMARY:Celis Run Club
DESCRIPTION:Lace up and join the Celis Run Club at 6 p.m. for an invigorating 3-mile Flagler Run starting at Meyer Amphitheater at 104 Datura Street! All paces are welcome.\n\n\n\nVisit celisjuicebar.com/run-club for more information and the complete schedule. 
URL:https://celisjuicebar.com/run-club/
LOCATION:Meyer Amphitheatre\, 104 Datura Street\, West Palm Beach\, FL\, 33401\, United States
CATEGORIES:Outdoors
ATTACH;FMTTYPE=image/jpeg:https://downtownwpb.com/wp-content/uploads/Celis-Run-Club-meyer-4.jpg
END:VEVENT
BEGIN:VEVENT
DTSTART;TZID=America/New_York:20270106T183000
DTEND;TZID=America/New_York:20270106T203000
DTSTAMP:20260421T075415
CREATED:20250616T210709Z
LAST-MODIFIED:20250616T210709Z
UID:10022477-1799260200-1799267400@downtownwpb.com
SUMMARY:Sunset Catamaran Cruise
DESCRIPTION:Unwind and enjoy a scenic evening aboard the Hakuna Matata\, as you cruise along the stunning Downtown West Palm Beach skyline. Take in breathtaking views of the magnificent palatial mansions and mega yachts of Palm Beach Island\, all while relaxing on the water. Perfect for an unforgettable evening of relaxation and luxury! \nPlease note departure times can vary based on tides and currents. 
URL:https://www.visitpalmbeach.com/cruises-boat-tours/sunset-cruise/
LOCATION:Visit Palm Beach\, 138 South Flagler Drive\, West Palm Beach\, FL\, 33401\, United States
CATEGORIES:Outdoors
ATTACH;FMTTYPE=image/jpeg:https://downtownwpb.com/wp-content/uploads/Sunset-Catamaran-Cruise.jpg
END:VEVENT
BEGIN:VEVENT
DTSTART;TZID=America/New_York:20270107T180000
DTEND;TZID=America/New_York:20270107T200000
DTSTAMP:20260421T075415
CREATED:20250616T212242Z
LAST-MODIFIED:20250616T212310Z
UID:10026131-1799344800-1799352000@downtownwpb.com
SUMMARY:Motunui Sunset Sail
DESCRIPTION:Set sail into the stunning South Florida sunset aboard the brand-new\, luxuriously appointed catamaran Motunui. Enjoy a relaxing and unforgettable evening as you take in breathtaking views of the coastline\, all while sipping a refreshing drink and soaking in the beauty of the moment. Perfect for a serene escape! \nPlease note departure times can vary based on tides and currents. 
URL:https://www.visitpalmbeach.com/motunui-sunset-sail/
LOCATION:Visit Palm Beach\, 138 South Flagler Drive\, West Palm Beach\, FL\, 33401\, United States
CATEGORIES:Outdoors
ATTACH;FMTTYPE=image/jpeg:https://downtownwpb.com/wp-content/uploads/Motunui-Cruise.jpg
END:VEVENT
BEGIN:VEVENT
DTSTART;TZID=America/New_York:20270107T180000
DTEND;TZID=America/New_York:20270107T210000
DTSTAMP:20260421T075415
CREATED:20251025T211236Z
LAST-MODIFIED:20251025T211236Z
UID:10043192-1799344800-1799355600@downtownwpb.com
SUMMARY:Clematis By Night
DESCRIPTION:If you’re looking for live entertainment to add to your Thursday night itinerary\, look no further than Clematis by Night. Chilling out South Florida style at this highly popular\, award-winning weekly concert series has been a favorite West Palm Beach tradition for more than three decades. Grab your lawn chair or a blanket and head to one of the liveliest free Thursday nights in South Florida to check out our weekly lineup.
URL:https://www.wpb.org/Residents/Community-Events/Events/Clematis-by-Night
LOCATION:DowntownWPB Waterfront\, 141 S. Flagler Drive\, West Palm Beach\, FL\, 33401\, United States
CATEGORIES:Outdoors
ATTACH;FMTTYPE=image/jpeg:https://downtownwpb.com/wp-content/uploads/Clematis-By-Night-website.jpg
ORGANIZER;CN="City of West Palm Beach":MAILTO:events@wpb.org
END:VEVENT
END:VCALENDAR