BEGIN:VCALENDAR
VERSION:2.0
PRODID:-//West Palm Beach - ECPv6.15.5//NONSGML v1.0//EN
CALSCALE:GREGORIAN
METHOD:PUBLISH
X-ORIGINAL-URL:https://downtownwpb.com
X-WR-CALDESC:Events for West Palm Beach
REFRESH-INTERVAL;VALUE=DURATION:PT1H
X-Robots-Tag:noindex
X-PUBLISHED-TTL:PT1H
BEGIN:VTIMEZONE
TZID:America/New_York
BEGIN:DAYLIGHT
TZOFFSETFROM:-0500
TZOFFSETTO:-0400
TZNAME:EDT
DTSTART:20260308T070000
END:DAYLIGHT
BEGIN:STANDARD
TZOFFSETFROM:-0400
TZOFFSETTO:-0500
TZNAME:EST
DTSTART:20261101T060000
END:STANDARD
END:VTIMEZONE
BEGIN:VEVENT
DTSTART;TZID=America/New_York:20260621T183000
DTEND;TZID=America/New_York:20260621T203000
DTSTAMP:20260425T064410
CREATED:20250616T210709Z
LAST-MODIFIED:20250616T210709Z
UID:10022278-1782066600-1782073800@downtownwpb.com
SUMMARY:Sunset Catamaran Cruise
DESCRIPTION:Unwind and enjoy a scenic evening aboard the Hakuna Matata\, as you cruise along the stunning Downtown West Palm Beach skyline. Take in breathtaking views of the magnificent palatial mansions and mega yachts of Palm Beach Island\, all while relaxing on the water. Perfect for an unforgettable evening of relaxation and luxury! \nPlease note departure times can vary based on tides and currents. 
URL:https://www.visitpalmbeach.com/cruises-boat-tours/sunset-cruise/
LOCATION:Visit Palm Beach\, 138 South Flagler Drive\, West Palm Beach\, FL\, 33401\, United States
CATEGORIES:Outdoors
ATTACH;FMTTYPE=image/jpeg:https://downtownwpb.com/wp-content/uploads/Sunset-Catamaran-Cruise.jpg
END:VEVENT
BEGIN:VEVENT
DTSTART;TZID=America/New_York:20260622T180000
DTEND;TZID=America/New_York:20260622T200000
DTSTAMP:20260425T064410
CREATED:20250616T212242Z
LAST-MODIFIED:20250616T212310Z
UID:10025932-1782151200-1782158400@downtownwpb.com
SUMMARY:Motunui Sunset Sail
DESCRIPTION:Set sail into the stunning South Florida sunset aboard the brand-new\, luxuriously appointed catamaran Motunui. Enjoy a relaxing and unforgettable evening as you take in breathtaking views of the coastline\, all while sipping a refreshing drink and soaking in the beauty of the moment. Perfect for a serene escape! \nPlease note departure times can vary based on tides and currents. 
URL:https://www.visitpalmbeach.com/motunui-sunset-sail/
LOCATION:Visit Palm Beach\, 138 South Flagler Drive\, West Palm Beach\, FL\, 33401\, United States
CATEGORIES:Outdoors
ATTACH;FMTTYPE=image/jpeg:https://downtownwpb.com/wp-content/uploads/Motunui-Cruise.jpg
END:VEVENT
BEGIN:VEVENT
DTSTART;TZID=America/New_York:20260622T183000
DTEND;TZID=America/New_York:20260622T203000
DTSTAMP:20260425T064410
CREATED:20250616T210709Z
LAST-MODIFIED:20250616T210709Z
UID:10022279-1782153000-1782160200@downtownwpb.com
SUMMARY:Sunset Catamaran Cruise
DESCRIPTION:Unwind and enjoy a scenic evening aboard the Hakuna Matata\, as you cruise along the stunning Downtown West Palm Beach skyline. Take in breathtaking views of the magnificent palatial mansions and mega yachts of Palm Beach Island\, all while relaxing on the water. Perfect for an unforgettable evening of relaxation and luxury! \nPlease note departure times can vary based on tides and currents. 
URL:https://www.visitpalmbeach.com/cruises-boat-tours/sunset-cruise/
LOCATION:Visit Palm Beach\, 138 South Flagler Drive\, West Palm Beach\, FL\, 33401\, United States
CATEGORIES:Outdoors
ATTACH;FMTTYPE=image/jpeg:https://downtownwpb.com/wp-content/uploads/Sunset-Catamaran-Cruise.jpg
END:VEVENT
BEGIN:VEVENT
DTSTART;TZID=America/New_York:20260623T180000
DTEND;TZID=America/New_York:20260623T200000
DTSTAMP:20260425T064410
CREATED:20250616T212242Z
LAST-MODIFIED:20250616T212310Z
UID:10025933-1782237600-1782244800@downtownwpb.com
SUMMARY:Motunui Sunset Sail
DESCRIPTION:Set sail into the stunning South Florida sunset aboard the brand-new\, luxuriously appointed catamaran Motunui. Enjoy a relaxing and unforgettable evening as you take in breathtaking views of the coastline\, all while sipping a refreshing drink and soaking in the beauty of the moment. Perfect for a serene escape! \nPlease note departure times can vary based on tides and currents. 
URL:https://www.visitpalmbeach.com/motunui-sunset-sail/
LOCATION:Visit Palm Beach\, 138 South Flagler Drive\, West Palm Beach\, FL\, 33401\, United States
CATEGORIES:Outdoors
ATTACH;FMTTYPE=image/jpeg:https://downtownwpb.com/wp-content/uploads/Motunui-Cruise.jpg
END:VEVENT
BEGIN:VEVENT
DTSTART;TZID=America/New_York:20260623T183000
DTEND;TZID=America/New_York:20260623T203000
DTSTAMP:20260425T064410
CREATED:20250616T210709Z
LAST-MODIFIED:20250616T210709Z
UID:10022280-1782239400-1782246600@downtownwpb.com
SUMMARY:Sunset Catamaran Cruise
DESCRIPTION:Unwind and enjoy a scenic evening aboard the Hakuna Matata\, as you cruise along the stunning Downtown West Palm Beach skyline. Take in breathtaking views of the magnificent palatial mansions and mega yachts of Palm Beach Island\, all while relaxing on the water. Perfect for an unforgettable evening of relaxation and luxury! \nPlease note departure times can vary based on tides and currents. 
URL:https://www.visitpalmbeach.com/cruises-boat-tours/sunset-cruise/
LOCATION:Visit Palm Beach\, 138 South Flagler Drive\, West Palm Beach\, FL\, 33401\, United States
CATEGORIES:Outdoors
ATTACH;FMTTYPE=image/jpeg:https://downtownwpb.com/wp-content/uploads/Sunset-Catamaran-Cruise.jpg
END:VEVENT
BEGIN:VEVENT
DTSTART;TZID=America/New_York:20260624T180000
DTEND;TZID=America/New_York:20260624T200000
DTSTAMP:20260425T064410
CREATED:20250616T212242Z
LAST-MODIFIED:20250616T212310Z
UID:10025934-1782324000-1782331200@downtownwpb.com
SUMMARY:Motunui Sunset Sail
DESCRIPTION:Set sail into the stunning South Florida sunset aboard the brand-new\, luxuriously appointed catamaran Motunui. Enjoy a relaxing and unforgettable evening as you take in breathtaking views of the coastline\, all while sipping a refreshing drink and soaking in the beauty of the moment. Perfect for a serene escape! \nPlease note departure times can vary based on tides and currents. 
URL:https://www.visitpalmbeach.com/motunui-sunset-sail/
LOCATION:Visit Palm Beach\, 138 South Flagler Drive\, West Palm Beach\, FL\, 33401\, United States
CATEGORIES:Outdoors
ATTACH;FMTTYPE=image/jpeg:https://downtownwpb.com/wp-content/uploads/Motunui-Cruise.jpg
END:VEVENT
BEGIN:VEVENT
DTSTART;TZID=America/New_York:20260624T180000
DTEND;TZID=America/New_York:20260624T200000
DTSTAMP:20260425T064410
CREATED:20251028T124438Z
LAST-MODIFIED:20260326T175109Z
UID:10045988-1782324000-1782331200@downtownwpb.com
SUMMARY:Celis Run Club
DESCRIPTION:Lace up and join the Celis Run Club at 6 p.m. for an invigorating 3-mile Flagler Run starting at Meyer Amphitheater at 104 Datura Street! All paces are welcome.\n\n\n\nVisit celisjuicebar.com/run-club for more information and the complete schedule. 
URL:https://celisjuicebar.com/run-club/
LOCATION:Meyer Amphitheatre\, 104 Datura Street\, West Palm Beach\, FL\, 33401\, United States
CATEGORIES:Outdoors
ATTACH;FMTTYPE=image/jpeg:https://downtownwpb.com/wp-content/uploads/Celis-Run-Club-meyer-4.jpg
END:VEVENT
BEGIN:VEVENT
DTSTART;TZID=America/New_York:20260624T183000
DTEND;TZID=America/New_York:20260624T203000
DTSTAMP:20260425T064410
CREATED:20250616T210709Z
LAST-MODIFIED:20250616T210709Z
UID:10022281-1782325800-1782333000@downtownwpb.com
SUMMARY:Sunset Catamaran Cruise
DESCRIPTION:Unwind and enjoy a scenic evening aboard the Hakuna Matata\, as you cruise along the stunning Downtown West Palm Beach skyline. Take in breathtaking views of the magnificent palatial mansions and mega yachts of Palm Beach Island\, all while relaxing on the water. Perfect for an unforgettable evening of relaxation and luxury! \nPlease note departure times can vary based on tides and currents. 
URL:https://www.visitpalmbeach.com/cruises-boat-tours/sunset-cruise/
LOCATION:Visit Palm Beach\, 138 South Flagler Drive\, West Palm Beach\, FL\, 33401\, United States
CATEGORIES:Outdoors
ATTACH;FMTTYPE=image/jpeg:https://downtownwpb.com/wp-content/uploads/Sunset-Catamaran-Cruise.jpg
END:VEVENT
BEGIN:VEVENT
DTSTART;TZID=America/New_York:20260625T180000
DTEND;TZID=America/New_York:20260625T200000
DTSTAMP:20260425T064410
CREATED:20250616T212242Z
LAST-MODIFIED:20250616T212310Z
UID:10025935-1782410400-1782417600@downtownwpb.com
SUMMARY:Motunui Sunset Sail
DESCRIPTION:Set sail into the stunning South Florida sunset aboard the brand-new\, luxuriously appointed catamaran Motunui. Enjoy a relaxing and unforgettable evening as you take in breathtaking views of the coastline\, all while sipping a refreshing drink and soaking in the beauty of the moment. Perfect for a serene escape! \nPlease note departure times can vary based on tides and currents. 
URL:https://www.visitpalmbeach.com/motunui-sunset-sail/
LOCATION:Visit Palm Beach\, 138 South Flagler Drive\, West Palm Beach\, FL\, 33401\, United States
CATEGORIES:Outdoors
ATTACH;FMTTYPE=image/jpeg:https://downtownwpb.com/wp-content/uploads/Motunui-Cruise.jpg
END:VEVENT
BEGIN:VEVENT
DTSTART;TZID=America/New_York:20260625T180000
DTEND;TZID=America/New_York:20260625T210000
DTSTAMP:20260425T064410
CREATED:20251025T211236Z
LAST-MODIFIED:20251025T211236Z
UID:10043164-1782410400-1782421200@downtownwpb.com
SUMMARY:Clematis By Night
DESCRIPTION:If you’re looking for live entertainment to add to your Thursday night itinerary\, look no further than Clematis by Night. Chilling out South Florida style at this highly popular\, award-winning weekly concert series has been a favorite West Palm Beach tradition for more than three decades. Grab your lawn chair or a blanket and head to one of the liveliest free Thursday nights in South Florida to check out our weekly lineup.
URL:https://www.wpb.org/Residents/Community-Events/Events/Clematis-by-Night
LOCATION:DowntownWPB Waterfront\, 141 S. Flagler Drive\, West Palm Beach\, FL\, 33401\, United States
CATEGORIES:Outdoors
ATTACH;FMTTYPE=image/jpeg:https://downtownwpb.com/wp-content/uploads/Clematis-By-Night-website.jpg
ORGANIZER;CN="City of West Palm Beach":MAILTO:events@wpb.org
END:VEVENT
BEGIN:VEVENT
DTSTART;TZID=America/New_York:20260625T183000
DTEND;TZID=America/New_York:20260625T203000
DTSTAMP:20260425T064410
CREATED:20250616T210709Z
LAST-MODIFIED:20250616T210709Z
UID:10022282-1782412200-1782419400@downtownwpb.com
SUMMARY:Sunset Catamaran Cruise
DESCRIPTION:Unwind and enjoy a scenic evening aboard the Hakuna Matata\, as you cruise along the stunning Downtown West Palm Beach skyline. Take in breathtaking views of the magnificent palatial mansions and mega yachts of Palm Beach Island\, all while relaxing on the water. Perfect for an unforgettable evening of relaxation and luxury! \nPlease note departure times can vary based on tides and currents. 
URL:https://www.visitpalmbeach.com/cruises-boat-tours/sunset-cruise/
LOCATION:Visit Palm Beach\, 138 South Flagler Drive\, West Palm Beach\, FL\, 33401\, United States
CATEGORIES:Outdoors
ATTACH;FMTTYPE=image/jpeg:https://downtownwpb.com/wp-content/uploads/Sunset-Catamaran-Cruise.jpg
END:VEVENT
BEGIN:VEVENT
DTSTART;TZID=America/New_York:20260626T180000
DTEND;TZID=America/New_York:20260626T200000
DTSTAMP:20260425T064410
CREATED:20250616T212242Z
LAST-MODIFIED:20250616T212310Z
UID:10025936-1782496800-1782504000@downtownwpb.com
SUMMARY:Motunui Sunset Sail
DESCRIPTION:Set sail into the stunning South Florida sunset aboard the brand-new\, luxuriously appointed catamaran Motunui. Enjoy a relaxing and unforgettable evening as you take in breathtaking views of the coastline\, all while sipping a refreshing drink and soaking in the beauty of the moment. Perfect for a serene escape! \nPlease note departure times can vary based on tides and currents. 
URL:https://www.visitpalmbeach.com/motunui-sunset-sail/
LOCATION:Visit Palm Beach\, 138 South Flagler Drive\, West Palm Beach\, FL\, 33401\, United States
CATEGORIES:Outdoors
ATTACH;FMTTYPE=image/jpeg:https://downtownwpb.com/wp-content/uploads/Motunui-Cruise.jpg
END:VEVENT
BEGIN:VEVENT
DTSTART;TZID=America/New_York:20260626T183000
DTEND;TZID=America/New_York:20260626T203000
DTSTAMP:20260425T064410
CREATED:20250616T210709Z
LAST-MODIFIED:20250616T210709Z
UID:10022283-1782498600-1782505800@downtownwpb.com
SUMMARY:Sunset Catamaran Cruise
DESCRIPTION:Unwind and enjoy a scenic evening aboard the Hakuna Matata\, as you cruise along the stunning Downtown West Palm Beach skyline. Take in breathtaking views of the magnificent palatial mansions and mega yachts of Palm Beach Island\, all while relaxing on the water. Perfect for an unforgettable evening of relaxation and luxury! \nPlease note departure times can vary based on tides and currents. 
URL:https://www.visitpalmbeach.com/cruises-boat-tours/sunset-cruise/
LOCATION:Visit Palm Beach\, 138 South Flagler Drive\, West Palm Beach\, FL\, 33401\, United States
CATEGORIES:Outdoors
ATTACH;FMTTYPE=image/jpeg:https://downtownwpb.com/wp-content/uploads/Sunset-Catamaran-Cruise.jpg
END:VEVENT
BEGIN:VEVENT
DTSTART;TZID=America/New_York:20260627T180000
DTEND;TZID=America/New_York:20260627T200000
DTSTAMP:20260425T064410
CREATED:20250616T212242Z
LAST-MODIFIED:20250616T212310Z
UID:10025937-1782583200-1782590400@downtownwpb.com
SUMMARY:Motunui Sunset Sail
DESCRIPTION:Set sail into the stunning South Florida sunset aboard the brand-new\, luxuriously appointed catamaran Motunui. Enjoy a relaxing and unforgettable evening as you take in breathtaking views of the coastline\, all while sipping a refreshing drink and soaking in the beauty of the moment. Perfect for a serene escape! \nPlease note departure times can vary based on tides and currents. 
URL:https://www.visitpalmbeach.com/motunui-sunset-sail/
LOCATION:Visit Palm Beach\, 138 South Flagler Drive\, West Palm Beach\, FL\, 33401\, United States
CATEGORIES:Outdoors
ATTACH;FMTTYPE=image/jpeg:https://downtownwpb.com/wp-content/uploads/Motunui-Cruise.jpg
END:VEVENT
BEGIN:VEVENT
DTSTART;TZID=America/New_York:20260627T183000
DTEND;TZID=America/New_York:20260627T203000
DTSTAMP:20260425T064410
CREATED:20250616T210709Z
LAST-MODIFIED:20250616T210709Z
UID:10022284-1782585000-1782592200@downtownwpb.com
SUMMARY:Sunset Catamaran Cruise
DESCRIPTION:Unwind and enjoy a scenic evening aboard the Hakuna Matata\, as you cruise along the stunning Downtown West Palm Beach skyline. Take in breathtaking views of the magnificent palatial mansions and mega yachts of Palm Beach Island\, all while relaxing on the water. Perfect for an unforgettable evening of relaxation and luxury! \nPlease note departure times can vary based on tides and currents. 
URL:https://www.visitpalmbeach.com/cruises-boat-tours/sunset-cruise/
LOCATION:Visit Palm Beach\, 138 South Flagler Drive\, West Palm Beach\, FL\, 33401\, United States
CATEGORIES:Outdoors
ATTACH;FMTTYPE=image/jpeg:https://downtownwpb.com/wp-content/uploads/Sunset-Catamaran-Cruise.jpg
END:VEVENT
BEGIN:VEVENT
DTSTART;TZID=America/New_York:20260627T183000
DTEND;TZID=America/New_York:20260627T203000
DTSTAMP:20260425T064410
CREATED:20260421T122026Z
LAST-MODIFIED:20260421T122026Z
UID:10046245-1782585000-1782592200@downtownwpb.com
SUMMARY:Night Runners WPB Pride 5K Run/Walk
DESCRIPTION:Lace up and show your pride at the 6th Annual Pride 5K Run/Walk\, presented by Night Runners WPB\, on Saturday\, June 27 at 6:30 p.m. This vibrant evening run brings the community together for movement\, celebration\, and fun Plus\, all registered participants receive a limited-edition shirt and a one-of-a-kind finisher medal.
URL:https://runsignup.com/Race/FL/WestPalmBeach/NightRunnersWPB5K
LOCATION:DowntownWPB Waterfront\, 141 S. Flagler Drive\, West Palm Beach\, FL\, 33401\, United States
CATEGORIES:Outdoors
ATTACH;FMTTYPE=image/jpeg:https://downtownwpb.com/wp-content/uploads/raceBanner-OUEsaUyO-bPj9MJ-huge.jpg
END:VEVENT
BEGIN:VEVENT
DTSTART;TZID=America/New_York:20260628T180000
DTEND;TZID=America/New_York:20260628T200000
DTSTAMP:20260425T064410
CREATED:20250616T212242Z
LAST-MODIFIED:20250616T212310Z
UID:10025938-1782669600-1782676800@downtownwpb.com
SUMMARY:Motunui Sunset Sail
DESCRIPTION:Set sail into the stunning South Florida sunset aboard the brand-new\, luxuriously appointed catamaran Motunui. Enjoy a relaxing and unforgettable evening as you take in breathtaking views of the coastline\, all while sipping a refreshing drink and soaking in the beauty of the moment. Perfect for a serene escape! \nPlease note departure times can vary based on tides and currents. 
URL:https://www.visitpalmbeach.com/motunui-sunset-sail/
LOCATION:Visit Palm Beach\, 138 South Flagler Drive\, West Palm Beach\, FL\, 33401\, United States
CATEGORIES:Outdoors
ATTACH;FMTTYPE=image/jpeg:https://downtownwpb.com/wp-content/uploads/Motunui-Cruise.jpg
END:VEVENT
BEGIN:VEVENT
DTSTART;TZID=America/New_York:20260628T183000
DTEND;TZID=America/New_York:20260628T203000
DTSTAMP:20260425T064410
CREATED:20250616T210709Z
LAST-MODIFIED:20250616T210709Z
UID:10022285-1782671400-1782678600@downtownwpb.com
SUMMARY:Sunset Catamaran Cruise
DESCRIPTION:Unwind and enjoy a scenic evening aboard the Hakuna Matata\, as you cruise along the stunning Downtown West Palm Beach skyline. Take in breathtaking views of the magnificent palatial mansions and mega yachts of Palm Beach Island\, all while relaxing on the water. Perfect for an unforgettable evening of relaxation and luxury! \nPlease note departure times can vary based on tides and currents. 
URL:https://www.visitpalmbeach.com/cruises-boat-tours/sunset-cruise/
LOCATION:Visit Palm Beach\, 138 South Flagler Drive\, West Palm Beach\, FL\, 33401\, United States
CATEGORIES:Outdoors
ATTACH;FMTTYPE=image/jpeg:https://downtownwpb.com/wp-content/uploads/Sunset-Catamaran-Cruise.jpg
END:VEVENT
BEGIN:VEVENT
DTSTART;TZID=America/New_York:20260629T180000
DTEND;TZID=America/New_York:20260629T200000
DTSTAMP:20260425T064410
CREATED:20250616T212242Z
LAST-MODIFIED:20250616T212310Z
UID:10025939-1782756000-1782763200@downtownwpb.com
SUMMARY:Motunui Sunset Sail
DESCRIPTION:Set sail into the stunning South Florida sunset aboard the brand-new\, luxuriously appointed catamaran Motunui. Enjoy a relaxing and unforgettable evening as you take in breathtaking views of the coastline\, all while sipping a refreshing drink and soaking in the beauty of the moment. Perfect for a serene escape! \nPlease note departure times can vary based on tides and currents. 
URL:https://www.visitpalmbeach.com/motunui-sunset-sail/
LOCATION:Visit Palm Beach\, 138 South Flagler Drive\, West Palm Beach\, FL\, 33401\, United States
CATEGORIES:Outdoors
ATTACH;FMTTYPE=image/jpeg:https://downtownwpb.com/wp-content/uploads/Motunui-Cruise.jpg
END:VEVENT
BEGIN:VEVENT
DTSTART;TZID=America/New_York:20260629T183000
DTEND;TZID=America/New_York:20260629T203000
DTSTAMP:20260425T064410
CREATED:20250616T210709Z
LAST-MODIFIED:20250616T210709Z
UID:10022286-1782757800-1782765000@downtownwpb.com
SUMMARY:Sunset Catamaran Cruise
DESCRIPTION:Unwind and enjoy a scenic evening aboard the Hakuna Matata\, as you cruise along the stunning Downtown West Palm Beach skyline. Take in breathtaking views of the magnificent palatial mansions and mega yachts of Palm Beach Island\, all while relaxing on the water. Perfect for an unforgettable evening of relaxation and luxury! \nPlease note departure times can vary based on tides and currents. 
URL:https://www.visitpalmbeach.com/cruises-boat-tours/sunset-cruise/
LOCATION:Visit Palm Beach\, 138 South Flagler Drive\, West Palm Beach\, FL\, 33401\, United States
CATEGORIES:Outdoors
ATTACH;FMTTYPE=image/jpeg:https://downtownwpb.com/wp-content/uploads/Sunset-Catamaran-Cruise.jpg
END:VEVENT
BEGIN:VEVENT
DTSTART;TZID=America/New_York:20260630T180000
DTEND;TZID=America/New_York:20260630T200000
DTSTAMP:20260425T064410
CREATED:20250616T212242Z
LAST-MODIFIED:20250616T212310Z
UID:10025940-1782842400-1782849600@downtownwpb.com
SUMMARY:Motunui Sunset Sail
DESCRIPTION:Set sail into the stunning South Florida sunset aboard the brand-new\, luxuriously appointed catamaran Motunui. Enjoy a relaxing and unforgettable evening as you take in breathtaking views of the coastline\, all while sipping a refreshing drink and soaking in the beauty of the moment. Perfect for a serene escape! \nPlease note departure times can vary based on tides and currents. 
URL:https://www.visitpalmbeach.com/motunui-sunset-sail/
LOCATION:Visit Palm Beach\, 138 South Flagler Drive\, West Palm Beach\, FL\, 33401\, United States
CATEGORIES:Outdoors
ATTACH;FMTTYPE=image/jpeg:https://downtownwpb.com/wp-content/uploads/Motunui-Cruise.jpg
END:VEVENT
BEGIN:VEVENT
DTSTART;TZID=America/New_York:20260630T183000
DTEND;TZID=America/New_York:20260630T203000
DTSTAMP:20260425T064410
CREATED:20250616T210709Z
LAST-MODIFIED:20250616T210709Z
UID:10022287-1782844200-1782851400@downtownwpb.com
SUMMARY:Sunset Catamaran Cruise
DESCRIPTION:Unwind and enjoy a scenic evening aboard the Hakuna Matata\, as you cruise along the stunning Downtown West Palm Beach skyline. Take in breathtaking views of the magnificent palatial mansions and mega yachts of Palm Beach Island\, all while relaxing on the water. Perfect for an unforgettable evening of relaxation and luxury! \nPlease note departure times can vary based on tides and currents. 
URL:https://www.visitpalmbeach.com/cruises-boat-tours/sunset-cruise/
LOCATION:Visit Palm Beach\, 138 South Flagler Drive\, West Palm Beach\, FL\, 33401\, United States
CATEGORIES:Outdoors
ATTACH;FMTTYPE=image/jpeg:https://downtownwpb.com/wp-content/uploads/Sunset-Catamaran-Cruise.jpg
END:VEVENT
BEGIN:VEVENT
DTSTART;TZID=America/New_York:20260701T180000
DTEND;TZID=America/New_York:20260701T200000
DTSTAMP:20260425T064410
CREATED:20250616T212242Z
LAST-MODIFIED:20250616T212310Z
UID:10025941-1782928800-1782936000@downtownwpb.com
SUMMARY:Motunui Sunset Sail
DESCRIPTION:Set sail into the stunning South Florida sunset aboard the brand-new\, luxuriously appointed catamaran Motunui. Enjoy a relaxing and unforgettable evening as you take in breathtaking views of the coastline\, all while sipping a refreshing drink and soaking in the beauty of the moment. Perfect for a serene escape! \nPlease note departure times can vary based on tides and currents. 
URL:https://www.visitpalmbeach.com/motunui-sunset-sail/
LOCATION:Visit Palm Beach\, 138 South Flagler Drive\, West Palm Beach\, FL\, 33401\, United States
CATEGORIES:Outdoors
ATTACH;FMTTYPE=image/jpeg:https://downtownwpb.com/wp-content/uploads/Motunui-Cruise.jpg
END:VEVENT
BEGIN:VEVENT
DTSTART;TZID=America/New_York:20260701T180000
DTEND;TZID=America/New_York:20260701T200000
DTSTAMP:20260425T064410
CREATED:20251028T124438Z
LAST-MODIFIED:20260326T175109Z
UID:10045989-1782928800-1782936000@downtownwpb.com
SUMMARY:Celis Run Club
DESCRIPTION:Lace up and join the Celis Run Club at 6 p.m. for an invigorating 3-mile Flagler Run starting at Meyer Amphitheater at 104 Datura Street! All paces are welcome.\n\n\n\nVisit celisjuicebar.com/run-club for more information and the complete schedule. 
URL:https://celisjuicebar.com/run-club/
LOCATION:Meyer Amphitheatre\, 104 Datura Street\, West Palm Beach\, FL\, 33401\, United States
CATEGORIES:Outdoors
ATTACH;FMTTYPE=image/jpeg:https://downtownwpb.com/wp-content/uploads/Celis-Run-Club-meyer-4.jpg
END:VEVENT
BEGIN:VEVENT
DTSTART;TZID=America/New_York:20260701T183000
DTEND;TZID=America/New_York:20260701T203000
DTSTAMP:20260425T064410
CREATED:20250616T210709Z
LAST-MODIFIED:20250616T210709Z
UID:10022288-1782930600-1782937800@downtownwpb.com
SUMMARY:Sunset Catamaran Cruise
DESCRIPTION:Unwind and enjoy a scenic evening aboard the Hakuna Matata\, as you cruise along the stunning Downtown West Palm Beach skyline. Take in breathtaking views of the magnificent palatial mansions and mega yachts of Palm Beach Island\, all while relaxing on the water. Perfect for an unforgettable evening of relaxation and luxury! \nPlease note departure times can vary based on tides and currents. 
URL:https://www.visitpalmbeach.com/cruises-boat-tours/sunset-cruise/
LOCATION:Visit Palm Beach\, 138 South Flagler Drive\, West Palm Beach\, FL\, 33401\, United States
CATEGORIES:Outdoors
ATTACH;FMTTYPE=image/jpeg:https://downtownwpb.com/wp-content/uploads/Sunset-Catamaran-Cruise.jpg
END:VEVENT
BEGIN:VEVENT
DTSTART;TZID=America/New_York:20260702T180000
DTEND;TZID=America/New_York:20260702T200000
DTSTAMP:20260425T064410
CREATED:20250616T212242Z
LAST-MODIFIED:20250616T212310Z
UID:10025942-1783015200-1783022400@downtownwpb.com
SUMMARY:Motunui Sunset Sail
DESCRIPTION:Set sail into the stunning South Florida sunset aboard the brand-new\, luxuriously appointed catamaran Motunui. Enjoy a relaxing and unforgettable evening as you take in breathtaking views of the coastline\, all while sipping a refreshing drink and soaking in the beauty of the moment. Perfect for a serene escape! \nPlease note departure times can vary based on tides and currents. 
URL:https://www.visitpalmbeach.com/motunui-sunset-sail/
LOCATION:Visit Palm Beach\, 138 South Flagler Drive\, West Palm Beach\, FL\, 33401\, United States
CATEGORIES:Outdoors
ATTACH;FMTTYPE=image/jpeg:https://downtownwpb.com/wp-content/uploads/Motunui-Cruise.jpg
END:VEVENT
BEGIN:VEVENT
DTSTART;TZID=America/New_York:20260702T180000
DTEND;TZID=America/New_York:20260702T210000
DTSTAMP:20260425T064410
CREATED:20251025T211236Z
LAST-MODIFIED:20251025T211236Z
UID:10043165-1783015200-1783026000@downtownwpb.com
SUMMARY:Clematis By Night
DESCRIPTION:If you’re looking for live entertainment to add to your Thursday night itinerary\, look no further than Clematis by Night. Chilling out South Florida style at this highly popular\, award-winning weekly concert series has been a favorite West Palm Beach tradition for more than three decades. Grab your lawn chair or a blanket and head to one of the liveliest free Thursday nights in South Florida to check out our weekly lineup.
URL:https://www.wpb.org/Residents/Community-Events/Events/Clematis-by-Night
LOCATION:DowntownWPB Waterfront\, 141 S. Flagler Drive\, West Palm Beach\, FL\, 33401\, United States
CATEGORIES:Outdoors
ATTACH;FMTTYPE=image/jpeg:https://downtownwpb.com/wp-content/uploads/Clematis-By-Night-website.jpg
ORGANIZER;CN="City of West Palm Beach":MAILTO:events@wpb.org
END:VEVENT
BEGIN:VEVENT
DTSTART;TZID=America/New_York:20260702T183000
DTEND;TZID=America/New_York:20260702T203000
DTSTAMP:20260425T064410
CREATED:20250616T210709Z
LAST-MODIFIED:20250616T210709Z
UID:10022289-1783017000-1783024200@downtownwpb.com
SUMMARY:Sunset Catamaran Cruise
DESCRIPTION:Unwind and enjoy a scenic evening aboard the Hakuna Matata\, as you cruise along the stunning Downtown West Palm Beach skyline. Take in breathtaking views of the magnificent palatial mansions and mega yachts of Palm Beach Island\, all while relaxing on the water. Perfect for an unforgettable evening of relaxation and luxury! \nPlease note departure times can vary based on tides and currents. 
URL:https://www.visitpalmbeach.com/cruises-boat-tours/sunset-cruise/
LOCATION:Visit Palm Beach\, 138 South Flagler Drive\, West Palm Beach\, FL\, 33401\, United States
CATEGORIES:Outdoors
ATTACH;FMTTYPE=image/jpeg:https://downtownwpb.com/wp-content/uploads/Sunset-Catamaran-Cruise.jpg
END:VEVENT
BEGIN:VEVENT
DTSTART;TZID=America/New_York:20260703T173000
DTEND;TZID=America/New_York:20260703T213000
DTSTAMP:20260425T064410
CREATED:20250909T131315Z
LAST-MODIFIED:20250909T131315Z
UID:10041095-1783099800-1783114200@downtownwpb.com
SUMMARY:Que Bacano
DESCRIPTION:Get ready to heat up your First Fridays with a vibrant celebration of Latin dance and culture right in the heart of Downtown West Palm Beach! Each month brings a brand-new dance style to learn! From sizzling salsa to energetic merengue to sultry bachata – making every event a fresh experience. Enjoy live music by the sensational La Vie and dance the night away! 
URL:https://downtownwpb.com/explore/things-to-do/quebacano/
LOCATION:City Hall Courtyard\, 401 Clematis Street\, West Palm Beach\, FL\, 33401\, United States
CATEGORIES:Outdoors
ATTACH;FMTTYPE=image/jpeg:https://downtownwpb.com/wp-content/uploads/1N1A9558-scaled.jpg
ORGANIZER;CN="West Palm Beach Downtown Development Authority":MAILTO:tjames@downtownwpb.com
END:VEVENT
BEGIN:VEVENT
DTSTART;TZID=America/New_York:20260703T180000
DTEND;TZID=America/New_York:20260703T200000
DTSTAMP:20260425T064410
CREATED:20250616T212242Z
LAST-MODIFIED:20250616T212310Z
UID:10025943-1783101600-1783108800@downtownwpb.com
SUMMARY:Motunui Sunset Sail
DESCRIPTION:Set sail into the stunning South Florida sunset aboard the brand-new\, luxuriously appointed catamaran Motunui. Enjoy a relaxing and unforgettable evening as you take in breathtaking views of the coastline\, all while sipping a refreshing drink and soaking in the beauty of the moment. Perfect for a serene escape! \nPlease note departure times can vary based on tides and currents. 
URL:https://www.visitpalmbeach.com/motunui-sunset-sail/
LOCATION:Visit Palm Beach\, 138 South Flagler Drive\, West Palm Beach\, FL\, 33401\, United States
CATEGORIES:Outdoors
ATTACH;FMTTYPE=image/jpeg:https://downtownwpb.com/wp-content/uploads/Motunui-Cruise.jpg
END:VEVENT
END:VCALENDAR