BEGIN:VCALENDAR
VERSION:2.0
PRODID:-//West Palm Beach - ECPv6.15.5//NONSGML v1.0//EN
CALSCALE:GREGORIAN
METHOD:PUBLISH
X-ORIGINAL-URL:https://downtownwpb.com
X-WR-CALDESC:Events for West Palm Beach
REFRESH-INTERVAL;VALUE=DURATION:PT1H
X-Robots-Tag:noindex
X-PUBLISHED-TTL:PT1H
BEGIN:VTIMEZONE
TZID:America/New_York
BEGIN:DAYLIGHT
TZOFFSETFROM:-0500
TZOFFSETTO:-0400
TZNAME:EDT
DTSTART:20230312T070000
END:DAYLIGHT
BEGIN:STANDARD
TZOFFSETFROM:-0400
TZOFFSETTO:-0500
TZNAME:EST
DTSTART:20231105T060000
END:STANDARD
END:VTIMEZONE
BEGIN:VEVENT
DTSTART;TZID=America/New_York:20230504T160000
DTEND;TZID=America/New_York:20230504T183000
DTSTAMP:20260421T210627
CREATED:20230425T140629Z
LAST-MODIFIED:20230425T140629Z
UID:10013944-1683216000-1683225000@downtownwpb.com
SUMMARY:Prohibition Dinner & Drinks Tour
DESCRIPTION:Your spirited local guide will share the lowdown on the DowntownWPB food and drink scene\, and you’ll be shaken\, not stirred\, by tales of our Prohibition past! \nLearn how South Florida played a big role in keeping Americans supplied with illegal booze in this era of rumrunners\, secret passageways\, rebellion and scandal. \nClick Here for more information and to reserve your spot!
URL:https://downtownwpb.com/event/prohibition-dinner-drinks-tour/2023-05-04/
LOCATION:FL
CATEGORIES:Outdoors
ATTACH;FMTTYPE=image/jpeg:https://downtownwpb.com/wp-content/uploads/handsome-bartender-making-drinking-cocktails-counter-scaled.jpg
END:VEVENT
BEGIN:VEVENT
DTSTART;TZID=America/New_York:20230505T023000
DTEND;TZID=America/New_York:20230505T033000
DTSTAMP:20260421T210627
CREATED:20220817T225604Z
LAST-MODIFIED:20220817T225604Z
UID:10012355-1683253800-1683257400@downtownwpb.com
SUMMARY:Sunrise Yoga At The Ben
DESCRIPTION:Start your day with a magical vinyasa flow on the rooftop every Friday and Sunday at 6:30 a.m. \nClass is complimentary to hotel guests and open to the public for a suggested donation of $10 to the instructor. Street parking\, garage parking and valet are available. \nFor more information\, call (561)-655-4001. \n 
URL:https://downtownwpb.com/event/sunrise-yoga-at-the-ben/2023-05-05/
LOCATION:The Ben Autograph Collection Hotel\, 251 N. Narcissus Avenue\, West Palm Beach\, FL\, 33410\, United States
CATEGORIES:Outdoors
ATTACH;FMTTYPE=image/jpeg:https://downtownwpb.com/wp-content/uploads/Sunrise-Yoga-At-The-Ben.jpg
END:VEVENT
BEGIN:VEVENT
DTSTART;TZID=America/New_York:20230505T063000
DTEND;TZID=America/New_York:20230505T073000
DTSTAMP:20260421T210627
CREATED:20220912T223941Z
LAST-MODIFIED:20230112T174505Z
UID:10012672-1683268200-1683271800@downtownwpb.com
SUMMARY:Rooftop Yoga At The Ben
DESCRIPTION:Join us on the rooftop of The Ben\, Autograph Collection every Friday and Sunday at 6:30 a.m. for a magical sunrise vinyasa flow. \nThe class is FREE to hotel guests and open to the public for a suggested $15 donation to your instructor. Walk-ins are welcome. \nFor more information\, call (561) 655-4001.
URL:https://downtownwpb.com/event/rooftop-yoga-at-the-ben/2023-05-05/
LOCATION:The Ben Autograph Collection Hotel\, 251 N. Narcissus Avenue\, West Palm Beach\, FL\, 33410\, United States
CATEGORIES:Outdoors
ATTACH;FMTTYPE=image/jpeg:https://downtownwpb.com/wp-content/uploads/Screenshot_20211110-165701_Instagram.jpg
END:VEVENT
BEGIN:VEVENT
DTSTART;TZID=America/New_York:20230505T160000
DTEND;TZID=America/New_York:20230505T220000
DTSTAMP:20260421T210627
CREATED:20230307T191609Z
LAST-MODIFIED:20230307T191609Z
UID:10013189-1683302400-1683324000@downtownwpb.com
SUMMARY:West Palm Beach Official Cinco De Mayo Bar Crawl
DESCRIPTION:Get ready for the West Palm Beach Official Cinco De Mayo Bar Crawl! \nOn Friday\, May 5\, enjoy FREE entry to the best venues in DowntownWPB\, live music\, drink specials\, costume contests and more! \nClick Here for more information and to register.
URL:https://downtownwpb.com/event/west-palm-beach-official-cinco-de-mayo-bar-crawl/2023-05-05/
LOCATION:FL
CATEGORIES:Indoors,Outdoors
ATTACH;FMTTYPE=image/jpeg:https://downtownwpb.com/wp-content/uploads/cinco-de-mayo-web-header.jpg
END:VEVENT
BEGIN:VEVENT
DTSTART;TZID=America/New_York:20230505T170000
DTEND;TZID=America/New_York:20230505T230000
DTSTAMP:20260421T210627
CREATED:20230223T171429Z
LAST-MODIFIED:20230421T204416Z
UID:10013898-1683306000-1683327600@downtownwpb.com
SUMMARY:SunFest 2023
DESCRIPTION:Get ready for SunFest 2023\, Florida’s favorite waterfront music festival! \nFor nearly 40 years\, this springtime soundtrack set along the historic\, palm-lined West Palm Beach waterfront hasn’t missed a beat with its variety of performers and more-than-just-music offerings for sunseekers to reunite with friends. \n 
URL:https://downtownwpb.com/SunFest/#new_tab
LOCATION:FL
CATEGORIES:Outdoors
ATTACH;FMTTYPE=image/jpeg:https://downtownwpb.com/wp-content/uploads/SunFest-Photo-5-scaled.jpg
END:VEVENT
BEGIN:VEVENT
DTSTART;TZID=America/New_York:20230506T120000
DTEND;TZID=America/New_York:20230506T230000
DTSTAMP:20260421T210627
CREATED:20230223T171429Z
LAST-MODIFIED:20230421T204416Z
UID:10013899-1683374400-1683414000@downtownwpb.com
SUMMARY:SunFest 2023
DESCRIPTION:Get ready for SunFest 2023\, Florida’s favorite waterfront music festival! \nFor nearly 40 years\, this springtime soundtrack set along the historic\, palm-lined West Palm Beach waterfront hasn’t missed a beat with its variety of performers and more-than-just-music offerings for sunseekers to reunite with friends. \n 
URL:https://downtownwpb.com/SunFest/#new_tab
LOCATION:FL
CATEGORIES:Outdoors
ATTACH;FMTTYPE=image/jpeg:https://downtownwpb.com/wp-content/uploads/SunFest-Photo-5-scaled.jpg
END:VEVENT
BEGIN:VEVENT
DTSTART;TZID=America/New_York:20230506T160000
DTEND;TZID=America/New_York:20230506T220000
DTSTAMP:20260421T210627
CREATED:20230307T191609Z
LAST-MODIFIED:20230307T191609Z
UID:10013190-1683388800-1683410400@downtownwpb.com
SUMMARY:West Palm Beach Official Cinco De Mayo Bar Crawl
DESCRIPTION:Get ready for the West Palm Beach Official Cinco De Mayo Bar Crawl! \nOn Friday\, May 5\, enjoy FREE entry to the best venues in DowntownWPB\, live music\, drink specials\, costume contests and more! \nClick Here for more information and to register.
URL:https://downtownwpb.com/event/west-palm-beach-official-cinco-de-mayo-bar-crawl/2023-05-06/
LOCATION:FL
CATEGORIES:Indoors,Outdoors
ATTACH;FMTTYPE=image/jpeg:https://downtownwpb.com/wp-content/uploads/cinco-de-mayo-web-header.jpg
END:VEVENT
BEGIN:VEVENT
DTSTART;TZID=America/New_York:20230507T023000
DTEND;TZID=America/New_York:20230507T033000
DTSTAMP:20260421T210627
CREATED:20220817T225604Z
LAST-MODIFIED:20220817T225604Z
UID:10012356-1683426600-1683430200@downtownwpb.com
SUMMARY:Sunrise Yoga At The Ben
DESCRIPTION:Start your day with a magical vinyasa flow on the rooftop every Friday and Sunday at 6:30 a.m. \nClass is complimentary to hotel guests and open to the public for a suggested donation of $10 to the instructor. Street parking\, garage parking and valet are available. \nFor more information\, call (561)-655-4001. \n 
URL:https://downtownwpb.com/event/sunrise-yoga-at-the-ben/2023-05-07/
LOCATION:The Ben Autograph Collection Hotel\, 251 N. Narcissus Avenue\, West Palm Beach\, FL\, 33410\, United States
CATEGORIES:Outdoors
ATTACH;FMTTYPE=image/jpeg:https://downtownwpb.com/wp-content/uploads/Sunrise-Yoga-At-The-Ben.jpg
END:VEVENT
BEGIN:VEVENT
DTSTART;TZID=America/New_York:20230507T063000
DTEND;TZID=America/New_York:20230507T073000
DTSTAMP:20260421T210627
CREATED:20220912T223941Z
LAST-MODIFIED:20230112T174505Z
UID:10012673-1683441000-1683444600@downtownwpb.com
SUMMARY:Rooftop Yoga At The Ben
DESCRIPTION:Join us on the rooftop of The Ben\, Autograph Collection every Friday and Sunday at 6:30 a.m. for a magical sunrise vinyasa flow. \nThe class is FREE to hotel guests and open to the public for a suggested $15 donation to your instructor. Walk-ins are welcome. \nFor more information\, call (561) 655-4001.
URL:https://downtownwpb.com/event/rooftop-yoga-at-the-ben/2023-05-07/
LOCATION:The Ben Autograph Collection Hotel\, 251 N. Narcissus Avenue\, West Palm Beach\, FL\, 33410\, United States
CATEGORIES:Outdoors
ATTACH;FMTTYPE=image/jpeg:https://downtownwpb.com/wp-content/uploads/Screenshot_20211110-165701_Instagram.jpg
END:VEVENT
BEGIN:VEVENT
DTSTART;TZID=America/New_York:20230507T093000
DTEND;TZID=America/New_York:20230507T103000
DTSTAMP:20260421T210627
CREATED:20221231T045455Z
LAST-MODIFIED:20230112T171220Z
UID:10012833-1683451800-1683455400@downtownwpb.com
SUMMARY:Sunday Yoga
DESCRIPTION:Start your Sundays with a Power Vinyasa Flow at 9:30 a.m. at Temanatu A Nakamal Tea Room\, located at 330 Clematis Street\, Unit 102! \nThe event costs $15 and includes one shell or one small tea.
URL:https://downtownwpb.com/event/sunday-yoga/2023-05-07/
LOCATION:Temanatu A Nakamal Tea Room\, 330 Clematis Street Unit 102\, West Palm Beach\, FL\, 33401\, United States
CATEGORIES:Outdoors
ATTACH;FMTTYPE=image/jpeg:https://downtownwpb.com/wp-content/uploads/Sunday-Yoga-at-Temanatu.jpg
END:VEVENT
BEGIN:VEVENT
DTSTART;TZID=America/New_York:20230507T120000
DTEND;TZID=America/New_York:20230507T220000
DTSTAMP:20260421T210627
CREATED:20230223T171429Z
LAST-MODIFIED:20230421T204416Z
UID:10013900-1683460800-1683496800@downtownwpb.com
SUMMARY:SunFest 2023
DESCRIPTION:Get ready for SunFest 2023\, Florida’s favorite waterfront music festival! \nFor nearly 40 years\, this springtime soundtrack set along the historic\, palm-lined West Palm Beach waterfront hasn’t missed a beat with its variety of performers and more-than-just-music offerings for sunseekers to reunite with friends. \n 
URL:https://downtownwpb.com/SunFest/#new_tab
LOCATION:FL
CATEGORIES:Outdoors
ATTACH;FMTTYPE=image/jpeg:https://downtownwpb.com/wp-content/uploads/SunFest-Photo-5-scaled.jpg
END:VEVENT
BEGIN:VEVENT
DTSTART;TZID=America/New_York:20230509T080000
DTEND;TZID=America/New_York:20230509T170000
DTSTAMP:20260421T210627
CREATED:20230509T204444Z
LAST-MODIFIED:20230509T204444Z
UID:10014175-1683619200-1683651600@downtownwpb.com
SUMMARY:Memorial Day Weekend Pool Party
DESCRIPTION:Head to the highest rooftop in Downtown West Palm Beach and enjoy music\, delicious cocktails and tasty bites to enjoy poolside all weekend long! \n\nMay 27 Pool Party : $25\nMay 28 Pool Party: $25\nBoth Dates (May 27 & 28): $30\n\nClick Here for more information and to purchase tickets. \n 
URL:https://downtownwpb.com/event/memorial-day-weekend-pool-party/
LOCATION:Treehouse Rooftop Bar\, 380 Trinity Place\, West Palm Beach\, FL\, 33410\, United States
CATEGORIES:Outdoors
ATTACH;FMTTYPE=image/jpeg:https://downtownwpb.com/wp-content/uploads/Memorial-Day-Weekend-Pool-Party-Treehouse.jpg
END:VEVENT
BEGIN:VEVENT
DTSTART;TZID=America/New_York:20230510T173000
DTEND;TZID=America/New_York:20230510T203000
DTSTAMP:20260421T210627
CREATED:20230219T224134Z
LAST-MODIFIED:20231212T182115Z
UID:10013883-1683739800-1683750600@downtownwpb.com
SUMMARY:Let's Vibe!
DESCRIPTION:How well do you know Downtown West Palm Beach? Explore various pockets of our community while engaging with our residents\, merchants\, and staff.   \nShare some laughs\, try a new bite\, and get creative!
URL:https://downtownwpb.com/letsvibe/
LOCATION:FL
CATEGORIES:Outdoors
ATTACH;FMTTYPE=image/jpeg:https://downtownwpb.com/wp-content/uploads/DDA-Lets-Vibe-2023-Web-Assets_900x450-1.jpg
ORGANIZER;CN="West Palm Beach Downtown Development Authority":MAILTO:tjames@downtownwpb.com
END:VEVENT
BEGIN:VEVENT
DTSTART;TZID=America/New_York:20230511T160000
DTEND;TZID=America/New_York:20230511T183000
DTSTAMP:20260421T210627
CREATED:20230425T140629Z
LAST-MODIFIED:20230425T140629Z
UID:10013945-1683820800-1683829800@downtownwpb.com
SUMMARY:Prohibition Dinner & Drinks Tour
DESCRIPTION:Your spirited local guide will share the lowdown on the DowntownWPB food and drink scene\, and you’ll be shaken\, not stirred\, by tales of our Prohibition past! \nLearn how South Florida played a big role in keeping Americans supplied with illegal booze in this era of rumrunners\, secret passageways\, rebellion and scandal. \nClick Here for more information and to reserve your spot!
URL:https://downtownwpb.com/event/prohibition-dinner-drinks-tour/2023-05-11/
LOCATION:FL
CATEGORIES:Outdoors
ATTACH;FMTTYPE=image/jpeg:https://downtownwpb.com/wp-content/uploads/handsome-bartender-making-drinking-cocktails-counter-scaled.jpg
END:VEVENT
BEGIN:VEVENT
DTSTART;TZID=America/New_York:20230511T180000
DTEND;TZID=America/New_York:20230511T210000
DTSTAMP:20260421T210627
CREATED:20230403T160608Z
LAST-MODIFIED:20230403T160608Z
UID:10013915-1683828000-1683838800@downtownwpb.com
SUMMARY:Clematis by Night: 56 Ace
DESCRIPTION:This highly popular\, award-winning weekly concert series is the place to be for great music\, mouth-watering foods\, and great times with family and friends. \n56 Ace is an energetic entertainment band that has performed at the Perfect Vodka Amphitheater as well as casinos\, festivals\, and most of the finer venues in South Florida. \nVisit WPB.org for more information.
URL:https://downtownwpb.com/event/clematis-by-night-56-ace/
LOCATION:Waterfront Commons\, 101 N. Clematis Street\, West Palm Beach\, FL\, 33410\, United States
CATEGORIES:Outdoors
ATTACH;FMTTYPE=image/jpeg:https://downtownwpb.com/wp-content/uploads/56-Ace-CBN.jpg
END:VEVENT
BEGIN:VEVENT
DTSTART;TZID=America/New_York:20230512T023000
DTEND;TZID=America/New_York:20230512T033000
DTSTAMP:20260421T210627
CREATED:20220817T225604Z
LAST-MODIFIED:20220817T225604Z
UID:10012357-1683858600-1683862200@downtownwpb.com
SUMMARY:Sunrise Yoga At The Ben
DESCRIPTION:Start your day with a magical vinyasa flow on the rooftop every Friday and Sunday at 6:30 a.m. \nClass is complimentary to hotel guests and open to the public for a suggested donation of $10 to the instructor. Street parking\, garage parking and valet are available. \nFor more information\, call (561)-655-4001. \n 
URL:https://downtownwpb.com/event/sunrise-yoga-at-the-ben/2023-05-12/
LOCATION:The Ben Autograph Collection Hotel\, 251 N. Narcissus Avenue\, West Palm Beach\, FL\, 33410\, United States
CATEGORIES:Outdoors
ATTACH;FMTTYPE=image/jpeg:https://downtownwpb.com/wp-content/uploads/Sunrise-Yoga-At-The-Ben.jpg
END:VEVENT
BEGIN:VEVENT
DTSTART;TZID=America/New_York:20230512T063000
DTEND;TZID=America/New_York:20230512T073000
DTSTAMP:20260421T210627
CREATED:20220912T223941Z
LAST-MODIFIED:20230112T174505Z
UID:10012674-1683873000-1683876600@downtownwpb.com
SUMMARY:Rooftop Yoga At The Ben
DESCRIPTION:Join us on the rooftop of The Ben\, Autograph Collection every Friday and Sunday at 6:30 a.m. for a magical sunrise vinyasa flow. \nThe class is FREE to hotel guests and open to the public for a suggested $15 donation to your instructor. Walk-ins are welcome. \nFor more information\, call (561) 655-4001.
URL:https://downtownwpb.com/event/rooftop-yoga-at-the-ben/2023-05-12/
LOCATION:The Ben Autograph Collection Hotel\, 251 N. Narcissus Avenue\, West Palm Beach\, FL\, 33410\, United States
CATEGORIES:Outdoors
ATTACH;FMTTYPE=image/jpeg:https://downtownwpb.com/wp-content/uploads/Screenshot_20211110-165701_Instagram.jpg
END:VEVENT
BEGIN:VEVENT
DTSTART;TZID=America/New_York:20230512T183000
DTEND;TZID=America/New_York:20230512T210000
DTSTAMP:20260421T210627
CREATED:20230131T212734Z
LAST-MODIFIED:20230505T181011Z
UID:10013794-1683916200-1683925200@downtownwpb.com
SUMMARY:Screen on the Green: Jurassic World Dominion
DESCRIPTION:Join us on the second Friday every month for FREE family-friendly activities and movies in an open-air theater we’ve set up just for our “Screen on the Green” series. \nAfter surviving the destruction of Isla Nubla\, Owen Grady and Claire Dearing took in young Maisie Lockwood. They’ve been living under the radar to protect Maisie\, but she feels like a prisoner. When Maisie goes missing\, Owen and Claire set out to find her\, and eventually confront Lewis Dodgson\, owner of Biosyn. Paleobotanist Ellie Sattler\, Paleontologist Alan Grant\, and Chaotician Ian Malcolm set out to expose Dodgson’s schemes. \nClick Here to watch the official trailer.
URL:https://downtownwpb.com/event/screen-on-the-green-jurassic-world-dominion/
LOCATION:Waterfront Commons\, 101 N. Clematis Street\, West Palm Beach\, FL\, 33410\, United States
CATEGORIES:Outdoors
ATTACH;FMTTYPE=image/jpeg:https://downtownwpb.com/wp-content/uploads/Screen-on-the-Green-1-scaled.jpg
ORGANIZER;CN="City of West Palm Beach":MAILTO:events@wpb.org
END:VEVENT
BEGIN:VEVENT
DTSTART;TZID=America/New_York:20230514T023000
DTEND;TZID=America/New_York:20230514T033000
DTSTAMP:20260421T210627
CREATED:20220817T225604Z
LAST-MODIFIED:20220817T225604Z
UID:10012358-1684031400-1684035000@downtownwpb.com
SUMMARY:Sunrise Yoga At The Ben
DESCRIPTION:Start your day with a magical vinyasa flow on the rooftop every Friday and Sunday at 6:30 a.m. \nClass is complimentary to hotel guests and open to the public for a suggested donation of $10 to the instructor. Street parking\, garage parking and valet are available. \nFor more information\, call (561)-655-4001. \n 
URL:https://downtownwpb.com/event/sunrise-yoga-at-the-ben/2023-05-14/
LOCATION:The Ben Autograph Collection Hotel\, 251 N. Narcissus Avenue\, West Palm Beach\, FL\, 33410\, United States
CATEGORIES:Outdoors
ATTACH;FMTTYPE=image/jpeg:https://downtownwpb.com/wp-content/uploads/Sunrise-Yoga-At-The-Ben.jpg
END:VEVENT
BEGIN:VEVENT
DTSTART;TZID=America/New_York:20230514T063000
DTEND;TZID=America/New_York:20230514T073000
DTSTAMP:20260421T210627
CREATED:20220912T223941Z
LAST-MODIFIED:20230112T174505Z
UID:10012675-1684045800-1684049400@downtownwpb.com
SUMMARY:Rooftop Yoga At The Ben
DESCRIPTION:Join us on the rooftop of The Ben\, Autograph Collection every Friday and Sunday at 6:30 a.m. for a magical sunrise vinyasa flow. \nThe class is FREE to hotel guests and open to the public for a suggested $15 donation to your instructor. Walk-ins are welcome. \nFor more information\, call (561) 655-4001.
URL:https://downtownwpb.com/event/rooftop-yoga-at-the-ben/2023-05-14/
LOCATION:The Ben Autograph Collection Hotel\, 251 N. Narcissus Avenue\, West Palm Beach\, FL\, 33410\, United States
CATEGORIES:Outdoors
ATTACH;FMTTYPE=image/jpeg:https://downtownwpb.com/wp-content/uploads/Screenshot_20211110-165701_Instagram.jpg
END:VEVENT
BEGIN:VEVENT
DTSTART;TZID=America/New_York:20230514T093000
DTEND;TZID=America/New_York:20230514T103000
DTSTAMP:20260421T210627
CREATED:20221231T045455Z
LAST-MODIFIED:20230112T171220Z
UID:10012834-1684056600-1684060200@downtownwpb.com
SUMMARY:Sunday Yoga
DESCRIPTION:Start your Sundays with a Power Vinyasa Flow at 9:30 a.m. at Temanatu A Nakamal Tea Room\, located at 330 Clematis Street\, Unit 102! \nThe event costs $15 and includes one shell or one small tea.
URL:https://downtownwpb.com/event/sunday-yoga/2023-05-14/
LOCATION:Temanatu A Nakamal Tea Room\, 330 Clematis Street Unit 102\, West Palm Beach\, FL\, 33401\, United States
CATEGORIES:Outdoors
ATTACH;FMTTYPE=image/jpeg:https://downtownwpb.com/wp-content/uploads/Sunday-Yoga-at-Temanatu.jpg
END:VEVENT
BEGIN:VEVENT
DTSTART;TZID=America/New_York:20230518T160000
DTEND;TZID=America/New_York:20230518T183000
DTSTAMP:20260421T210627
CREATED:20230425T140629Z
LAST-MODIFIED:20230425T140629Z
UID:10013946-1684425600-1684434600@downtownwpb.com
SUMMARY:Prohibition Dinner & Drinks Tour
DESCRIPTION:Your spirited local guide will share the lowdown on the DowntownWPB food and drink scene\, and you’ll be shaken\, not stirred\, by tales of our Prohibition past! \nLearn how South Florida played a big role in keeping Americans supplied with illegal booze in this era of rumrunners\, secret passageways\, rebellion and scandal. \nClick Here for more information and to reserve your spot!
URL:https://downtownwpb.com/event/prohibition-dinner-drinks-tour/2023-05-18/
LOCATION:FL
CATEGORIES:Outdoors
ATTACH;FMTTYPE=image/jpeg:https://downtownwpb.com/wp-content/uploads/handsome-bartender-making-drinking-cocktails-counter-scaled.jpg
END:VEVENT
BEGIN:VEVENT
DTSTART;TZID=America/New_York:20230518T180000
DTEND;TZID=America/New_York:20230518T210000
DTSTAMP:20260421T210627
CREATED:20230403T170756Z
LAST-MODIFIED:20230403T170756Z
UID:10013916-1684432800-1684443600@downtownwpb.com
SUMMARY:Clematis by Night: Joey Calderaio Band
DESCRIPTION:This highly popular\, award-winning weekly concert series is the place to be for great music\, mouth-watering foods\, and great times with family and friends. \nSouth Florida based musician Joey Calderaio continues his rise to the top of the American Reggae scene with an outstanding assortment of releases\, collaborations\, and live performances. Joey is also well-known for creating one-man band-style videos\, playing multiple instruments\, and singing covers of fan-favorite jams. \nVisit WPB.org for more information.
URL:https://downtownwpb.com/event/clematis-by-night-joey-calderaio-band/
LOCATION:Waterfront Commons\, 101 N. Clematis Street\, West Palm Beach\, FL\, 33410\, United States
CATEGORIES:Outdoors
ATTACH;FMTTYPE=image/png:https://downtownwpb.com/wp-content/uploads/Joey-Calderaio-Band-CBN.png
END:VEVENT
BEGIN:VEVENT
DTSTART;TZID=America/New_York:20230519T023000
DTEND;TZID=America/New_York:20230519T033000
DTSTAMP:20260421T210627
CREATED:20220817T225604Z
LAST-MODIFIED:20220817T225604Z
UID:10012359-1684463400-1684467000@downtownwpb.com
SUMMARY:Sunrise Yoga At The Ben
DESCRIPTION:Start your day with a magical vinyasa flow on the rooftop every Friday and Sunday at 6:30 a.m. \nClass is complimentary to hotel guests and open to the public for a suggested donation of $10 to the instructor. Street parking\, garage parking and valet are available. \nFor more information\, call (561)-655-4001. \n 
URL:https://downtownwpb.com/event/sunrise-yoga-at-the-ben/2023-05-19/
LOCATION:The Ben Autograph Collection Hotel\, 251 N. Narcissus Avenue\, West Palm Beach\, FL\, 33410\, United States
CATEGORIES:Outdoors
ATTACH;FMTTYPE=image/jpeg:https://downtownwpb.com/wp-content/uploads/Sunrise-Yoga-At-The-Ben.jpg
END:VEVENT
BEGIN:VEVENT
DTSTART;TZID=America/New_York:20230519T063000
DTEND;TZID=America/New_York:20230519T073000
DTSTAMP:20260421T210627
CREATED:20220912T223941Z
LAST-MODIFIED:20230112T174505Z
UID:10012676-1684477800-1684481400@downtownwpb.com
SUMMARY:Rooftop Yoga At The Ben
DESCRIPTION:Join us on the rooftop of The Ben\, Autograph Collection every Friday and Sunday at 6:30 a.m. for a magical sunrise vinyasa flow. \nThe class is FREE to hotel guests and open to the public for a suggested $15 donation to your instructor. Walk-ins are welcome. \nFor more information\, call (561) 655-4001.
URL:https://downtownwpb.com/event/rooftop-yoga-at-the-ben/2023-05-19/
LOCATION:The Ben Autograph Collection Hotel\, 251 N. Narcissus Avenue\, West Palm Beach\, FL\, 33410\, United States
CATEGORIES:Outdoors
ATTACH;FMTTYPE=image/jpeg:https://downtownwpb.com/wp-content/uploads/Screenshot_20211110-165701_Instagram.jpg
END:VEVENT
BEGIN:VEVENT
DTSTART;TZID=America/New_York:20230521T023000
DTEND;TZID=America/New_York:20230521T033000
DTSTAMP:20260421T210627
CREATED:20220817T225604Z
LAST-MODIFIED:20220817T225604Z
UID:10012360-1684636200-1684639800@downtownwpb.com
SUMMARY:Sunrise Yoga At The Ben
DESCRIPTION:Start your day with a magical vinyasa flow on the rooftop every Friday and Sunday at 6:30 a.m. \nClass is complimentary to hotel guests and open to the public for a suggested donation of $10 to the instructor. Street parking\, garage parking and valet are available. \nFor more information\, call (561)-655-4001. \n 
URL:https://downtownwpb.com/event/sunrise-yoga-at-the-ben/2023-05-21/
LOCATION:The Ben Autograph Collection Hotel\, 251 N. Narcissus Avenue\, West Palm Beach\, FL\, 33410\, United States
CATEGORIES:Outdoors
ATTACH;FMTTYPE=image/jpeg:https://downtownwpb.com/wp-content/uploads/Sunrise-Yoga-At-The-Ben.jpg
END:VEVENT
BEGIN:VEVENT
DTSTART;TZID=America/New_York:20230521T063000
DTEND;TZID=America/New_York:20230521T073000
DTSTAMP:20260421T210627
CREATED:20220912T223941Z
LAST-MODIFIED:20230112T174505Z
UID:10012677-1684650600-1684654200@downtownwpb.com
SUMMARY:Rooftop Yoga At The Ben
DESCRIPTION:Join us on the rooftop of The Ben\, Autograph Collection every Friday and Sunday at 6:30 a.m. for a magical sunrise vinyasa flow. \nThe class is FREE to hotel guests and open to the public for a suggested $15 donation to your instructor. Walk-ins are welcome. \nFor more information\, call (561) 655-4001.
URL:https://downtownwpb.com/event/rooftop-yoga-at-the-ben/2023-05-21/
LOCATION:The Ben Autograph Collection Hotel\, 251 N. Narcissus Avenue\, West Palm Beach\, FL\, 33410\, United States
CATEGORIES:Outdoors
ATTACH;FMTTYPE=image/jpeg:https://downtownwpb.com/wp-content/uploads/Screenshot_20211110-165701_Instagram.jpg
END:VEVENT
BEGIN:VEVENT
DTSTART;TZID=America/New_York:20230521T093000
DTEND;TZID=America/New_York:20230521T103000
DTSTAMP:20260421T210627
CREATED:20221231T045455Z
LAST-MODIFIED:20230112T171220Z
UID:10012835-1684661400-1684665000@downtownwpb.com
SUMMARY:Sunday Yoga
DESCRIPTION:Start your Sundays with a Power Vinyasa Flow at 9:30 a.m. at Temanatu A Nakamal Tea Room\, located at 330 Clematis Street\, Unit 102! \nThe event costs $15 and includes one shell or one small tea.
URL:https://downtownwpb.com/event/sunday-yoga/2023-05-21/
LOCATION:Temanatu A Nakamal Tea Room\, 330 Clematis Street Unit 102\, West Palm Beach\, FL\, 33401\, United States
CATEGORIES:Outdoors
ATTACH;FMTTYPE=image/jpeg:https://downtownwpb.com/wp-content/uploads/Sunday-Yoga-at-Temanatu.jpg
END:VEVENT
BEGIN:VEVENT
DTSTART;TZID=America/New_York:20230521T160000
DTEND;TZID=America/New_York:20230521T190000
DTSTAMP:20260421T210627
CREATED:20230403T182834Z
LAST-MODIFIED:20230403T182834Z
UID:10013920-1684684800-1684695600@downtownwpb.com
SUMMARY:Sunday on the Waterfront: Actual Bank Robbers
DESCRIPTION:Sunday on the Waterfront is the coolest scene in downtown West Palm Beach. This FREE family-friendly concert series is held year round on the 3rd Sunday of each month\, and features a variety of national and regional recording artists. \nActual Bank Robbers is a 5-piece pop rock cover band based out of Tampa\, Florida. Comprised of musicians who all met while working at a theme park\, the band’s care-free\, super fun and diverse Top 40 show has become a favorite among Tampa audiences. \nVisit WPB.org for more information.
URL:https://downtownwpb.com/event/sunday-on-the-waterfront-actual-bank-robbers/
LOCATION:Meyer Amphitheatre\, 104 Datura Street\, West Palm Beach\, FL\, 33401\, United States
CATEGORIES:Outdoors
ATTACH;FMTTYPE=image/jpeg:https://downtownwpb.com/wp-content/uploads/Actual-Bank-Robbers-Sunday-on-the-Waterfront.jpg
END:VEVENT
BEGIN:VEVENT
DTSTART;TZID=America/New_York:20230524T173000
DTEND;TZID=America/New_York:20230524T203000
DTSTAMP:20260421T210627
CREATED:20230523T132337Z
LAST-MODIFIED:20230523T132337Z
UID:10013272-1684949400-1684960200@downtownwpb.com
SUMMARY:Celebrating 15 Years of Pistache
DESCRIPTION:Pistache French Bistro is celebrating its 15th anniversary on Wednesday\, May 25 by welcoming back the chefs who laid the foundation for the beloved French bistro’s legacy. Starting at 5:30 p.m.\, enjoy Chef Dinner specials and music by DJ Adam Lipson. \nVisit PistacheWPB.com to make your reservation. \n 
URL:https://downtownwpb.com/event/celebrating-15-years-of-pistache/
LOCATION:Pistache French Bistro\, 101 N. Clematis Street\, West Palm Beach\, FL\, 33401\, United States
CATEGORIES:Indoors,Outdoors
ATTACH;FMTTYPE=image/jpeg:https://downtownwpb.com/wp-content/uploads/Pistache-15th-Anniversary.jpg
END:VEVENT
END:VCALENDAR