BEGIN:VCALENDAR
VERSION:2.0
PRODID:-//West Palm Beach - ECPv6.15.5//NONSGML v1.0//EN
CALSCALE:GREGORIAN
METHOD:PUBLISH
X-ORIGINAL-URL:https://downtownwpb.com
X-WR-CALDESC:Events for West Palm Beach
REFRESH-INTERVAL;VALUE=DURATION:PT1H
X-Robots-Tag:noindex
X-PUBLISHED-TTL:PT1H
BEGIN:VTIMEZONE
TZID:America/New_York
BEGIN:DAYLIGHT
TZOFFSETFROM:-0500
TZOFFSETTO:-0400
TZNAME:EDT
DTSTART:20260308T070000
END:DAYLIGHT
BEGIN:STANDARD
TZOFFSETFROM:-0400
TZOFFSETTO:-0500
TZNAME:EST
DTSTART:20261101T060000
END:STANDARD
END:VTIMEZONE
BEGIN:VEVENT
DTSTART;TZID=America/New_York:20260612T190000
DTEND;TZID=America/New_York:20260612T213000
DTSTAMP:20260421T131142
CREATED:20250710T124120Z
LAST-MODIFIED:20250710T124120Z
UID:10040225-1781290800-1781299800@downtownwpb.com
SUMMARY:Karaoke Night at Duffy's
DESCRIPTION:Kick off your weekend with some fun and show off your vocal skills at Duffy’s of Clematis every Friday night at 7 p.m. Enjoy a lively atmosphere and join in on the karaoke fun with your friends. \nVisit DuffysMVP.com for more information or call (561) 249-1682.
URL:https://downtownwpb.com/event/karaoke-night-at-duffys/2026-06-12/
LOCATION:Duffy’s Sports Grill\, 225 Clematis Street\, West Palm Beach\, FL\, 33401\, United States
CATEGORIES:Indoors
ATTACH;FMTTYPE=image/jpeg:https://downtownwpb.com/wp-content/uploads/close-up-microphone-concert-stage-with-beautiful-lighting-scaled.jpg
END:VEVENT
BEGIN:VEVENT
DTSTART;TZID=America/New_York:20260616T083000
DTEND;TZID=America/New_York:20260616T103000
DTSTAMP:20260421T131142
CREATED:20250710T191520Z
LAST-MODIFIED:20251001T132014Z
UID:10016837-1781598600-1781605800@downtownwpb.com
SUMMARY:DDA Board Meeting
DESCRIPTION:DDA Board Meetings are held on the 3rd Tuesday of each month at 8:30 a.m. \nMeeting agendas and materials are posted prior to each meeting.
URL:https://downtownwpb.com/event/dda-board-meeting-3/2026-06-16/
LOCATION:West Palm Beach Downtown Development Authority\, 107 S. Olive Avenue #200\, West Palm Beach\, FL\, 33401\, United States
CATEGORIES:Indoors
ATTACH;FMTTYPE=image/jpeg:https://downtownwpb.com/wp-content/uploads/DDA-1.jpg
ORGANIZER;CN="West Palm Beach Downtown Development Authority":MAILTO:tjames@downtownwpb.com
END:VEVENT
BEGIN:VEVENT
DTSTART;TZID=America/New_York:20260619T190000
DTEND;TZID=America/New_York:20260619T213000
DTSTAMP:20260421T131142
CREATED:20250710T124120Z
LAST-MODIFIED:20250710T124120Z
UID:10040226-1781895600-1781904600@downtownwpb.com
SUMMARY:Karaoke Night at Duffy's
DESCRIPTION:Kick off your weekend with some fun and show off your vocal skills at Duffy’s of Clematis every Friday night at 7 p.m. Enjoy a lively atmosphere and join in on the karaoke fun with your friends. \nVisit DuffysMVP.com for more information or call (561) 249-1682.
URL:https://downtownwpb.com/event/karaoke-night-at-duffys/2026-06-19/
LOCATION:Duffy’s Sports Grill\, 225 Clematis Street\, West Palm Beach\, FL\, 33401\, United States
CATEGORIES:Indoors
ATTACH;FMTTYPE=image/jpeg:https://downtownwpb.com/wp-content/uploads/close-up-microphone-concert-stage-with-beautiful-lighting-scaled.jpg
END:VEVENT
BEGIN:VEVENT
DTSTART;TZID=America/New_York:20260626T190000
DTEND;TZID=America/New_York:20260626T213000
DTSTAMP:20260421T131142
CREATED:20250710T124120Z
LAST-MODIFIED:20250710T124120Z
UID:10040227-1782500400-1782509400@downtownwpb.com
SUMMARY:Karaoke Night at Duffy's
DESCRIPTION:Kick off your weekend with some fun and show off your vocal skills at Duffy’s of Clematis every Friday night at 7 p.m. Enjoy a lively atmosphere and join in on the karaoke fun with your friends. \nVisit DuffysMVP.com for more information or call (561) 249-1682.
URL:https://downtownwpb.com/event/karaoke-night-at-duffys/2026-06-26/
LOCATION:Duffy’s Sports Grill\, 225 Clematis Street\, West Palm Beach\, FL\, 33401\, United States
CATEGORIES:Indoors
ATTACH;FMTTYPE=image/jpeg:https://downtownwpb.com/wp-content/uploads/close-up-microphone-concert-stage-with-beautiful-lighting-scaled.jpg
END:VEVENT
BEGIN:VEVENT
DTSTART;TZID=America/New_York:20260703T190000
DTEND;TZID=America/New_York:20260703T213000
DTSTAMP:20260421T131142
CREATED:20250710T124120Z
LAST-MODIFIED:20250710T124120Z
UID:10040228-1783105200-1783114200@downtownwpb.com
SUMMARY:Karaoke Night at Duffy's
DESCRIPTION:Kick off your weekend with some fun and show off your vocal skills at Duffy’s of Clematis every Friday night at 7 p.m. Enjoy a lively atmosphere and join in on the karaoke fun with your friends. \nVisit DuffysMVP.com for more information or call (561) 249-1682.
URL:https://downtownwpb.com/event/karaoke-night-at-duffys/2026-07-03/
LOCATION:Duffy’s Sports Grill\, 225 Clematis Street\, West Palm Beach\, FL\, 33401\, United States
CATEGORIES:Indoors
ATTACH;FMTTYPE=image/jpeg:https://downtownwpb.com/wp-content/uploads/close-up-microphone-concert-stage-with-beautiful-lighting-scaled.jpg
END:VEVENT
BEGIN:VEVENT
DTSTART;TZID=America/New_York:20260710T190000
DTEND;TZID=America/New_York:20260710T213000
DTSTAMP:20260421T131142
CREATED:20250710T124120Z
LAST-MODIFIED:20250710T124120Z
UID:10040229-1783710000-1783719000@downtownwpb.com
SUMMARY:Karaoke Night at Duffy's
DESCRIPTION:Kick off your weekend with some fun and show off your vocal skills at Duffy’s of Clematis every Friday night at 7 p.m. Enjoy a lively atmosphere and join in on the karaoke fun with your friends. \nVisit DuffysMVP.com for more information or call (561) 249-1682.
URL:https://downtownwpb.com/event/karaoke-night-at-duffys/2026-07-10/
LOCATION:Duffy’s Sports Grill\, 225 Clematis Street\, West Palm Beach\, FL\, 33401\, United States
CATEGORIES:Indoors
ATTACH;FMTTYPE=image/jpeg:https://downtownwpb.com/wp-content/uploads/close-up-microphone-concert-stage-with-beautiful-lighting-scaled.jpg
END:VEVENT
BEGIN:VEVENT
DTSTART;TZID=America/New_York:20260717T190000
DTEND;TZID=America/New_York:20260717T213000
DTSTAMP:20260421T131142
CREATED:20250710T124120Z
LAST-MODIFIED:20250710T124120Z
UID:10040230-1784314800-1784323800@downtownwpb.com
SUMMARY:Karaoke Night at Duffy's
DESCRIPTION:Kick off your weekend with some fun and show off your vocal skills at Duffy’s of Clematis every Friday night at 7 p.m. Enjoy a lively atmosphere and join in on the karaoke fun with your friends. \nVisit DuffysMVP.com for more information or call (561) 249-1682.
URL:https://downtownwpb.com/event/karaoke-night-at-duffys/2026-07-17/
LOCATION:Duffy’s Sports Grill\, 225 Clematis Street\, West Palm Beach\, FL\, 33401\, United States
CATEGORIES:Indoors
ATTACH;FMTTYPE=image/jpeg:https://downtownwpb.com/wp-content/uploads/close-up-microphone-concert-stage-with-beautiful-lighting-scaled.jpg
END:VEVENT
BEGIN:VEVENT
DTSTART;TZID=America/New_York:20260721T083000
DTEND;TZID=America/New_York:20260721T103000
DTSTAMP:20260421T131142
CREATED:20250710T191520Z
LAST-MODIFIED:20251001T132014Z
UID:10016838-1784622600-1784629800@downtownwpb.com
SUMMARY:DDA Board Meeting
DESCRIPTION:DDA Board Meetings are held on the 3rd Tuesday of each month at 8:30 a.m. \nMeeting agendas and materials are posted prior to each meeting.
URL:https://downtownwpb.com/event/dda-board-meeting-3/2026-07-21/
LOCATION:West Palm Beach Downtown Development Authority\, 107 S. Olive Avenue #200\, West Palm Beach\, FL\, 33401\, United States
CATEGORIES:Indoors
ATTACH;FMTTYPE=image/jpeg:https://downtownwpb.com/wp-content/uploads/DDA-1.jpg
ORGANIZER;CN="West Palm Beach Downtown Development Authority":MAILTO:tjames@downtownwpb.com
END:VEVENT
BEGIN:VEVENT
DTSTART;TZID=America/New_York:20260724T190000
DTEND;TZID=America/New_York:20260724T213000
DTSTAMP:20260421T131142
CREATED:20250710T124120Z
LAST-MODIFIED:20250710T124120Z
UID:10040231-1784919600-1784928600@downtownwpb.com
SUMMARY:Karaoke Night at Duffy's
DESCRIPTION:Kick off your weekend with some fun and show off your vocal skills at Duffy’s of Clematis every Friday night at 7 p.m. Enjoy a lively atmosphere and join in on the karaoke fun with your friends. \nVisit DuffysMVP.com for more information or call (561) 249-1682.
URL:https://downtownwpb.com/event/karaoke-night-at-duffys/2026-07-24/
LOCATION:Duffy’s Sports Grill\, 225 Clematis Street\, West Palm Beach\, FL\, 33401\, United States
CATEGORIES:Indoors
ATTACH;FMTTYPE=image/jpeg:https://downtownwpb.com/wp-content/uploads/close-up-microphone-concert-stage-with-beautiful-lighting-scaled.jpg
END:VEVENT
BEGIN:VEVENT
DTSTART;TZID=America/New_York:20260731T190000
DTEND;TZID=America/New_York:20260731T213000
DTSTAMP:20260421T131142
CREATED:20250710T124120Z
LAST-MODIFIED:20250710T124120Z
UID:10040232-1785524400-1785533400@downtownwpb.com
SUMMARY:Karaoke Night at Duffy's
DESCRIPTION:Kick off your weekend with some fun and show off your vocal skills at Duffy’s of Clematis every Friday night at 7 p.m. Enjoy a lively atmosphere and join in on the karaoke fun with your friends. \nVisit DuffysMVP.com for more information or call (561) 249-1682.
URL:https://downtownwpb.com/event/karaoke-night-at-duffys/2026-07-31/
LOCATION:Duffy’s Sports Grill\, 225 Clematis Street\, West Palm Beach\, FL\, 33401\, United States
CATEGORIES:Indoors
ATTACH;FMTTYPE=image/jpeg:https://downtownwpb.com/wp-content/uploads/close-up-microphone-concert-stage-with-beautiful-lighting-scaled.jpg
END:VEVENT
BEGIN:VEVENT
DTSTART;TZID=America/New_York:20260807T190000
DTEND;TZID=America/New_York:20260807T213000
DTSTAMP:20260421T131142
CREATED:20250710T124120Z
LAST-MODIFIED:20250710T124120Z
UID:10040233-1786129200-1786138200@downtownwpb.com
SUMMARY:Karaoke Night at Duffy's
DESCRIPTION:Kick off your weekend with some fun and show off your vocal skills at Duffy’s of Clematis every Friday night at 7 p.m. Enjoy a lively atmosphere and join in on the karaoke fun with your friends. \nVisit DuffysMVP.com for more information or call (561) 249-1682.
URL:https://downtownwpb.com/event/karaoke-night-at-duffys/2026-08-07/
LOCATION:Duffy’s Sports Grill\, 225 Clematis Street\, West Palm Beach\, FL\, 33401\, United States
CATEGORIES:Indoors
ATTACH;FMTTYPE=image/jpeg:https://downtownwpb.com/wp-content/uploads/close-up-microphone-concert-stage-with-beautiful-lighting-scaled.jpg
END:VEVENT
BEGIN:VEVENT
DTSTART;TZID=America/New_York:20260814T190000
DTEND;TZID=America/New_York:20260814T213000
DTSTAMP:20260421T131142
CREATED:20250710T124120Z
LAST-MODIFIED:20250710T124120Z
UID:10040234-1786734000-1786743000@downtownwpb.com
SUMMARY:Karaoke Night at Duffy's
DESCRIPTION:Kick off your weekend with some fun and show off your vocal skills at Duffy’s of Clematis every Friday night at 7 p.m. Enjoy a lively atmosphere and join in on the karaoke fun with your friends. \nVisit DuffysMVP.com for more information or call (561) 249-1682.
URL:https://downtownwpb.com/event/karaoke-night-at-duffys/2026-08-14/
LOCATION:Duffy’s Sports Grill\, 225 Clematis Street\, West Palm Beach\, FL\, 33401\, United States
CATEGORIES:Indoors
ATTACH;FMTTYPE=image/jpeg:https://downtownwpb.com/wp-content/uploads/close-up-microphone-concert-stage-with-beautiful-lighting-scaled.jpg
END:VEVENT
BEGIN:VEVENT
DTSTART;TZID=America/New_York:20260818T083000
DTEND;TZID=America/New_York:20260818T103000
DTSTAMP:20260421T131142
CREATED:20250710T191520Z
LAST-MODIFIED:20251001T132014Z
UID:10016839-1787041800-1787049000@downtownwpb.com
SUMMARY:DDA Board Meeting
DESCRIPTION:DDA Board Meetings are held on the 3rd Tuesday of each month at 8:30 a.m. \nMeeting agendas and materials are posted prior to each meeting.
URL:https://downtownwpb.com/event/dda-board-meeting-3/2026-08-18/
LOCATION:West Palm Beach Downtown Development Authority\, 107 S. Olive Avenue #200\, West Palm Beach\, FL\, 33401\, United States
CATEGORIES:Indoors
ATTACH;FMTTYPE=image/jpeg:https://downtownwpb.com/wp-content/uploads/DDA-1.jpg
ORGANIZER;CN="West Palm Beach Downtown Development Authority":MAILTO:tjames@downtownwpb.com
END:VEVENT
BEGIN:VEVENT
DTSTART;TZID=America/New_York:20260821T190000
DTEND;TZID=America/New_York:20260821T213000
DTSTAMP:20260421T131142
CREATED:20250710T124120Z
LAST-MODIFIED:20250710T124120Z
UID:10040235-1787338800-1787347800@downtownwpb.com
SUMMARY:Karaoke Night at Duffy's
DESCRIPTION:Kick off your weekend with some fun and show off your vocal skills at Duffy’s of Clematis every Friday night at 7 p.m. Enjoy a lively atmosphere and join in on the karaoke fun with your friends. \nVisit DuffysMVP.com for more information or call (561) 249-1682.
URL:https://downtownwpb.com/event/karaoke-night-at-duffys/2026-08-21/
LOCATION:Duffy’s Sports Grill\, 225 Clematis Street\, West Palm Beach\, FL\, 33401\, United States
CATEGORIES:Indoors
ATTACH;FMTTYPE=image/jpeg:https://downtownwpb.com/wp-content/uploads/close-up-microphone-concert-stage-with-beautiful-lighting-scaled.jpg
END:VEVENT
BEGIN:VEVENT
DTSTART;TZID=America/New_York:20260828T190000
DTEND;TZID=America/New_York:20260828T213000
DTSTAMP:20260421T131142
CREATED:20250710T124120Z
LAST-MODIFIED:20250710T124120Z
UID:10040236-1787943600-1787952600@downtownwpb.com
SUMMARY:Karaoke Night at Duffy's
DESCRIPTION:Kick off your weekend with some fun and show off your vocal skills at Duffy’s of Clematis every Friday night at 7 p.m. Enjoy a lively atmosphere and join in on the karaoke fun with your friends. \nVisit DuffysMVP.com for more information or call (561) 249-1682.
URL:https://downtownwpb.com/event/karaoke-night-at-duffys/2026-08-28/
LOCATION:Duffy’s Sports Grill\, 225 Clematis Street\, West Palm Beach\, FL\, 33401\, United States
CATEGORIES:Indoors
ATTACH;FMTTYPE=image/jpeg:https://downtownwpb.com/wp-content/uploads/close-up-microphone-concert-stage-with-beautiful-lighting-scaled.jpg
END:VEVENT
BEGIN:VEVENT
DTSTART;TZID=America/New_York:20260904T190000
DTEND;TZID=America/New_York:20260904T213000
DTSTAMP:20260421T131142
CREATED:20250710T124120Z
LAST-MODIFIED:20250710T124120Z
UID:10040237-1788548400-1788557400@downtownwpb.com
SUMMARY:Karaoke Night at Duffy's
DESCRIPTION:Kick off your weekend with some fun and show off your vocal skills at Duffy’s of Clematis every Friday night at 7 p.m. Enjoy a lively atmosphere and join in on the karaoke fun with your friends. \nVisit DuffysMVP.com for more information or call (561) 249-1682.
URL:https://downtownwpb.com/event/karaoke-night-at-duffys/2026-09-04/
LOCATION:Duffy’s Sports Grill\, 225 Clematis Street\, West Palm Beach\, FL\, 33401\, United States
CATEGORIES:Indoors
ATTACH;FMTTYPE=image/jpeg:https://downtownwpb.com/wp-content/uploads/close-up-microphone-concert-stage-with-beautiful-lighting-scaled.jpg
END:VEVENT
BEGIN:VEVENT
DTSTART;TZID=America/New_York:20260911T190000
DTEND;TZID=America/New_York:20260911T213000
DTSTAMP:20260421T131142
CREATED:20250710T124120Z
LAST-MODIFIED:20250710T124120Z
UID:10040238-1789153200-1789162200@downtownwpb.com
SUMMARY:Karaoke Night at Duffy's
DESCRIPTION:Kick off your weekend with some fun and show off your vocal skills at Duffy’s of Clematis every Friday night at 7 p.m. Enjoy a lively atmosphere and join in on the karaoke fun with your friends. \nVisit DuffysMVP.com for more information or call (561) 249-1682.
URL:https://downtownwpb.com/event/karaoke-night-at-duffys/2026-09-11/
LOCATION:Duffy’s Sports Grill\, 225 Clematis Street\, West Palm Beach\, FL\, 33401\, United States
CATEGORIES:Indoors
ATTACH;FMTTYPE=image/jpeg:https://downtownwpb.com/wp-content/uploads/close-up-microphone-concert-stage-with-beautiful-lighting-scaled.jpg
END:VEVENT
BEGIN:VEVENT
DTSTART;TZID=America/New_York:20260915T083000
DTEND;TZID=America/New_York:20260915T103000
DTSTAMP:20260421T131142
CREATED:20250710T191520Z
LAST-MODIFIED:20251001T132014Z
UID:10016840-1789461000-1789468200@downtownwpb.com
SUMMARY:DDA Board Meeting
DESCRIPTION:DDA Board Meetings are held on the 3rd Tuesday of each month at 8:30 a.m. \nMeeting agendas and materials are posted prior to each meeting.
URL:https://downtownwpb.com/event/dda-board-meeting-3/2026-09-15/
LOCATION:West Palm Beach Downtown Development Authority\, 107 S. Olive Avenue #200\, West Palm Beach\, FL\, 33401\, United States
CATEGORIES:Indoors
ATTACH;FMTTYPE=image/jpeg:https://downtownwpb.com/wp-content/uploads/DDA-1.jpg
ORGANIZER;CN="West Palm Beach Downtown Development Authority":MAILTO:tjames@downtownwpb.com
END:VEVENT
BEGIN:VEVENT
DTSTART;TZID=America/New_York:20260918T190000
DTEND;TZID=America/New_York:20260918T213000
DTSTAMP:20260421T131142
CREATED:20250710T124120Z
LAST-MODIFIED:20250710T124120Z
UID:10040239-1789758000-1789767000@downtownwpb.com
SUMMARY:Karaoke Night at Duffy's
DESCRIPTION:Kick off your weekend with some fun and show off your vocal skills at Duffy’s of Clematis every Friday night at 7 p.m. Enjoy a lively atmosphere and join in on the karaoke fun with your friends. \nVisit DuffysMVP.com for more information or call (561) 249-1682.
URL:https://downtownwpb.com/event/karaoke-night-at-duffys/2026-09-18/
LOCATION:Duffy’s Sports Grill\, 225 Clematis Street\, West Palm Beach\, FL\, 33401\, United States
CATEGORIES:Indoors
ATTACH;FMTTYPE=image/jpeg:https://downtownwpb.com/wp-content/uploads/close-up-microphone-concert-stage-with-beautiful-lighting-scaled.jpg
END:VEVENT
BEGIN:VEVENT
DTSTART;TZID=America/New_York:20260925T190000
DTEND;TZID=America/New_York:20260925T213000
DTSTAMP:20260421T131142
CREATED:20250710T124120Z
LAST-MODIFIED:20250710T124120Z
UID:10040240-1790362800-1790371800@downtownwpb.com
SUMMARY:Karaoke Night at Duffy's
DESCRIPTION:Kick off your weekend with some fun and show off your vocal skills at Duffy’s of Clematis every Friday night at 7 p.m. Enjoy a lively atmosphere and join in on the karaoke fun with your friends. \nVisit DuffysMVP.com for more information or call (561) 249-1682.
URL:https://downtownwpb.com/event/karaoke-night-at-duffys/2026-09-25/
LOCATION:Duffy’s Sports Grill\, 225 Clematis Street\, West Palm Beach\, FL\, 33401\, United States
CATEGORIES:Indoors
ATTACH;FMTTYPE=image/jpeg:https://downtownwpb.com/wp-content/uploads/close-up-microphone-concert-stage-with-beautiful-lighting-scaled.jpg
END:VEVENT
BEGIN:VEVENT
DTSTART;TZID=America/New_York:20261002T190000
DTEND;TZID=America/New_York:20261002T213000
DTSTAMP:20260421T131142
CREATED:20250710T124120Z
LAST-MODIFIED:20250710T124120Z
UID:10040241-1790967600-1790976600@downtownwpb.com
SUMMARY:Karaoke Night at Duffy's
DESCRIPTION:Kick off your weekend with some fun and show off your vocal skills at Duffy’s of Clematis every Friday night at 7 p.m. Enjoy a lively atmosphere and join in on the karaoke fun with your friends. \nVisit DuffysMVP.com for more information or call (561) 249-1682.
URL:https://downtownwpb.com/event/karaoke-night-at-duffys/2026-10-02/
LOCATION:Duffy’s Sports Grill\, 225 Clematis Street\, West Palm Beach\, FL\, 33401\, United States
CATEGORIES:Indoors
ATTACH;FMTTYPE=image/jpeg:https://downtownwpb.com/wp-content/uploads/close-up-microphone-concert-stage-with-beautiful-lighting-scaled.jpg
END:VEVENT
BEGIN:VEVENT
DTSTART;TZID=America/New_York:20261009T190000
DTEND;TZID=America/New_York:20261009T213000
DTSTAMP:20260421T131142
CREATED:20250710T124120Z
LAST-MODIFIED:20250710T124120Z
UID:10040242-1791572400-1791581400@downtownwpb.com
SUMMARY:Karaoke Night at Duffy's
DESCRIPTION:Kick off your weekend with some fun and show off your vocal skills at Duffy’s of Clematis every Friday night at 7 p.m. Enjoy a lively atmosphere and join in on the karaoke fun with your friends. \nVisit DuffysMVP.com for more information or call (561) 249-1682.
URL:https://downtownwpb.com/event/karaoke-night-at-duffys/2026-10-09/
LOCATION:Duffy’s Sports Grill\, 225 Clematis Street\, West Palm Beach\, FL\, 33401\, United States
CATEGORIES:Indoors
ATTACH;FMTTYPE=image/jpeg:https://downtownwpb.com/wp-content/uploads/close-up-microphone-concert-stage-with-beautiful-lighting-scaled.jpg
END:VEVENT
BEGIN:VEVENT
DTSTART;TZID=America/New_York:20261016T190000
DTEND;TZID=America/New_York:20261016T213000
DTSTAMP:20260421T131142
CREATED:20250710T124120Z
LAST-MODIFIED:20250710T124120Z
UID:10040243-1792177200-1792186200@downtownwpb.com
SUMMARY:Karaoke Night at Duffy's
DESCRIPTION:Kick off your weekend with some fun and show off your vocal skills at Duffy’s of Clematis every Friday night at 7 p.m. Enjoy a lively atmosphere and join in on the karaoke fun with your friends. \nVisit DuffysMVP.com for more information or call (561) 249-1682.
URL:https://downtownwpb.com/event/karaoke-night-at-duffys/2026-10-16/
LOCATION:Duffy’s Sports Grill\, 225 Clematis Street\, West Palm Beach\, FL\, 33401\, United States
CATEGORIES:Indoors
ATTACH;FMTTYPE=image/jpeg:https://downtownwpb.com/wp-content/uploads/close-up-microphone-concert-stage-with-beautiful-lighting-scaled.jpg
END:VEVENT
BEGIN:VEVENT
DTSTART;TZID=America/New_York:20261020T083000
DTEND;TZID=America/New_York:20261020T103000
DTSTAMP:20260421T131142
CREATED:20250710T191520Z
LAST-MODIFIED:20251001T132014Z
UID:10016841-1792485000-1792492200@downtownwpb.com
SUMMARY:DDA Board Meeting
DESCRIPTION:DDA Board Meetings are held on the 3rd Tuesday of each month at 8:30 a.m. \nMeeting agendas and materials are posted prior to each meeting.
URL:https://downtownwpb.com/event/dda-board-meeting-3/2026-10-20/
LOCATION:West Palm Beach Downtown Development Authority\, 107 S. Olive Avenue #200\, West Palm Beach\, FL\, 33401\, United States
CATEGORIES:Indoors
ATTACH;FMTTYPE=image/jpeg:https://downtownwpb.com/wp-content/uploads/DDA-1.jpg
ORGANIZER;CN="West Palm Beach Downtown Development Authority":MAILTO:tjames@downtownwpb.com
END:VEVENT
BEGIN:VEVENT
DTSTART;TZID=America/New_York:20261023T190000
DTEND;TZID=America/New_York:20261023T213000
DTSTAMP:20260421T131142
CREATED:20250710T124120Z
LAST-MODIFIED:20250710T124120Z
UID:10040244-1792782000-1792791000@downtownwpb.com
SUMMARY:Karaoke Night at Duffy's
DESCRIPTION:Kick off your weekend with some fun and show off your vocal skills at Duffy’s of Clematis every Friday night at 7 p.m. Enjoy a lively atmosphere and join in on the karaoke fun with your friends. \nVisit DuffysMVP.com for more information or call (561) 249-1682.
URL:https://downtownwpb.com/event/karaoke-night-at-duffys/2026-10-23/
LOCATION:Duffy’s Sports Grill\, 225 Clematis Street\, West Palm Beach\, FL\, 33401\, United States
CATEGORIES:Indoors
ATTACH;FMTTYPE=image/jpeg:https://downtownwpb.com/wp-content/uploads/close-up-microphone-concert-stage-with-beautiful-lighting-scaled.jpg
END:VEVENT
BEGIN:VEVENT
DTSTART;TZID=America/New_York:20261030T190000
DTEND;TZID=America/New_York:20261030T213000
DTSTAMP:20260421T131142
CREATED:20250710T124120Z
LAST-MODIFIED:20250710T124120Z
UID:10040245-1793386800-1793395800@downtownwpb.com
SUMMARY:Karaoke Night at Duffy's
DESCRIPTION:Kick off your weekend with some fun and show off your vocal skills at Duffy’s of Clematis every Friday night at 7 p.m. Enjoy a lively atmosphere and join in on the karaoke fun with your friends. \nVisit DuffysMVP.com for more information or call (561) 249-1682.
URL:https://downtownwpb.com/event/karaoke-night-at-duffys/2026-10-30/
LOCATION:Duffy’s Sports Grill\, 225 Clematis Street\, West Palm Beach\, FL\, 33401\, United States
CATEGORIES:Indoors
ATTACH;FMTTYPE=image/jpeg:https://downtownwpb.com/wp-content/uploads/close-up-microphone-concert-stage-with-beautiful-lighting-scaled.jpg
END:VEVENT
BEGIN:VEVENT
DTSTART;TZID=America/New_York:20261106T190000
DTEND;TZID=America/New_York:20261106T213000
DTSTAMP:20260421T131142
CREATED:20250710T124120Z
LAST-MODIFIED:20250710T124120Z
UID:10040246-1793991600-1794000600@downtownwpb.com
SUMMARY:Karaoke Night at Duffy's
DESCRIPTION:Kick off your weekend with some fun and show off your vocal skills at Duffy’s of Clematis every Friday night at 7 p.m. Enjoy a lively atmosphere and join in on the karaoke fun with your friends. \nVisit DuffysMVP.com for more information or call (561) 249-1682.
URL:https://downtownwpb.com/event/karaoke-night-at-duffys/2026-11-06/
LOCATION:Duffy’s Sports Grill\, 225 Clematis Street\, West Palm Beach\, FL\, 33401\, United States
CATEGORIES:Indoors
ATTACH;FMTTYPE=image/jpeg:https://downtownwpb.com/wp-content/uploads/close-up-microphone-concert-stage-with-beautiful-lighting-scaled.jpg
END:VEVENT
BEGIN:VEVENT
DTSTART;TZID=America/New_York:20261113T190000
DTEND;TZID=America/New_York:20261113T213000
DTSTAMP:20260421T131142
CREATED:20250710T124120Z
LAST-MODIFIED:20250710T124120Z
UID:10040247-1794596400-1794605400@downtownwpb.com
SUMMARY:Karaoke Night at Duffy's
DESCRIPTION:Kick off your weekend with some fun and show off your vocal skills at Duffy’s of Clematis every Friday night at 7 p.m. Enjoy a lively atmosphere and join in on the karaoke fun with your friends. \nVisit DuffysMVP.com for more information or call (561) 249-1682.
URL:https://downtownwpb.com/event/karaoke-night-at-duffys/2026-11-13/
LOCATION:Duffy’s Sports Grill\, 225 Clematis Street\, West Palm Beach\, FL\, 33401\, United States
CATEGORIES:Indoors
ATTACH;FMTTYPE=image/jpeg:https://downtownwpb.com/wp-content/uploads/close-up-microphone-concert-stage-with-beautiful-lighting-scaled.jpg
END:VEVENT
BEGIN:VEVENT
DTSTART;TZID=America/New_York:20261117T083000
DTEND;TZID=America/New_York:20261117T103000
DTSTAMP:20260421T131142
CREATED:20250710T191520Z
LAST-MODIFIED:20251001T132014Z
UID:10016842-1794904200-1794911400@downtownwpb.com
SUMMARY:DDA Board Meeting
DESCRIPTION:DDA Board Meetings are held on the 3rd Tuesday of each month at 8:30 a.m. \nMeeting agendas and materials are posted prior to each meeting.
URL:https://downtownwpb.com/event/dda-board-meeting-3/2026-11-17/
LOCATION:West Palm Beach Downtown Development Authority\, 107 S. Olive Avenue #200\, West Palm Beach\, FL\, 33401\, United States
CATEGORIES:Indoors
ATTACH;FMTTYPE=image/jpeg:https://downtownwpb.com/wp-content/uploads/DDA-1.jpg
ORGANIZER;CN="West Palm Beach Downtown Development Authority":MAILTO:tjames@downtownwpb.com
END:VEVENT
BEGIN:VEVENT
DTSTART;TZID=America/New_York:20261120T190000
DTEND;TZID=America/New_York:20261120T213000
DTSTAMP:20260421T131142
CREATED:20250710T124120Z
LAST-MODIFIED:20250710T124120Z
UID:10040248-1795201200-1795210200@downtownwpb.com
SUMMARY:Karaoke Night at Duffy's
DESCRIPTION:Kick off your weekend with some fun and show off your vocal skills at Duffy’s of Clematis every Friday night at 7 p.m. Enjoy a lively atmosphere and join in on the karaoke fun with your friends. \nVisit DuffysMVP.com for more information or call (561) 249-1682.
URL:https://downtownwpb.com/event/karaoke-night-at-duffys/2026-11-20/
LOCATION:Duffy’s Sports Grill\, 225 Clematis Street\, West Palm Beach\, FL\, 33401\, United States
CATEGORIES:Indoors
ATTACH;FMTTYPE=image/jpeg:https://downtownwpb.com/wp-content/uploads/close-up-microphone-concert-stage-with-beautiful-lighting-scaled.jpg
END:VEVENT
END:VCALENDAR