BEGIN:VCALENDAR
VERSION:2.0
PRODID:-//West Palm Beach - ECPv6.15.5//NONSGML v1.0//EN
CALSCALE:GREGORIAN
METHOD:PUBLISH
X-WR-CALNAME:West Palm Beach
X-ORIGINAL-URL:https://downtownwpb.com
X-WR-CALDESC:Events for West Palm Beach
REFRESH-INTERVAL;VALUE=DURATION:PT1H
X-Robots-Tag:noindex
X-PUBLISHED-TTL:PT1H
BEGIN:VTIMEZONE
TZID:America/New_York
BEGIN:DAYLIGHT
TZOFFSETFROM:-0500
TZOFFSETTO:-0400
TZNAME:EDT
DTSTART:20290311T070000
END:DAYLIGHT
BEGIN:STANDARD
TZOFFSETFROM:-0400
TZOFFSETTO:-0500
TZNAME:EST
DTSTART:20291104T060000
END:STANDARD
END:VTIMEZONE
BEGIN:VEVENT
DTSTART;TZID=America/New_York:20290601T190000
DTEND;TZID=America/New_York:20290601T213000
DTSTAMP:20260420T154736
CREATED:20250710T124120Z
LAST-MODIFIED:20250710T124120Z
UID:10040380-1875034800-1875043800@downtownwpb.com
SUMMARY:Karaoke Night at Duffy's
DESCRIPTION:Kick off your weekend with some fun and show off your vocal skills at Duffy’s of Clematis every Friday night at 7 p.m. Enjoy a lively atmosphere and join in on the karaoke fun with your friends. \nVisit DuffysMVP.com for more information or call (561) 249-1682.
URL:https://downtownwpb.com/event/karaoke-night-at-duffys/2029-06-01/
LOCATION:Duffy’s Sports Grill\, 225 Clematis Street\, West Palm Beach\, FL\, 33401\, United States
CATEGORIES:Indoors
ATTACH;FMTTYPE=image/jpeg:https://downtownwpb.com/wp-content/uploads/close-up-microphone-concert-stage-with-beautiful-lighting-scaled.jpg
END:VEVENT
BEGIN:VEVENT
DTSTART;TZID=America/New_York:20290608T190000
DTEND;TZID=America/New_York:20290608T213000
DTSTAMP:20260420T154736
CREATED:20250710T124120Z
LAST-MODIFIED:20250710T124120Z
UID:10040381-1875639600-1875648600@downtownwpb.com
SUMMARY:Karaoke Night at Duffy's
DESCRIPTION:Kick off your weekend with some fun and show off your vocal skills at Duffy’s of Clematis every Friday night at 7 p.m. Enjoy a lively atmosphere and join in on the karaoke fun with your friends. \nVisit DuffysMVP.com for more information or call (561) 249-1682.
URL:https://downtownwpb.com/event/karaoke-night-at-duffys/2029-06-08/
LOCATION:Duffy’s Sports Grill\, 225 Clematis Street\, West Palm Beach\, FL\, 33401\, United States
CATEGORIES:Indoors
ATTACH;FMTTYPE=image/jpeg:https://downtownwpb.com/wp-content/uploads/close-up-microphone-concert-stage-with-beautiful-lighting-scaled.jpg
END:VEVENT
BEGIN:VEVENT
DTSTART;TZID=America/New_York:20290615T190000
DTEND;TZID=America/New_York:20290615T213000
DTSTAMP:20260420T154736
CREATED:20250710T124120Z
LAST-MODIFIED:20250710T124120Z
UID:10040382-1876244400-1876253400@downtownwpb.com
SUMMARY:Karaoke Night at Duffy's
DESCRIPTION:Kick off your weekend with some fun and show off your vocal skills at Duffy’s of Clematis every Friday night at 7 p.m. Enjoy a lively atmosphere and join in on the karaoke fun with your friends. \nVisit DuffysMVP.com for more information or call (561) 249-1682.
URL:https://downtownwpb.com/event/karaoke-night-at-duffys/2029-06-15/
LOCATION:Duffy’s Sports Grill\, 225 Clematis Street\, West Palm Beach\, FL\, 33401\, United States
CATEGORIES:Indoors
ATTACH;FMTTYPE=image/jpeg:https://downtownwpb.com/wp-content/uploads/close-up-microphone-concert-stage-with-beautiful-lighting-scaled.jpg
END:VEVENT
BEGIN:VEVENT
DTSTART;TZID=America/New_York:20290619T083000
DTEND;TZID=America/New_York:20290619T103000
DTSTAMP:20260420T154736
CREATED:20250710T191520Z
LAST-MODIFIED:20251001T132014Z
UID:10016873-1876552200-1876559400@downtownwpb.com
SUMMARY:DDA Board Meeting
DESCRIPTION:DDA Board Meetings are held on the 3rd Tuesday of each month at 8:30 a.m. \nMeeting agendas and materials are posted prior to each meeting.
URL:https://downtownwpb.com/event/dda-board-meeting-3/2029-06-19/
LOCATION:West Palm Beach Downtown Development Authority\, 107 S. Olive Avenue #200\, West Palm Beach\, FL\, 33401\, United States
CATEGORIES:Indoors
ATTACH;FMTTYPE=image/jpeg:https://downtownwpb.com/wp-content/uploads/DDA-1.jpg
ORGANIZER;CN="West Palm Beach Downtown Development Authority":MAILTO:tjames@downtownwpb.com
END:VEVENT
BEGIN:VEVENT
DTSTART;TZID=America/New_York:20290622T190000
DTEND;TZID=America/New_York:20290622T213000
DTSTAMP:20260420T154736
CREATED:20250710T124120Z
LAST-MODIFIED:20250710T124120Z
UID:10040383-1876849200-1876858200@downtownwpb.com
SUMMARY:Karaoke Night at Duffy's
DESCRIPTION:Kick off your weekend with some fun and show off your vocal skills at Duffy’s of Clematis every Friday night at 7 p.m. Enjoy a lively atmosphere and join in on the karaoke fun with your friends. \nVisit DuffysMVP.com for more information or call (561) 249-1682.
URL:https://downtownwpb.com/event/karaoke-night-at-duffys/2029-06-22/
LOCATION:Duffy’s Sports Grill\, 225 Clematis Street\, West Palm Beach\, FL\, 33401\, United States
CATEGORIES:Indoors
ATTACH;FMTTYPE=image/jpeg:https://downtownwpb.com/wp-content/uploads/close-up-microphone-concert-stage-with-beautiful-lighting-scaled.jpg
END:VEVENT
BEGIN:VEVENT
DTSTART;TZID=America/New_York:20290629T190000
DTEND;TZID=America/New_York:20290629T213000
DTSTAMP:20260420T154736
CREATED:20250710T124120Z
LAST-MODIFIED:20250710T124120Z
UID:10040384-1877454000-1877463000@downtownwpb.com
SUMMARY:Karaoke Night at Duffy's
DESCRIPTION:Kick off your weekend with some fun and show off your vocal skills at Duffy’s of Clematis every Friday night at 7 p.m. Enjoy a lively atmosphere and join in on the karaoke fun with your friends. \nVisit DuffysMVP.com for more information or call (561) 249-1682.
URL:https://downtownwpb.com/event/karaoke-night-at-duffys/2029-06-29/
LOCATION:Duffy’s Sports Grill\, 225 Clematis Street\, West Palm Beach\, FL\, 33401\, United States
CATEGORIES:Indoors
ATTACH;FMTTYPE=image/jpeg:https://downtownwpb.com/wp-content/uploads/close-up-microphone-concert-stage-with-beautiful-lighting-scaled.jpg
END:VEVENT
BEGIN:VEVENT
DTSTART;TZID=America/New_York:20290706T190000
DTEND;TZID=America/New_York:20290706T213000
DTSTAMP:20260420T154736
CREATED:20250710T124120Z
LAST-MODIFIED:20250710T124120Z
UID:10040385-1878058800-1878067800@downtownwpb.com
SUMMARY:Karaoke Night at Duffy's
DESCRIPTION:Kick off your weekend with some fun and show off your vocal skills at Duffy’s of Clematis every Friday night at 7 p.m. Enjoy a lively atmosphere and join in on the karaoke fun with your friends. \nVisit DuffysMVP.com for more information or call (561) 249-1682.
URL:https://downtownwpb.com/event/karaoke-night-at-duffys/2029-07-06/
LOCATION:Duffy’s Sports Grill\, 225 Clematis Street\, West Palm Beach\, FL\, 33401\, United States
CATEGORIES:Indoors
ATTACH;FMTTYPE=image/jpeg:https://downtownwpb.com/wp-content/uploads/close-up-microphone-concert-stage-with-beautiful-lighting-scaled.jpg
END:VEVENT
BEGIN:VEVENT
DTSTART;TZID=America/New_York:20290713T190000
DTEND;TZID=America/New_York:20290713T213000
DTSTAMP:20260420T154736
CREATED:20250710T124120Z
LAST-MODIFIED:20250710T124120Z
UID:10040386-1878663600-1878672600@downtownwpb.com
SUMMARY:Karaoke Night at Duffy's
DESCRIPTION:Kick off your weekend with some fun and show off your vocal skills at Duffy’s of Clematis every Friday night at 7 p.m. Enjoy a lively atmosphere and join in on the karaoke fun with your friends. \nVisit DuffysMVP.com for more information or call (561) 249-1682.
URL:https://downtownwpb.com/event/karaoke-night-at-duffys/2029-07-13/
LOCATION:Duffy’s Sports Grill\, 225 Clematis Street\, West Palm Beach\, FL\, 33401\, United States
CATEGORIES:Indoors
ATTACH;FMTTYPE=image/jpeg:https://downtownwpb.com/wp-content/uploads/close-up-microphone-concert-stage-with-beautiful-lighting-scaled.jpg
END:VEVENT
BEGIN:VEVENT
DTSTART;TZID=America/New_York:20290717T083000
DTEND;TZID=America/New_York:20290717T103000
DTSTAMP:20260420T154736
CREATED:20250710T191520Z
LAST-MODIFIED:20251001T132014Z
UID:10016874-1878971400-1878978600@downtownwpb.com
SUMMARY:DDA Board Meeting
DESCRIPTION:DDA Board Meetings are held on the 3rd Tuesday of each month at 8:30 a.m. \nMeeting agendas and materials are posted prior to each meeting.
URL:https://downtownwpb.com/event/dda-board-meeting-3/2029-07-17/
LOCATION:West Palm Beach Downtown Development Authority\, 107 S. Olive Avenue #200\, West Palm Beach\, FL\, 33401\, United States
CATEGORIES:Indoors
ATTACH;FMTTYPE=image/jpeg:https://downtownwpb.com/wp-content/uploads/DDA-1.jpg
ORGANIZER;CN="West Palm Beach Downtown Development Authority":MAILTO:tjames@downtownwpb.com
END:VEVENT
BEGIN:VEVENT
DTSTART;TZID=America/New_York:20290720T190000
DTEND;TZID=America/New_York:20290720T213000
DTSTAMP:20260420T154736
CREATED:20250710T124120Z
LAST-MODIFIED:20250710T124120Z
UID:10040387-1879268400-1879277400@downtownwpb.com
SUMMARY:Karaoke Night at Duffy's
DESCRIPTION:Kick off your weekend with some fun and show off your vocal skills at Duffy’s of Clematis every Friday night at 7 p.m. Enjoy a lively atmosphere and join in on the karaoke fun with your friends. \nVisit DuffysMVP.com for more information or call (561) 249-1682.
URL:https://downtownwpb.com/event/karaoke-night-at-duffys/2029-07-20/
LOCATION:Duffy’s Sports Grill\, 225 Clematis Street\, West Palm Beach\, FL\, 33401\, United States
CATEGORIES:Indoors
ATTACH;FMTTYPE=image/jpeg:https://downtownwpb.com/wp-content/uploads/close-up-microphone-concert-stage-with-beautiful-lighting-scaled.jpg
END:VEVENT
BEGIN:VEVENT
DTSTART;TZID=America/New_York:20290727T190000
DTEND;TZID=America/New_York:20290727T213000
DTSTAMP:20260420T154736
CREATED:20250710T124120Z
LAST-MODIFIED:20250710T124120Z
UID:10040388-1879873200-1879882200@downtownwpb.com
SUMMARY:Karaoke Night at Duffy's
DESCRIPTION:Kick off your weekend with some fun and show off your vocal skills at Duffy’s of Clematis every Friday night at 7 p.m. Enjoy a lively atmosphere and join in on the karaoke fun with your friends. \nVisit DuffysMVP.com for more information or call (561) 249-1682.
URL:https://downtownwpb.com/event/karaoke-night-at-duffys/2029-07-27/
LOCATION:Duffy’s Sports Grill\, 225 Clematis Street\, West Palm Beach\, FL\, 33401\, United States
CATEGORIES:Indoors
ATTACH;FMTTYPE=image/jpeg:https://downtownwpb.com/wp-content/uploads/close-up-microphone-concert-stage-with-beautiful-lighting-scaled.jpg
END:VEVENT
BEGIN:VEVENT
DTSTART;TZID=America/New_York:20290803T190000
DTEND;TZID=America/New_York:20290803T213000
DTSTAMP:20260420T154736
CREATED:20250710T124120Z
LAST-MODIFIED:20250710T124120Z
UID:10040389-1880478000-1880487000@downtownwpb.com
SUMMARY:Karaoke Night at Duffy's
DESCRIPTION:Kick off your weekend with some fun and show off your vocal skills at Duffy’s of Clematis every Friday night at 7 p.m. Enjoy a lively atmosphere and join in on the karaoke fun with your friends. \nVisit DuffysMVP.com for more information or call (561) 249-1682.
URL:https://downtownwpb.com/event/karaoke-night-at-duffys/2029-08-03/
LOCATION:Duffy’s Sports Grill\, 225 Clematis Street\, West Palm Beach\, FL\, 33401\, United States
CATEGORIES:Indoors
ATTACH;FMTTYPE=image/jpeg:https://downtownwpb.com/wp-content/uploads/close-up-microphone-concert-stage-with-beautiful-lighting-scaled.jpg
END:VEVENT
BEGIN:VEVENT
DTSTART;TZID=America/New_York:20290810T190000
DTEND;TZID=America/New_York:20290810T213000
DTSTAMP:20260420T154736
CREATED:20250710T124120Z
LAST-MODIFIED:20250710T124120Z
UID:10040390-1881082800-1881091800@downtownwpb.com
SUMMARY:Karaoke Night at Duffy's
DESCRIPTION:Kick off your weekend with some fun and show off your vocal skills at Duffy’s of Clematis every Friday night at 7 p.m. Enjoy a lively atmosphere and join in on the karaoke fun with your friends. \nVisit DuffysMVP.com for more information or call (561) 249-1682.
URL:https://downtownwpb.com/event/karaoke-night-at-duffys/2029-08-10/
LOCATION:Duffy’s Sports Grill\, 225 Clematis Street\, West Palm Beach\, FL\, 33401\, United States
CATEGORIES:Indoors
ATTACH;FMTTYPE=image/jpeg:https://downtownwpb.com/wp-content/uploads/close-up-microphone-concert-stage-with-beautiful-lighting-scaled.jpg
END:VEVENT
BEGIN:VEVENT
DTSTART;TZID=America/New_York:20290817T190000
DTEND;TZID=America/New_York:20290817T213000
DTSTAMP:20260420T154736
CREATED:20250710T124120Z
LAST-MODIFIED:20250710T124120Z
UID:10040391-1881687600-1881696600@downtownwpb.com
SUMMARY:Karaoke Night at Duffy's
DESCRIPTION:Kick off your weekend with some fun and show off your vocal skills at Duffy’s of Clematis every Friday night at 7 p.m. Enjoy a lively atmosphere and join in on the karaoke fun with your friends. \nVisit DuffysMVP.com for more information or call (561) 249-1682.
URL:https://downtownwpb.com/event/karaoke-night-at-duffys/2029-08-17/
LOCATION:Duffy’s Sports Grill\, 225 Clematis Street\, West Palm Beach\, FL\, 33401\, United States
CATEGORIES:Indoors
ATTACH;FMTTYPE=image/jpeg:https://downtownwpb.com/wp-content/uploads/close-up-microphone-concert-stage-with-beautiful-lighting-scaled.jpg
END:VEVENT
BEGIN:VEVENT
DTSTART;TZID=America/New_York:20290821T083000
DTEND;TZID=America/New_York:20290821T103000
DTSTAMP:20260420T154736
CREATED:20250710T191520Z
LAST-MODIFIED:20251001T132014Z
UID:10016875-1881995400-1882002600@downtownwpb.com
SUMMARY:DDA Board Meeting
DESCRIPTION:DDA Board Meetings are held on the 3rd Tuesday of each month at 8:30 a.m. \nMeeting agendas and materials are posted prior to each meeting.
URL:https://downtownwpb.com/event/dda-board-meeting-3/2029-08-21/
LOCATION:West Palm Beach Downtown Development Authority\, 107 S. Olive Avenue #200\, West Palm Beach\, FL\, 33401\, United States
CATEGORIES:Indoors
ATTACH;FMTTYPE=image/jpeg:https://downtownwpb.com/wp-content/uploads/DDA-1.jpg
ORGANIZER;CN="West Palm Beach Downtown Development Authority":MAILTO:tjames@downtownwpb.com
END:VEVENT
BEGIN:VEVENT
DTSTART;TZID=America/New_York:20290824T190000
DTEND;TZID=America/New_York:20290824T213000
DTSTAMP:20260420T154736
CREATED:20250710T124120Z
LAST-MODIFIED:20250710T124120Z
UID:10040392-1882292400-1882301400@downtownwpb.com
SUMMARY:Karaoke Night at Duffy's
DESCRIPTION:Kick off your weekend with some fun and show off your vocal skills at Duffy’s of Clematis every Friday night at 7 p.m. Enjoy a lively atmosphere and join in on the karaoke fun with your friends. \nVisit DuffysMVP.com for more information or call (561) 249-1682.
URL:https://downtownwpb.com/event/karaoke-night-at-duffys/2029-08-24/
LOCATION:Duffy’s Sports Grill\, 225 Clematis Street\, West Palm Beach\, FL\, 33401\, United States
CATEGORIES:Indoors
ATTACH;FMTTYPE=image/jpeg:https://downtownwpb.com/wp-content/uploads/close-up-microphone-concert-stage-with-beautiful-lighting-scaled.jpg
END:VEVENT
BEGIN:VEVENT
DTSTART;TZID=America/New_York:20290831T190000
DTEND;TZID=America/New_York:20290831T213000
DTSTAMP:20260420T154736
CREATED:20250710T124120Z
LAST-MODIFIED:20250710T124120Z
UID:10040393-1882897200-1882906200@downtownwpb.com
SUMMARY:Karaoke Night at Duffy's
DESCRIPTION:Kick off your weekend with some fun and show off your vocal skills at Duffy’s of Clematis every Friday night at 7 p.m. Enjoy a lively atmosphere and join in on the karaoke fun with your friends. \nVisit DuffysMVP.com for more information or call (561) 249-1682.
URL:https://downtownwpb.com/event/karaoke-night-at-duffys/2029-08-31/
LOCATION:Duffy’s Sports Grill\, 225 Clematis Street\, West Palm Beach\, FL\, 33401\, United States
CATEGORIES:Indoors
ATTACH;FMTTYPE=image/jpeg:https://downtownwpb.com/wp-content/uploads/close-up-microphone-concert-stage-with-beautiful-lighting-scaled.jpg
END:VEVENT
BEGIN:VEVENT
DTSTART;TZID=America/New_York:20290907T190000
DTEND;TZID=America/New_York:20290907T213000
DTSTAMP:20260420T154736
CREATED:20250710T124120Z
LAST-MODIFIED:20250710T124120Z
UID:10040394-1883502000-1883511000@downtownwpb.com
SUMMARY:Karaoke Night at Duffy's
DESCRIPTION:Kick off your weekend with some fun and show off your vocal skills at Duffy’s of Clematis every Friday night at 7 p.m. Enjoy a lively atmosphere and join in on the karaoke fun with your friends. \nVisit DuffysMVP.com for more information or call (561) 249-1682.
URL:https://downtownwpb.com/event/karaoke-night-at-duffys/2029-09-07/
LOCATION:Duffy’s Sports Grill\, 225 Clematis Street\, West Palm Beach\, FL\, 33401\, United States
CATEGORIES:Indoors
ATTACH;FMTTYPE=image/jpeg:https://downtownwpb.com/wp-content/uploads/close-up-microphone-concert-stage-with-beautiful-lighting-scaled.jpg
END:VEVENT
BEGIN:VEVENT
DTSTART;TZID=America/New_York:20290914T190000
DTEND;TZID=America/New_York:20290914T213000
DTSTAMP:20260420T154736
CREATED:20250710T124120Z
LAST-MODIFIED:20250710T124120Z
UID:10040395-1884106800-1884115800@downtownwpb.com
SUMMARY:Karaoke Night at Duffy's
DESCRIPTION:Kick off your weekend with some fun and show off your vocal skills at Duffy’s of Clematis every Friday night at 7 p.m. Enjoy a lively atmosphere and join in on the karaoke fun with your friends. \nVisit DuffysMVP.com for more information or call (561) 249-1682.
URL:https://downtownwpb.com/event/karaoke-night-at-duffys/2029-09-14/
LOCATION:Duffy’s Sports Grill\, 225 Clematis Street\, West Palm Beach\, FL\, 33401\, United States
CATEGORIES:Indoors
ATTACH;FMTTYPE=image/jpeg:https://downtownwpb.com/wp-content/uploads/close-up-microphone-concert-stage-with-beautiful-lighting-scaled.jpg
END:VEVENT
BEGIN:VEVENT
DTSTART;TZID=America/New_York:20290918T083000
DTEND;TZID=America/New_York:20290918T103000
DTSTAMP:20260420T154736
CREATED:20250710T191520Z
LAST-MODIFIED:20251001T132014Z
UID:10016876-1884414600-1884421800@downtownwpb.com
SUMMARY:DDA Board Meeting
DESCRIPTION:DDA Board Meetings are held on the 3rd Tuesday of each month at 8:30 a.m. \nMeeting agendas and materials are posted prior to each meeting.
URL:https://downtownwpb.com/event/dda-board-meeting-3/2029-09-18/
LOCATION:West Palm Beach Downtown Development Authority\, 107 S. Olive Avenue #200\, West Palm Beach\, FL\, 33401\, United States
CATEGORIES:Indoors
ATTACH;FMTTYPE=image/jpeg:https://downtownwpb.com/wp-content/uploads/DDA-1.jpg
ORGANIZER;CN="West Palm Beach Downtown Development Authority":MAILTO:tjames@downtownwpb.com
END:VEVENT
BEGIN:VEVENT
DTSTART;TZID=America/New_York:20290921T190000
DTEND;TZID=America/New_York:20290921T213000
DTSTAMP:20260420T154736
CREATED:20250710T124120Z
LAST-MODIFIED:20250710T124120Z
UID:10040396-1884711600-1884720600@downtownwpb.com
SUMMARY:Karaoke Night at Duffy's
DESCRIPTION:Kick off your weekend with some fun and show off your vocal skills at Duffy’s of Clematis every Friday night at 7 p.m. Enjoy a lively atmosphere and join in on the karaoke fun with your friends. \nVisit DuffysMVP.com for more information or call (561) 249-1682.
URL:https://downtownwpb.com/event/karaoke-night-at-duffys/2029-09-21/
LOCATION:Duffy’s Sports Grill\, 225 Clematis Street\, West Palm Beach\, FL\, 33401\, United States
CATEGORIES:Indoors
ATTACH;FMTTYPE=image/jpeg:https://downtownwpb.com/wp-content/uploads/close-up-microphone-concert-stage-with-beautiful-lighting-scaled.jpg
END:VEVENT
BEGIN:VEVENT
DTSTART;TZID=America/New_York:20290928T190000
DTEND;TZID=America/New_York:20290928T213000
DTSTAMP:20260420T154736
CREATED:20250710T124120Z
LAST-MODIFIED:20250710T124120Z
UID:10040397-1885316400-1885325400@downtownwpb.com
SUMMARY:Karaoke Night at Duffy's
DESCRIPTION:Kick off your weekend with some fun and show off your vocal skills at Duffy’s of Clematis every Friday night at 7 p.m. Enjoy a lively atmosphere and join in on the karaoke fun with your friends. \nVisit DuffysMVP.com for more information or call (561) 249-1682.
URL:https://downtownwpb.com/event/karaoke-night-at-duffys/2029-09-28/
LOCATION:Duffy’s Sports Grill\, 225 Clematis Street\, West Palm Beach\, FL\, 33401\, United States
CATEGORIES:Indoors
ATTACH;FMTTYPE=image/jpeg:https://downtownwpb.com/wp-content/uploads/close-up-microphone-concert-stage-with-beautiful-lighting-scaled.jpg
END:VEVENT
BEGIN:VEVENT
DTSTART;TZID=America/New_York:20291005T190000
DTEND;TZID=America/New_York:20291005T213000
DTSTAMP:20260420T154736
CREATED:20250710T124120Z
LAST-MODIFIED:20250710T124120Z
UID:10040398-1885921200-1885930200@downtownwpb.com
SUMMARY:Karaoke Night at Duffy's
DESCRIPTION:Kick off your weekend with some fun and show off your vocal skills at Duffy’s of Clematis every Friday night at 7 p.m. Enjoy a lively atmosphere and join in on the karaoke fun with your friends. \nVisit DuffysMVP.com for more information or call (561) 249-1682.
URL:https://downtownwpb.com/event/karaoke-night-at-duffys/2029-10-05/
LOCATION:Duffy’s Sports Grill\, 225 Clematis Street\, West Palm Beach\, FL\, 33401\, United States
CATEGORIES:Indoors
ATTACH;FMTTYPE=image/jpeg:https://downtownwpb.com/wp-content/uploads/close-up-microphone-concert-stage-with-beautiful-lighting-scaled.jpg
END:VEVENT
BEGIN:VEVENT
DTSTART;TZID=America/New_York:20291012T190000
DTEND;TZID=America/New_York:20291012T213000
DTSTAMP:20260420T154736
CREATED:20250710T124120Z
LAST-MODIFIED:20250710T124120Z
UID:10040399-1886526000-1886535000@downtownwpb.com
SUMMARY:Karaoke Night at Duffy's
DESCRIPTION:Kick off your weekend with some fun and show off your vocal skills at Duffy’s of Clematis every Friday night at 7 p.m. Enjoy a lively atmosphere and join in on the karaoke fun with your friends. \nVisit DuffysMVP.com for more information or call (561) 249-1682.
URL:https://downtownwpb.com/event/karaoke-night-at-duffys/2029-10-12/
LOCATION:Duffy’s Sports Grill\, 225 Clematis Street\, West Palm Beach\, FL\, 33401\, United States
CATEGORIES:Indoors
ATTACH;FMTTYPE=image/jpeg:https://downtownwpb.com/wp-content/uploads/close-up-microphone-concert-stage-with-beautiful-lighting-scaled.jpg
END:VEVENT
BEGIN:VEVENT
DTSTART;TZID=America/New_York:20291016T083000
DTEND;TZID=America/New_York:20291016T103000
DTSTAMP:20260420T154736
CREATED:20250710T191520Z
LAST-MODIFIED:20251001T132014Z
UID:10016877-1886833800-1886841000@downtownwpb.com
SUMMARY:DDA Board Meeting
DESCRIPTION:DDA Board Meetings are held on the 3rd Tuesday of each month at 8:30 a.m. \nMeeting agendas and materials are posted prior to each meeting.
URL:https://downtownwpb.com/event/dda-board-meeting-3/2029-10-16/
LOCATION:West Palm Beach Downtown Development Authority\, 107 S. Olive Avenue #200\, West Palm Beach\, FL\, 33401\, United States
CATEGORIES:Indoors
ATTACH;FMTTYPE=image/jpeg:https://downtownwpb.com/wp-content/uploads/DDA-1.jpg
ORGANIZER;CN="West Palm Beach Downtown Development Authority":MAILTO:tjames@downtownwpb.com
END:VEVENT
BEGIN:VEVENT
DTSTART;TZID=America/New_York:20291019T190000
DTEND;TZID=America/New_York:20291019T213000
DTSTAMP:20260420T154736
CREATED:20250710T124120Z
LAST-MODIFIED:20250710T124120Z
UID:10040400-1887130800-1887139800@downtownwpb.com
SUMMARY:Karaoke Night at Duffy's
DESCRIPTION:Kick off your weekend with some fun and show off your vocal skills at Duffy’s of Clematis every Friday night at 7 p.m. Enjoy a lively atmosphere and join in on the karaoke fun with your friends. \nVisit DuffysMVP.com for more information or call (561) 249-1682.
URL:https://downtownwpb.com/event/karaoke-night-at-duffys/2029-10-19/
LOCATION:Duffy’s Sports Grill\, 225 Clematis Street\, West Palm Beach\, FL\, 33401\, United States
CATEGORIES:Indoors
ATTACH;FMTTYPE=image/jpeg:https://downtownwpb.com/wp-content/uploads/close-up-microphone-concert-stage-with-beautiful-lighting-scaled.jpg
END:VEVENT
BEGIN:VEVENT
DTSTART;TZID=America/New_York:20291026T190000
DTEND;TZID=America/New_York:20291026T213000
DTSTAMP:20260420T154736
CREATED:20250710T124120Z
LAST-MODIFIED:20250710T124120Z
UID:10040401-1887735600-1887744600@downtownwpb.com
SUMMARY:Karaoke Night at Duffy's
DESCRIPTION:Kick off your weekend with some fun and show off your vocal skills at Duffy’s of Clematis every Friday night at 7 p.m. Enjoy a lively atmosphere and join in on the karaoke fun with your friends. \nVisit DuffysMVP.com for more information or call (561) 249-1682.
URL:https://downtownwpb.com/event/karaoke-night-at-duffys/2029-10-26/
LOCATION:Duffy’s Sports Grill\, 225 Clematis Street\, West Palm Beach\, FL\, 33401\, United States
CATEGORIES:Indoors
ATTACH;FMTTYPE=image/jpeg:https://downtownwpb.com/wp-content/uploads/close-up-microphone-concert-stage-with-beautiful-lighting-scaled.jpg
END:VEVENT
BEGIN:VEVENT
DTSTART;TZID=America/New_York:20291102T190000
DTEND;TZID=America/New_York:20291102T213000
DTSTAMP:20260420T154736
CREATED:20250710T124120Z
LAST-MODIFIED:20250710T124120Z
UID:10040402-1888340400-1888349400@downtownwpb.com
SUMMARY:Karaoke Night at Duffy's
DESCRIPTION:Kick off your weekend with some fun and show off your vocal skills at Duffy’s of Clematis every Friday night at 7 p.m. Enjoy a lively atmosphere and join in on the karaoke fun with your friends. \nVisit DuffysMVP.com for more information or call (561) 249-1682.
URL:https://downtownwpb.com/event/karaoke-night-at-duffys/2029-11-02/
LOCATION:Duffy’s Sports Grill\, 225 Clematis Street\, West Palm Beach\, FL\, 33401\, United States
CATEGORIES:Indoors
ATTACH;FMTTYPE=image/jpeg:https://downtownwpb.com/wp-content/uploads/close-up-microphone-concert-stage-with-beautiful-lighting-scaled.jpg
END:VEVENT
BEGIN:VEVENT
DTSTART;TZID=America/New_York:20291109T190000
DTEND;TZID=America/New_York:20291109T213000
DTSTAMP:20260420T154736
CREATED:20250710T124120Z
LAST-MODIFIED:20250710T124120Z
UID:10040403-1888945200-1888954200@downtownwpb.com
SUMMARY:Karaoke Night at Duffy's
DESCRIPTION:Kick off your weekend with some fun and show off your vocal skills at Duffy’s of Clematis every Friday night at 7 p.m. Enjoy a lively atmosphere and join in on the karaoke fun with your friends. \nVisit DuffysMVP.com for more information or call (561) 249-1682.
URL:https://downtownwpb.com/event/karaoke-night-at-duffys/2029-11-09/
LOCATION:Duffy’s Sports Grill\, 225 Clematis Street\, West Palm Beach\, FL\, 33401\, United States
CATEGORIES:Indoors
ATTACH;FMTTYPE=image/jpeg:https://downtownwpb.com/wp-content/uploads/close-up-microphone-concert-stage-with-beautiful-lighting-scaled.jpg
END:VEVENT
BEGIN:VEVENT
DTSTART;TZID=America/New_York:20291116T190000
DTEND;TZID=America/New_York:20291116T213000
DTSTAMP:20260420T154736
CREATED:20250710T124120Z
LAST-MODIFIED:20250710T124120Z
UID:10040404-1889550000-1889559000@downtownwpb.com
SUMMARY:Karaoke Night at Duffy's
DESCRIPTION:Kick off your weekend with some fun and show off your vocal skills at Duffy’s of Clematis every Friday night at 7 p.m. Enjoy a lively atmosphere and join in on the karaoke fun with your friends. \nVisit DuffysMVP.com for more information or call (561) 249-1682.
URL:https://downtownwpb.com/event/karaoke-night-at-duffys/2029-11-16/
LOCATION:Duffy’s Sports Grill\, 225 Clematis Street\, West Palm Beach\, FL\, 33401\, United States
CATEGORIES:Indoors
ATTACH;FMTTYPE=image/jpeg:https://downtownwpb.com/wp-content/uploads/close-up-microphone-concert-stage-with-beautiful-lighting-scaled.jpg
END:VEVENT
END:VCALENDAR