BEGIN:VCALENDAR
VERSION:2.0
PRODID:-//West Palm Beach - ECPv6.15.5//NONSGML v1.0//EN
CALSCALE:GREGORIAN
METHOD:PUBLISH
X-WR-CALNAME:West Palm Beach
X-ORIGINAL-URL:https://downtownwpb.com
X-WR-CALDESC:Events for West Palm Beach
REFRESH-INTERVAL;VALUE=DURATION:PT1H
X-Robots-Tag:noindex
X-PUBLISHED-TTL:PT1H
BEGIN:VTIMEZONE
TZID:America/New_York
BEGIN:DAYLIGHT
TZOFFSETFROM:-0500
TZOFFSETTO:-0400
TZNAME:EDT
DTSTART:20260308T070000
END:DAYLIGHT
BEGIN:STANDARD
TZOFFSETFROM:-0400
TZOFFSETTO:-0500
TZNAME:EST
DTSTART:20261101T060000
END:STANDARD
END:VTIMEZONE
BEGIN:VEVENT
DTSTART;TZID=America/New_York:20260428T193000
DTEND;TZID=America/New_York:20260428T220000
DTSTAMP:20260425T084800
CREATED:20250906T020113Z
LAST-MODIFIED:20250906T020113Z
UID:10041001-1777404600-1777413600@downtownwpb.com
SUMMARY:The Notebook at the Kravis Center
DESCRIPTION:Based on the best-selling novel that inspired the iconic film\, THE NOTEBOOK tells the story of Allie and Noah\, both from different worlds\, who share a lifetime of love despite the forces that threaten to pull them apart. “Full of butterfly-inducing highs and beautiful songs” (Entertainment Weekly)\, THE NOTEBOOK is a deeply moving portrait of the enduring power of love. Chris Jones of The Chicago Tribune says THE NOTEBOOK is “absolutely gorgeous\, not to be missed\,” and The New York Daily News calls it “a love story for the ages.” THE NOTEBOOK is directed by Michael Greif (Dear Evan Hansen\, Next to Normal\, RENT) and Schele Williams (The Wiz\, Aida)\, and features music and lyrics by multi-platinum singer-songwriter Ingrid Michaelson\, book by Bekah Brunstetter (NBC’s “This Is Us”)\, and choreography by Katie Spelman.
URL:https://www.kravis.org/events/the-notebook/
LOCATION:Kravis Center For Performing Arts\, 701 Okeechobee Boulevard\, West Palm Beach\, FL\, 33401\, United States
CATEGORIES:Indoors
ATTACH;FMTTYPE=image/jpeg:https://downtownwpb.com/wp-content/uploads/Kravis-Center-aerial-twilight-scaled-1.jpg
END:VEVENT
BEGIN:VEVENT
DTSTART;TZID=America/New_York:20260429T140000
DTEND;TZID=America/New_York:20260429T163000
DTSTAMP:20260425T084800
CREATED:20250906T020113Z
LAST-MODIFIED:20250906T020113Z
UID:10041002-1777471200-1777480200@downtownwpb.com
SUMMARY:The Notebook at the Kravis Center
DESCRIPTION:Based on the best-selling novel that inspired the iconic film\, THE NOTEBOOK tells the story of Allie and Noah\, both from different worlds\, who share a lifetime of love despite the forces that threaten to pull them apart. “Full of butterfly-inducing highs and beautiful songs” (Entertainment Weekly)\, THE NOTEBOOK is a deeply moving portrait of the enduring power of love. Chris Jones of The Chicago Tribune says THE NOTEBOOK is “absolutely gorgeous\, not to be missed\,” and The New York Daily News calls it “a love story for the ages.” THE NOTEBOOK is directed by Michael Greif (Dear Evan Hansen\, Next to Normal\, RENT) and Schele Williams (The Wiz\, Aida)\, and features music and lyrics by multi-platinum singer-songwriter Ingrid Michaelson\, book by Bekah Brunstetter (NBC’s “This Is Us”)\, and choreography by Katie Spelman.
URL:https://www.kravis.org/events/the-notebook/
LOCATION:Kravis Center For Performing Arts\, 701 Okeechobee Boulevard\, West Palm Beach\, FL\, 33401\, United States
CATEGORIES:Indoors
ATTACH;FMTTYPE=image/jpeg:https://downtownwpb.com/wp-content/uploads/Kravis-Center-aerial-twilight-scaled-1.jpg
END:VEVENT
BEGIN:VEVENT
DTSTART;TZID=America/New_York:20260429T193000
DTEND;TZID=America/New_York:20260429T220000
DTSTAMP:20260425T084800
CREATED:20250906T020113Z
LAST-MODIFIED:20250906T020113Z
UID:10041003-1777491000-1777500000@downtownwpb.com
SUMMARY:The Notebook at the Kravis Center
DESCRIPTION:Based on the best-selling novel that inspired the iconic film\, THE NOTEBOOK tells the story of Allie and Noah\, both from different worlds\, who share a lifetime of love despite the forces that threaten to pull them apart. “Full of butterfly-inducing highs and beautiful songs” (Entertainment Weekly)\, THE NOTEBOOK is a deeply moving portrait of the enduring power of love. Chris Jones of The Chicago Tribune says THE NOTEBOOK is “absolutely gorgeous\, not to be missed\,” and The New York Daily News calls it “a love story for the ages.” THE NOTEBOOK is directed by Michael Greif (Dear Evan Hansen\, Next to Normal\, RENT) and Schele Williams (The Wiz\, Aida)\, and features music and lyrics by multi-platinum singer-songwriter Ingrid Michaelson\, book by Bekah Brunstetter (NBC’s “This Is Us”)\, and choreography by Katie Spelman.
URL:https://www.kravis.org/events/the-notebook/
LOCATION:Kravis Center For Performing Arts\, 701 Okeechobee Boulevard\, West Palm Beach\, FL\, 33401\, United States
CATEGORIES:Indoors
ATTACH;FMTTYPE=image/jpeg:https://downtownwpb.com/wp-content/uploads/Kravis-Center-aerial-twilight-scaled-1.jpg
END:VEVENT
BEGIN:VEVENT
DTSTART;TZID=America/New_York:20260430T193000
DTEND;TZID=America/New_York:20260430T220000
DTSTAMP:20260425T084800
CREATED:20250906T020113Z
LAST-MODIFIED:20250906T020113Z
UID:10041004-1777577400-1777586400@downtownwpb.com
SUMMARY:The Notebook at the Kravis Center
DESCRIPTION:Based on the best-selling novel that inspired the iconic film\, THE NOTEBOOK tells the story of Allie and Noah\, both from different worlds\, who share a lifetime of love despite the forces that threaten to pull them apart. “Full of butterfly-inducing highs and beautiful songs” (Entertainment Weekly)\, THE NOTEBOOK is a deeply moving portrait of the enduring power of love. Chris Jones of The Chicago Tribune says THE NOTEBOOK is “absolutely gorgeous\, not to be missed\,” and The New York Daily News calls it “a love story for the ages.” THE NOTEBOOK is directed by Michael Greif (Dear Evan Hansen\, Next to Normal\, RENT) and Schele Williams (The Wiz\, Aida)\, and features music and lyrics by multi-platinum singer-songwriter Ingrid Michaelson\, book by Bekah Brunstetter (NBC’s “This Is Us”)\, and choreography by Katie Spelman.
URL:https://www.kravis.org/events/the-notebook/
LOCATION:Kravis Center For Performing Arts\, 701 Okeechobee Boulevard\, West Palm Beach\, FL\, 33401\, United States
CATEGORIES:Indoors
ATTACH;FMTTYPE=image/jpeg:https://downtownwpb.com/wp-content/uploads/Kravis-Center-aerial-twilight-scaled-1.jpg
END:VEVENT
END:VCALENDAR