BEGIN:VCALENDAR
VERSION:2.0
PRODID:-//West Palm Beach - ECPv6.15.5//NONSGML v1.0//EN
CALSCALE:GREGORIAN
METHOD:PUBLISH
X-WR-CALNAME:West Palm Beach
X-ORIGINAL-URL:https://downtownwpb.com
X-WR-CALDESC:Events for West Palm Beach
REFRESH-INTERVAL;VALUE=DURATION:PT1H
X-Robots-Tag:noindex
X-PUBLISHED-TTL:PT1H
BEGIN:VTIMEZONE
TZID:America/New_York
BEGIN:DAYLIGHT
TZOFFSETFROM:-0500
TZOFFSETTO:-0400
TZNAME:EDT
DTSTART:20260308T070000
END:DAYLIGHT
BEGIN:STANDARD
TZOFFSETFROM:-0400
TZOFFSETTO:-0500
TZNAME:EST
DTSTART:20261101T060000
END:STANDARD
END:VTIMEZONE
BEGIN:VEVENT
DTSTART;TZID=America/New_York:20260419T100000
DTEND;TZID=America/New_York:20260419T130000
DTSTAMP:20260423T154014
CREATED:20250407T195516Z
LAST-MODIFIED:20250407T195516Z
UID:10019069-1776592800-1776603600@downtownwpb.com
SUMMARY:Scenic Palm Beach E-Bike Guided Tour
DESCRIPTION:Join local guides for a scenic ride through Palm Beach\, where history and grandeur come to life. This premium electric bike tour reveals the hidden treasures of the area\, past and present\, offering an unforgettable adventure. Whether you’re exploring for the first time or revisiting favorite spots\, this 2-hour guided tour followed by an hour of self-guided Ebike time ensures an experience like no other. \nPrivate tours for celebrations\, parties\, or corporate events are also available.
URL:https://www.pbebike.com/?gad_source=1&#038;gclid=Cj0KCQjwhr6_BhD4ARIsAH1YdjCs8HuYFtGSHlL7_8-uQ9drCBpOdu3N__qnXvj-9IhltJtyKH4pZTMaAm4yEALw_wcB
LOCATION:Palm Beach E-Bike Rentals\, 510 Evernia Street\, Suite B\, West Palm Beach\, FL\, 33401\, United States
ATTACH;FMTTYPE=image/jpeg:https://downtownwpb.com/wp-content/uploads/Palm-Beach-E-Bikes-for-website-business.jpg
END:VEVENT
BEGIN:VEVENT
DTSTART;TZID=America/New_York:20260419T130000
DTEND;TZID=America/New_York:20260419T160000
DTSTAMP:20260423T154014
CREATED:20250407T195649Z
LAST-MODIFIED:20250407T195649Z
UID:10020635-1776603600-1776614400@downtownwpb.com
SUMMARY:Scenic Palm Beach E-Bike Guided Tour
DESCRIPTION:Join local guides for a scenic ride through Palm Beach\, where history and grandeur come to life. This premium electric bike tour reveals the hidden treasures of the area\, past and present\, offering an unforgettable adventure. Whether you’re exploring for the first time or revisiting favorite spots\, this 2-hour guided tour followed by an hour of self-guided Ebike time ensures an experience like no other. \nPrivate tours for celebrations\, parties\, or corporate events are also available.
URL:https://www.pbebike.com/?gad_source=1&#038;gclid=Cj0KCQjwhr6_BhD4ARIsAH1YdjCs8HuYFtGSHlL7_8-uQ9drCBpOdu3N__qnXvj-9IhltJtyKH4pZTMaAm4yEALw_wcB
LOCATION:Palm Beach E-Bike Rentals\, 510 Evernia Street\, Suite B\, West Palm Beach\, FL\, 33401\, United States
ATTACH;FMTTYPE=image/jpeg:https://downtownwpb.com/wp-content/uploads/Palm-Beach-E-Bikes-for-website-business.jpg
END:VEVENT
BEGIN:VEVENT
DTSTART;TZID=America/New_York:20260419T140000
DTEND;TZID=America/New_York:20260419T160000
DTSTAMP:20260423T154014
CREATED:20251025T203220Z
LAST-MODIFIED:20251025T203220Z
UID:10043111-1776607200-1776614400@downtownwpb.com
SUMMARY:The Crucible at Palm Beach Dramaworks
DESCRIPTION:A masterful\, riveting exploration of the 1692 Salem witch trials\, this timeless and timely Tony Award-winning play is also an allegory for McCarthyism and the House Un-American Activities Committee’s modern-day witch hunts. Convinced that witches are living among them\, Salem is gripped by mass hysteria\, paranoia\, fear\, and retribution\, with neighbors turning on and turning in neighbors\, and religious fervor turning a blind eye to justice. Miller considered The Crucible his finest play.
URL:https://www.palmbeachdramaworks.org/events/the-crucible
LOCATION:Palm Beach Dramaworks\, 201 Clematis Street\, West Palm Beach\, FL\, 33401\, United States
CATEGORIES:Indoors
ATTACH;FMTTYPE=image/png:https://downtownwpb.com/wp-content/uploads/4-TheCrucible.png
END:VEVENT
BEGIN:VEVENT
DTSTART;TZID=America/New_York:20260419T180000
DTEND;TZID=America/New_York:20260419T200000
DTSTAMP:20260423T154014
CREATED:20250616T212242Z
LAST-MODIFIED:20250616T212310Z
UID:10025868-1776621600-1776628800@downtownwpb.com
SUMMARY:Motunui Sunset Sail
DESCRIPTION:Set sail into the stunning South Florida sunset aboard the brand-new\, luxuriously appointed catamaran Motunui. Enjoy a relaxing and unforgettable evening as you take in breathtaking views of the coastline\, all while sipping a refreshing drink and soaking in the beauty of the moment. Perfect for a serene escape! \nPlease note departure times can vary based on tides and currents. 
URL:https://www.visitpalmbeach.com/motunui-sunset-sail/
LOCATION:Visit Palm Beach\, 138 South Flagler Drive\, West Palm Beach\, FL\, 33401\, United States
CATEGORIES:Outdoors
ATTACH;FMTTYPE=image/jpeg:https://downtownwpb.com/wp-content/uploads/Motunui-Cruise.jpg
END:VEVENT
BEGIN:VEVENT
DTSTART;TZID=America/New_York:20260419T183000
DTEND;TZID=America/New_York:20260419T203000
DTSTAMP:20260423T154014
CREATED:20250616T210709Z
LAST-MODIFIED:20250616T210709Z
UID:10022215-1776623400-1776630600@downtownwpb.com
SUMMARY:Sunset Catamaran Cruise
DESCRIPTION:Unwind and enjoy a scenic evening aboard the Hakuna Matata\, as you cruise along the stunning Downtown West Palm Beach skyline. Take in breathtaking views of the magnificent palatial mansions and mega yachts of Palm Beach Island\, all while relaxing on the water. Perfect for an unforgettable evening of relaxation and luxury! \nPlease note departure times can vary based on tides and currents. 
URL:https://www.visitpalmbeach.com/cruises-boat-tours/sunset-cruise/
LOCATION:Visit Palm Beach\, 138 South Flagler Drive\, West Palm Beach\, FL\, 33401\, United States
CATEGORIES:Outdoors
ATTACH;FMTTYPE=image/jpeg:https://downtownwpb.com/wp-content/uploads/Sunset-Catamaran-Cruise.jpg
END:VEVENT
END:VCALENDAR